Workbook

Sheet OMONIMI
A1: DI CAPRIO GIUSEPPE | C1: SM45
C2: SM60
A4: D'ONOFRIO MICHELE | C4: SM40
C5: SM60
A7: LIVERINI FILIPPO | C7: SM
C8: SM35
C9: SM55
A11: VALENTINO ALFONSO | C11: PM
C12: SM50
A16: doppio tesseramento
A18: COLUCCI FRANCESCO
A20: CUZZUPE' MAURIZIO
A22: LANZALONE ANDREA

Sheet I_TAPPA
B1: Pos | C1: Ps | D1: S | E1: Num | F1: PCat | G1: Cat | H1: CAT_SA | I1: Tempo | J1: Media | K1: Cognome | L1: Nome | M1: REALTIME | N1: Nome Squadra | O1: Pts | P1: PUNTI CAT
A2: =CONCATENATE(K2,"_",L2,"_",H2) -> PERONE_GIACOMO_M03 | B2: 1 | G2: SM35 | H2: =VLOOKUP(G2,CAT!$E$2:$F$26,2) -> M03 | K2: PERONE | L2: GIACOMO | M2: 00:36:05:53 | N2: TABURNO RUNNERS | O2: 260 | P2: 45
A3: =CONCATENATE(K3,"_",L3,"_",H3) -> GORRASI_MICHELE_M02 | B3: 2 | G3: SM | H3: =VLOOKUP(G3,CAT!$E$2:$F$26,2) -> M02 | K3: GORRASI | L3: MICHELE | M3: 00:36:39:26 | N3: SANNIO RUNNERS | O3: 250 | P3: 45
A4: =CONCATENATE(K4,"_",L4,"_",H4) -> IAMONACO_GIUSEPPE_M06 | B4: =B3+1 -> 3 | G4: SM50 | H4: =VLOOKUP(G4,CAT!$E$2:$F$26,2) -> M06 | K4: IAMONACO | L4: GIUSEPPE | M4: 00:37:55:14 | N4: PODISTICA AVIS CAMPOBASSO | O4: 240 | P4: 45
A5: =CONCATENATE(K5,"_",L5,"_",H5) -> CAPONE_ANGELO_RAFFAELE_M02 | B5: =B4+1 -> 4 | G5: SM | H5: =VLOOKUP(G5,CAT!$E$2:$F$26,2) -> M02 | K5: CAPONE | L5: ANGELO_RAFFAELE | M5: 00:38:24:28 | N5: TELESIA RUNNING TEAM | O5: 235 | P5: 42
A6: =CONCATENATE(K6,"_",L6,"_",H6) -> COLESANTO_MASSIMILIANO_M04 | B6: =B5+1 -> 5 | G6: SM40 | H6: =VLOOKUP(G6,CAT!$E$2:$F$26,2) -> M04 | K6: COLESANTO | L6: MASSIMILIANO | M6: 00:38:32:11 | N6: SANNIO RUNNERS | O6: 230 | P6: 45
A7: =CONCATENATE(K7,"_",L7,"_",H7) -> SIMPATICO_DOMENICO_M04 | B7: =B6+1 -> 6 | G7: SM40 | H7: =VLOOKUP(G7,CAT!$E$2:$F$26,2) -> M04 | K7: SIMPATICO | L7: DOMENICO | M7: 00:38:49:78 | N7: PODISTI ALTO SANNIO | O7: 228 | P7: 42
A8: =CONCATENATE(K8,"_",L8,"_",H8) -> SINISCALCHI_LODOVICO_M04 | B8: =B7+1 -> 7 | G8: SM40 | H8: =VLOOKUP(G8,CAT!$E$2:$F$26,2) -> M04 | K8: SINISCALCHI | L8: LODOVICO | M8: 00:39:36:14 | N8: PODISTI ALTO SANNIO | O8: 226 | P8: 39
A9: =CONCATENATE(K9,"_",L9,"_",H9) -> DI_CERBO_LUCIANO_M07 | B9: =B8+1 -> 8 | G9: SM55 | H9: =VLOOKUP(G9,CAT!$E$2:$F$26,2) -> M07 | K9: DI_CERBO | L9: LUCIANO | M9: 00:39:41:92 | N9: ATLETICA DUGENTA | O9: 224 | P9: 45
A10: =CONCATENATE(K10,"_",L10,"_",H10) -> PILLA_EMILIANO_M03 | B10: =B9+1 -> 9 | G10: SM35 | H10: =VLOOKUP(G10,CAT!$E$2:$F$26,2) -> M03 | K10: PILLA | L10: EMILIANO | M10: 00:39:52:26 | N10: PODISTI ALTO SANNIO | O10: 222 | P10: 42
A11: =CONCATENATE(K11,"_",L11,"_",H11) -> CERULO_ETTORE_M03 | B11: =B10+1 -> 10 | G11: SM35 | H11: =VLOOKUP(G11,CAT!$E$2:$F$26,2) -> M03 | K11: CERULO | L11: ETTORE | M11: 00:40:26:74 | N11: PODISTI ALTO SANNIO | O11: 220 | P11: 39
A12: =CONCATENATE(K12,"_",L12,"_",H12) -> IANNUCCI_PASQUALE_M04 | B12: =B11+1 -> 11 | G12: SM40 | H12: =VLOOKUP(G12,CAT!$E$2:$F$26,2) -> M04 | K12: IANNUCCI | L12: PASQUALE | M12: 00:40:32:74 | N12: TELESIA RUNNING TEAM | O12: =O11-1 -> 219 | P12: 37
A13: =CONCATENATE(K13,"_",L13,"_",H13) -> SPELTRA_AMELIO_M02 | B13: =B12+1 -> 12 | G13: SM | H13: =VLOOKUP(G13,CAT!$E$2:$F$26,2) -> M02 | K13: SPELTRA | L13: AMELIO | M13: 00:41:01:71 | N13: PODISTI ALTO SANNIO | O13: =O12-1 -> 218 | P13: 39
A14: =CONCATENATE(K14,"_",L14,"_",H14) -> DE_MARCO_DOMENICO_M05 | B14: =B13+1 -> 13 | G14: SM45 | H14: =VLOOKUP(G14,CAT!$E$2:$F$26,2) -> M05 | K14: DE_MARCO | L14: DOMENICO | M14: 00:41:11:77 | N14: PODISTICA AVIS CAMPOBASSO | O14: =O13-1 -> 217 | P14: 45
A15: =CONCATENATE(K15,"_",L15,"_",H15) -> RICCIARDI_ALESSANDRO_M04 | B15: =B14+1 -> 14 | G15: SM40 | H15: =VLOOKUP(G15,CAT!$E$2:$F$26,2) -> M04 | K15: RICCIARDI | L15: ALESSANDRO | M15: 00:41:20:46 | N15: PODISMO BENEVENTO | O15: =O14-1 -> 216 | P15: 36
A16: =CONCATENATE(K16,"_",L16,"_",H16) -> PIROZZOLO_DANILO_M02 | B16: =B15+1 -> 15 | G16: SM | H16: =VLOOKUP(G16,CAT!$E$2:$F$26,2) -> M02 | K16: PIROZZOLO | L16: DANILO | M16: 00:41:20:88 | N16: PODISMO BENEVENTO | O16: =O15-1 -> 215 | P16: 37
A17: =CONCATENATE(K17,"_",L17,"_",H17) -> TOZZI_ANTONIO_M02 | B17: =B16+1 -> 16 | G17: SM | H17: =VLOOKUP(G17,CAT!$E$2:$F$26,2) -> M02 | K17: TOZZI | L17: ANTONIO | M17: 00:41:26:81 | N17: PODISTI ALTO SANNIO | O17: =O16-1 -> 214 | P17: 36
A18: =CONCATENATE(K18,"_",L18,"_",H18) -> GRASSO_ANGELO_M02 | B18: =B17+1 -> 17 | G18: SM | H18: =VLOOKUP(G18,CAT!$E$2:$F$26,2) -> M02 | K18: GRASSO | L18: ANGELO | M18: 00:41:44:33 | N18: SANNIO RUNNERS | O18: =O17-1 -> 213 | P18: 35
A19: =CONCATENATE(K19,"_",L19,"_",H19) -> LOMBARDI_DOMENICO_M04 | B19: =B18+1 -> 18 | G19: SM40 | H19: =VLOOKUP(G19,CAT!$E$2:$F$26,2) -> M04 | K19: LOMBARDI | L19: DOMENICO | M19: 00:41:59:79 | N19: PODISTICA AVIS CAMPOBASSO | O19: =O18-1 -> 212 | P19: 35
A20: =CONCATENATE(K20,"_",L20,"_",H20) -> TARANTINO_GIANLUIGI_M05 | B20: =B19+1 -> 19 | G20: SM45 | H20: =VLOOKUP(G20,CAT!$E$2:$F$26,2) -> M05 | K20: TARANTINO | L20: GIANLUIGI | M20: 00:43:09:82 | N20: SANNIO RUNNERS | O20: =O19-1 -> 211 | P20: 42
A21: =CONCATENATE(K21,"_",L21,"_",H21) -> FERRI_LEUCIO_M06 | B21: =B20+1 -> 20 | G21: SM50 | H21: =VLOOKUP(G21,CAT!$E$2:$F$26,2) -> M06 | K21: FERRI | L21: LEUCIO | M21: 00:43:27:01 | N21: PODISTI ALTO SANNIO | O21: =O20-1 -> 210 | P21: 42
A22: =CONCATENATE(K22,"_",L22,"_",H22) -> INGLESE_LUCA_M03 | B22: =B21+1 -> 21 | G22: SM35 | H22: =VLOOKUP(G22,CAT!$E$2:$F$26,2) -> M03 | K22: INGLESE | L22: LUCA | M22: 00:43:27:79 | N22: PODISTI ALTO SANNIO | O22: =O21-1 -> 209 | P22: 37
A23: =CONCATENATE(K23,"_",L23,"_",H23) -> CAROLLA_ANTONIO_M07 | B23: =B22+1 -> 22 | G23: SM55 | H23: =VLOOKUP(G23,CAT!$E$2:$F$26,2) -> M07 | K23: CAROLLA | L23: ANTONIO | M23: 00:43:46:03 | N23: TELESIA RUNNING TEAM | O23: =O22-1 -> 208 | P23: 42
... A85: =CONCATENATE(K85,"_",L85,"_",H85) -> BOSCOTRECASE_CLAUDIO_M10 | B85: =B84+1 -> 84 | G85: SM70 | H85: =VLOOKUP(G85,CAT!$E$2:$F$26,2) -> M10 | K85: BOSCOTRECASE | L85: CLAUDIO | M85: 01:10:04:29 | N85: TELESIA RUNNING TEAM | O85: =O84-1 -> 146 | P85: 42
A128: =CONCATENATE(K128,"_",L128,"_",G128) -> __

Sheet II_TAPPA
B1: Pos | C1: Ps | D1: S | E1: Num | F1: PCat | G1: Cat | H1: CAT_SA | I1: Tempo | J1: Media | K1: Cognome | L1: Nome | M1: REALTIME | N1: Nome Squadra | O1: Pts | P1: PUNTI CAT
A2: =CONCATENATE(K2,"_",L2,"_",H2) -> GORRASI_MICHELE_M02 | B2: 1 | D2: M | E2: 100 | F2: 1 | G2: SM | H2: =VLOOKUP(G2,CAT!$E$2:$F$26,2) -> M02 | K2: GORRASI | L2: MICHELE | M2: 00:33:19:17 | N2: SANNIO RUNNERS | O2: 260 | P2: 45
A3: =CONCATENATE(K3,"_",L3,"_",H3) -> FALCO_ANIELLO_M03 | B3: 2 | D3: M | E3: 104 | F3: 1 | G3: SM35 | H3: =VLOOKUP(G3,CAT!$E$2:$F$26,2) -> M03 | K3: FALCO | L3: ANIELLO | M3: 00:33:34:56 | N3: TABURNO RUNNERS | O3: 250 | P3: 45
A4: =CONCATENATE(K4,"_",L4,"_",H4) -> PERONE_GIACOMO_M03 | B4: =B3+1 -> 3 | D4: M | E4: 113 | F4: 2 | G4: SM35 | H4: =VLOOKUP(G4,CAT!$E$2:$F$26,2) -> M03 | K4: PERONE | L4: GIACOMO | M4: 00:34:51:74 | N4: TABURNO RUNNERS | O4: 240 | P4: 42
A5: =CONCATENATE(K5,"_",L5,"_",H5) -> VOLPACCHIO_NICOLA_M05 | B5: =B4+1 -> 4 | D5: M | E5: 171 | F5: 1 | G5: SM45 | H5: =VLOOKUP(G5,CAT!$E$2:$F$26,2) -> M05 | K5: VOLPACCHIO | L5: NICOLA | M5: 00:35:06:50 | N5: PODISTICA AVIS CAMPOBASSO | O5: 235 | P5: 45
A6: =CONCATENATE(K6,"_",L6,"_",H6) -> MOLINARO_NICOLA_M06 | B6: =B5+1 -> 5 | D6: M | E6: 68 | F6: 1 | G6: SM50 | H6: =VLOOKUP(G6,CAT!$E$2:$F$26,2) -> M06 | K6: MOLINARO | L6: NICOLA | M6: 00:35:48:52 | N6: PODISTI ALTO SANNIO | O6: 230 | P6: 45
A7: =CONCATENATE(K7,"_",L7,"_",H7) -> SIMPATICO_DOMENICO_M04 | B7: =B6+1 -> 6 | D7: M | E7: 81 | F7: 1 | G7: SM40 | H7: =VLOOKUP(G7,CAT!$E$2:$F$26,2) -> M04 | K7: SIMPATICO | L7: DOMENICO | M7: 00:35:53:64 | N7: PODISTI ALTO SANNIO | O7: 228 | P7: 45
A8: =CONCATENATE(K8,"_",L8,"_",H8) -> CAPONE_ANGELO_RAFFAELE_M02 | B8: =B7+1 -> 7 | D8: M | E8: 132 | F8: 2 | G8: SM | H8: =VLOOKUP(G8,CAT!$E$2:$F$26,2) -> M02 | K8: CAPONE | L8: ANGELO_RAFFAELE | M8: 00:36:07:16 | N8: TELESIA RUNNING TEAM | O8: 226 | P8: 42
A9: =CONCATENATE(K9,"_",L9,"_",H9) -> COLESANTO_MASSIMILIANO_M04 | B9: =B8+1 -> 8 | D9: M | E9: 97 | F9: 2 | G9: SM40 | H9: =VLOOKUP(G9,CAT!$E$2:$F$26,2) -> M04 | K9: COLESANTO | L9: MASSIMILIANO | M9: 00:36:57:92 | N9: SANNIO RUNNERS | O9: 224 | P9: 42
A10: =CONCATENATE(K10,"_",L10,"_",H10) -> GRASSO_ANGELO_M02 | B10: =B9+1 -> 9 | D10: M | E10: 101 | F10: 3 | G10: SM | H10: =VLOOKUP(G10,CAT!$E$2:$F$26,2) -> M02 | K10: GRASSO | L10: ANGELO | M10: 00:36:58:50 | N10: SANNIO RUNNERS | O10: 222 | P10: 39
A11: =CONCATENATE(K11,"_",L11,"_",H11) -> SABATINO_ANTONIO_M05 | B11: =B10+1 -> 10 | D11: M | E11: 117 | F11: 2 | G11: SM45 | H11: =VLOOKUP(G11,CAT!$E$2:$F$26,2) -> M05 | K11: SABATINO | L11: ANTONIO | M11: 00:37:09:59 | N11: TABURNO RUNNERS | O11: 220 | P11: 42
A12: =CONCATENATE(K12,"_",L12,"_",H12) -> CAPPUCCIO_MILANINO_M04 | B12: =B11+1 -> 11 | D12: M | E12: 133 | F12: 3 | G12: SM40 | H12: =VLOOKUP(G12,CAT!$E$2:$F$26,2) -> M04 | K12: CAPPUCCIO | L12: MILANINO | M12: 00:37:23:22 | N12: TELESIA RUNNING TEAM | O12: =O11-1 -> 219 | P12: 39
A13: =CONCATENATE(K13,"_",L13,"_",H13) -> DI_CERBO_LUCIANO_M07 | B13: =B12+1 -> 12 | D13: M | E13: 172 | F13: 1 | G13: SM55 | H13: =VLOOKUP(G13,CAT!$E$2:$F$26,2) -> M07 | K13: DI_CERBO | L13: LUCIANO | M13: 00:37:38:19 | N13: ATLETICA DUGENTA | O13: =O12-1 -> 218 | P13: 45
A14: =CONCATENATE(K14,"_",L14,"_",H14) -> IZZO_ARCANGELO_M05 | B14: =B13+1 -> 13 | D14: M | E14: 108 | F14: 3 | G14: SM45 | H14: =VLOOKUP(G14,CAT!$E$2:$F$26,2) -> M05 | K14: IZZO | L14: ARCANGELO | M14: 00:37:41:34 | N14: TABURNO RUNNERS | O14: =O13-1 -> 217 | P14: 39
A15: =CONCATENATE(K15,"_",L15,"_",H15) -> DE_CICCO_ALESSANDRO_M02 | B15: =B14+1 -> 14 | D15: M | E15: 143 | F15: 4 | G15: SM | H15: =VLOOKUP(G15,CAT!$E$2:$F$26,2) -> M02 | K15: DE_CICCO | L15: ALESSANDRO | M15: 00:37:53:53 | N15: TELESIA RUNNING TEAM | O15: =O14-1 -> 216 | P15: 37
A16: =CONCATENATE(K16,"_",L16,"_",H16) -> PILLA_EMILIANO_M03 | B16: =B15+1 -> 15 | D16: M | E16: 75 | F16: 3 | G16: SM35 | H16: =VLOOKUP(G16,CAT!$E$2:$F$26,2) -> M03 | K16: PILLA | L16: EMILIANO | M16: 00:38:34:43 | N16: PODISTI ALTO SANNIO | O16: =O15-1 -> 215 | P16: 39
A17: =CONCATENATE(K17,"_",L17,"_",H17) -> SINISCALCHI_LODOVICO_M04 | B17: =B16+1 -> 16 | D17: M | E17: 82 | F17: 4 | G17: SM40 | H17: =VLOOKUP(G17,CAT!$E$2:$F$26,2) -> M04 | K17: SINISCALCHI | L17: LODOVICO | M17: 00:38:35:86 | N17: PODISTI ALTO SANNIO | O17: =O16-1 -> 214 | P17: 37
A18: =CONCATENATE(K18,"_",L18,"_",H18) -> AMBROSINO_ALBERTO_M04 | B18: =B17+1 -> 17 | D18: M | E18: 43 | F18: 5 | G18: SM40 | H18: =VLOOKUP(G18,CAT!$E$2:$F$26,2) -> M04 | K18: AMBROSINO | L18: ALBERTO | M18: 00:38:44:47 | N18: PODISTI SAN GIORGIO DEL SANNIO | O18: =O17-1 -> 213 | P18: 36
A19: =CONCATENATE(K19,"_",L19,"_",H19) -> LOMBARDI_DOMENICO_M04 | B19: =B18+1 -> 18 | D19: M | E19: 162 | F19: 6 | G19: SM40 | H19: =VLOOKUP(G19,CAT!$E$2:$F$26,2) -> M04 | K19: LOMBARDI | L19: DOMENICO | M19: 00:38:47:91 | N19: PODISTICA AVIS CAMPOBASSO | O19: =O18-1 -> 212 | P19: 35
A20: =CONCATENATE(K20,"_",L20,"_",H20) -> CERULO_ETTORE_M03 | B20: =B19+1 -> 19 | D20: M | E20: 50 | F20: 4 | G20: SM35 | H20: =VLOOKUP(G20,CAT!$E$2:$F$26,2) -> M03 | K20: CERULO | L20: ETTORE | M20: 00:38:51:73 | N20: PODISTI ALTO SANNIO | O20: =O19-1 -> 211 | P20: 37
A21: =CONCATENATE(K21,"_",L21,"_",H21) -> SPELTRA_AMELIO_M02 | B21: =B20+1 -> 20 | D21: M | E21: 84 | F21: 5 | G21: SM | H21: =VLOOKUP(G21,CAT!$E$2:$F$26,2) -> M02 | K21: SPELTRA | L21: AMELIO | M21: 00:38:54:87 | N21: PODISTI ALTO SANNIO | O21: =O20-1 -> 210 | P21: 36
A22: =CONCATENATE(K22,"_",L22,"_",H22) -> DE_MARCO_DOMENICO_M05 | B22: =B21+1 -> 21 | D22: M | E22: 166 | F22: 4 | G22: SM45 | H22: =VLOOKUP(G22,CAT!$E$2:$F$26,2) -> M05 | K22: DE_MARCO | L22: DOMENICO | M22: 00:38:58:56 | N22: PODISTICA AVIS CAMPOBASSO | O22: =O21-1 -> 209 | P22: 37
A23: =CONCATENATE(K23,"_",L23,"_",H23) -> RICCIARDI_ALESSANDRO_M04 | B23: =B22+1 -> 22 | D23: M | E23: 183 | F23: 7 | G23: SM40 | H23: =VLOOKUP(G23,CAT!$E$2:$F$26,2) -> M04 | K23: RICCIARDI | L23: ALESSANDRO | M23: 00:39:04:27 | N23: PODISMO BENEVENTO | O23: =O22-1 -> 208 | P23: 34
... A127: =CONCATENATE(K127,"_",L127,"_",H127) -> MARTONE_MARIA_F4 | B127: =B126+1 -> 126 | D127: F | E127: 181 | F127: 4 | G127: SF40 | H127: =VLOOKUP(G127,CAT!$E$2:$F$26,2) -> F4 | K127: MARTONE | L127: MARIA | M127: 01:06:38:44 | N127: PODISMO BENEVENTO | O127: =O126-1 -> 104 | P127: 7
A128: =CONCATENATE(K128,"_",L128,"_",G128) -> __

Sheet III_TAPPA
B1: Pos | C1: Ps | D1: S | E1: Num | F1: PCat | G1: Cat | H1: CAT_SA | I1: Tempo | J1: Media | K1: Cognome | L1: Nome | M1: REALTIME | N1: Nome Squadra | O1: Pts | P1: PUNTI CAT
A2: =CONCATENATE(K2,"_",H2) -> GORRASI_MICHELE_M02 | B2: 1 | G2: SM | H2: =VLOOKUP(G2,CAT!$E$2:$F$26,2) -> M02 | I2: 00.34.07 | K2: GORRASI_MICHELE | N2: SANNIO RUNNERS | O2: 260 | P2: 45
A3: =CONCATENATE(K3,"_",H3) -> FALCO_ANIELLO_M03 | B3: =B2+1 -> 2 | G3: SM35 | H3: =VLOOKUP(G3,CAT!$E$2:$F$26,2) -> M03 | I3: 00.34.23 | K3: FALCO_ANIELLO | N3: TABURNO RUNNERS | O3: 250 | P3: 45
A4: =CONCATENATE(K4,"_",H4) -> PERONE_GIACOMO_M03 | B4: =B3+1 -> 3 | G4: SM35 | H4: =VLOOKUP(G4,CAT!$E$2:$F$26,2) -> M03 | I4: 00.35.50 | K4: PERONE_GIACOMO | N4: TABURNO RUNNERS | O4: 240 | P4: 42
A5: =CONCATENATE(K5,"_",H5) -> VOLPACCHIO_NICOLA_M05 | B5: =B4+1 -> 4 | G5: SM45 | H5: =VLOOKUP(G5,CAT!$E$2:$F$26,2) -> M05 | I5: 00.36.05 | K5: VOLPACCHIO_NICOLA | N5: PODISTICA AVIS CAMPOBASSO | O5: 235 | P5: 45
A6: =CONCATENATE(K6,"_",H6) -> MIGNOGNA_SILVANO_M04 | B6: =B5+1 -> 5 | G6: SM40 | H6: =VLOOKUP(G6,CAT!$E$2:$F$26,2) -> M04 | I6: 00.36.05 | K6: MIGNOGNA_SILVANO | N6: PODISTICA AVIS CAMPOBASSO | O6: 230 | P6: 45
A7: =CONCATENATE(K7,"_",H7) -> GRASSO_ANGELO_M02 | B7: =B6+1 -> 6 | G7: SM | H7: =VLOOKUP(G7,CAT!$E$2:$F$26,2) -> M02 | I7: 00.36.18 | K7: GRASSO_ANGELO | N7: SANNIO RUNNERS | O7: 228 | P7: 42
A8: =CONCATENATE(K8,"_",H8) -> COLESANTO_MASSIMILIANO_M04 | B8: =B7+1 -> 7 | G8: SM40 | H8: =VLOOKUP(G8,CAT!$E$2:$F$26,2) -> M04 | I8: 00.36.57 | K8: COLESANTO_MASSIMILIANO | N8: SANNIO RUNNERS | O8: 226 | P8: 42
A9: =CONCATENATE(K9,"_",H9) -> GIGLIO_GIOVANNI_M06 | B9: =B8+1 -> 8 | G9: SM50 | H9: =VLOOKUP(G9,CAT!$E$2:$F$26,2) -> M06 | I9: 00.37.17 | K9: GIGLIO_GIOVANNI | N9: PODISTICA AVIS CAMPOBASSO | O9: 224 | P9: 45
A10: =CONCATENATE(K10,"_",H10) -> PILLA_EMILIANO_M03 | B10: =B9+1 -> 9 | G10: SM35 | H10: =VLOOKUP(G10,CAT!$E$2:$F$26,2) -> M03 | I10: 00.37.58 | K10: PILLA_EMILIANO | N10: PODISTI ALTO SANNIO | O10: 222 | P10: 39
A11: =CONCATENATE(K11,"_",H11) -> CAPONE_ANGELO_RAFFAELE_M02 | B11: =B10+1 -> 10 | G11: SM | H11: =VLOOKUP(G11,CAT!$E$2:$F$26,2) -> M02 | I11: 00.38.31 | K11: CAPONE_ANGELO_RAFFAELE | N11: TELESIA RUNNING TEAM | O11: 220 | P11: 39
A12: =CONCATENATE(K12,"_",H12) -> IANNUCCI_PASQUALE_M04 | B12: =B11+1 -> 11 | G12: SM40 | H12: =VLOOKUP(G12,CAT!$E$2:$F$26,2) -> M04 | I12: 00.38.42 | K12: IANNUCCI_PASQUALE | N12: TELESIA RUNNING TEAM | O12: =O11-1 -> 219 | P12: 39
A13: =CONCATENATE(K13,"_",H13) -> LOMBARDI_DOMENICO_M04 | B13: =B12+1 -> 12 | G13: SM40 | H13: =VLOOKUP(G13,CAT!$E$2:$F$26,2) -> M04 | I13: 00.38.59 | K13: LOMBARDI_DOMENICO | N13: PODISTICA AVIS CAMPOBASSO | O13: =O12-1 -> 218 | P13: 37
A14: =CONCATENATE(K14,"_",H14) -> SINISCALCHI_LODOVICO_M04 | B14: =B13+1 -> 13 | G14: SM40 | H14: =VLOOKUP(G14,CAT!$E$2:$F$26,2) -> M04 | I14: 00.38.59 | K14: SINISCALCHI_LODOVICO | N14: PODISTI ALTO SANNIO | O14: =O13-1 -> 217 | P14: 36
A15: =CONCATENATE(K15,"_",H15) -> CERULO_ETTORE_M03 | B15: =B14+1 -> 14 | G15: SM35 | H15: =VLOOKUP(G15,CAT!$E$2:$F$26,2) -> M03 | I15: 00.39.00 | K15: CERULO_ETTORE | N15: PODISTI ALTO SANNIO | O15: =O14-1 -> 216 | P15: 37
A16: =CONCATENATE(K16,"_",H16) -> DE_MARCO_DOMENICO_M05 | B16: =B15+1 -> 15 | G16: SM45 | H16: =VLOOKUP(G16,CAT!$E$2:$F$26,2) -> M05 | I16: 00.39.00 | K16: DE_MARCO_DOMENICO | N16: PODISTICA AVIS CAMPOBASSO | O16: =O15-1 -> 215 | P16: 42
A17: =CONCATENATE(K17,"_",H17) -> SPELTRA_AMELIO_M02 | B17: =B16+1 -> 16 | G17: SM | H17: =VLOOKUP(G17,CAT!$E$2:$F$26,2) -> M02 | I17: 00.39.02 | K17: SPELTRA_AMELIO | N17: PODISTI ALTO SANNIO | O17: =O16-1 -> 214 | P17: 37
A18: =CONCATENATE(K18,"_",H18) -> DI_CERBO_LUCIANO_M07 | B18: =B17+1 -> 17 | G18: SM55 | H18: =VLOOKUP(G18,CAT!$E$2:$F$26,2) -> M07 | I18: 00.39.06 | K18: DI_CERBO_LUCIANO | N18: ATLETICA DUGENTA | O18: =O17-1 -> 213 | P18: 45
A19: =CONCATENATE(K19,"_",H19) -> PIROZZOLO_DANILO_M02 | B19: =B18+1 -> 18 | G19: SM | H19: =VLOOKUP(G19,CAT!$E$2:$F$26,2) -> M02 | I19: 00.39.06 | K19: PIROZZOLO_DANILO | N19: PODISMO BENEVENTO | O19: =O18-1 -> 212 | P19: 36
A20: =CONCATENATE(K20,"_",H20) -> DE_CICCO_ALESSANDRO_M02 | B20: =B19+1 -> 19 | G20: SM | H20: =VLOOKUP(G20,CAT!$E$2:$F$26,2) -> M02 | I20: 00.39.17 | K20: DE_CICCO_ALESSANDRO | N20: TELESIA RUNNING TEAM | O20: =O19-1 -> 211 | P20: 35
A21: =CONCATENATE(K21,"_",H21) -> RICCIARDI_ALESSANDRO_M04 | B21: =B20+1 -> 20 | G21: SM40 | H21: =VLOOKUP(G21,CAT!$E$2:$F$26,2) -> M04 | I21: 00.39.21 | K21: RICCIARDI_ALESSANDRO | N21: PODISMO BENEVENTO | O21: =O20-1 -> 210 | P21: 35
A22: =CONCATENATE(K22,"_",H22) -> MARCHESCIANO_DOMENICO_M04 | B22: =B21+1 -> 21 | G22: SM40 | H22: =VLOOKUP(G22,CAT!$E$2:$F$26,2) -> M04 | I22: 00.40.30 | K22: MARCHESCIANO_DOMENICO | N22: PODISTICA AVIS CAMPOBASSO | O22: =O21-1 -> 209 | P22: 34
A23: =CONCATENATE(K23,"_",H23) -> GALASSO_MICHELE_M02 | B23: =B22+1 -> 22 | G23: SM | H23: =VLOOKUP(G23,CAT!$E$2:$F$26,2) -> M02 | I23: 00.41.03 | K23: GALASSO_MICHELE | N23: SANNIO RUNNERS | O23: =O22-1 -> 208 | P23: 34
... A120: =CONCATENATE(K120,"_",H120) -> BOSCOTRECASE_CLAUDIO_M10 | B120: =B119+1 -> 119 | G120: SM70 | H120: =VLOOKUP(G120,CAT!$E$2:$F$26,2) -> M10 | I120: 01.05.46 | K120: BOSCOTRECASE_CLAUDIO | N120: TELESIA RUNNING TEAM | O120: =O119-1 -> 111 | P120: 42

Sheet IV_TAPPA
A1: NomeCog | B1: Pos | C1: Num.Pettorale | D1: Arrivo | E1: Arrivo M/F | F1: Arrivo Cat. 1 | G1: Tempo Finale | H1: Real Time | I1: Distacco | J1: minKm | K1: Categoria 1 | L1: McAT | M1: Cognome | N1: Nome | O1: Sesso | P1: Anno | Q1: Naz. | R1: Società | S1: 5000 | T1: P_Cat
A2: =CONCATENATE(M2,"_",N2,"_",L2) -> FALCO_ANIELLO_M03 | B2: 1 | C2: 1678 | D2: 28 | E2: 25 | F2: 5 | G2: 0:35:02 | H2: 0:35:00 | I2: +0:05:44 | J2: 3:30 | K2: SM35 | L2: =VLOOKUP(K2,CAT!$E$2:$F$26,2) -> M03 | M2: FALCO | N2: ANIELLO | O2: M | P2: 1982 | Q2: ITA | R2: TABURNO RUNNERS | S2: 260 | T2: 45
A3: =CONCATENATE(M3,"_",N3,"_",L3) -> MEOLI_FABRIZIO_M03 | B3: =B2+1 -> 2 | C3: 1439 | D3: 36 | E3: 31 | F3: 8 | G3: 0:35:41 | H3: 0:35:39 | I3: +0:06:23 | J3: 3:34 | K3: SM35 | L3: =VLOOKUP(K3,CAT!$E$2:$F$26,2) -> M03 | M3: MEOLI | N3: FABRIZIO | O3: M | P3: 1984 | Q3: ITA | R3: TELESIA RUNNING TEAM | S3: 250 | T3: 42
A4: =CONCATENATE(M4,"_",N4,"_",L4) -> MIGNOGNA_SILVANO_M04 | B4: =B3+1 -> 3 | C4: 1553 | D4: 39 | E4: 33 | F4: 6 | G4: 0:36:06 | H4: 0:35:57 | I4: +0:06:48 | J4: 3:37 | K4: SM40 | L4: =VLOOKUP(K4,CAT!$E$2:$F$26,2) -> M04 | M4: MIGNOGNA | N4: SILVANO | O4: M | P4: 1976 | Q4: ITA | R4: PODISTICA AVIS CAMPOBASSO | S4: 240 | T4: 45
A5: =CONCATENATE(M5,"_",N5,"_",L5) -> PERONE_GIACOMO_M03 | B5: =B4+1 -> 4 | C5: 1685 | D5: 42 | E5: 36 | F5: 10 | G5: 0:36:22 | H5: 0:36:15 | I5: +0:07:04 | J5: 3:38 | K5: SM35 | L5: =VLOOKUP(K5,CAT!$E$2:$F$26,2) -> M03 | M5: PERONE | N5: GIACOMO | O5: M | P5: 1982 | Q5: ITA | R5: TABURNO RUNNERS | S5: 235 | T5: 39
A6: =CONCATENATE(M6,"_",N6,"_",L6) -> COLESANTO_MASSIMILIANO_M04 | B6: =B5+1 -> 5 | C6: 898 | D6: 81 | E6: 70 | F6: 18 | G6: 0:38:16 | H6: 0:38:10 | I6: +0:08:58 | J6: 3:50 | K6: SM40 | L6: =VLOOKUP(K6,CAT!$E$2:$F$26,2) -> M04 | M6: COLESANTO | N6: MASSIMILIANO | O6: M | P6: 1978 | Q6: ITA | R6: SANNIO RUNNERS | S6: 230 | T6: 42
A7: =CONCATENATE(M7,"_",N7,"_",L7) -> GORRASI_MICHELE_M02 | B7: =B6+1 -> 6 | C7: 902 | D7: 82 | E7: 71 | F7: 23 | G7: 0:38:16 | H7: 0:38:13 | I7: +0:08:58 | J7: 3:50 | K7: SM | L7: =VLOOKUP(K7,CAT!$E$2:$F$26,2) -> M02 | M7: GORRASI | N7: MICHELE | O7: M | P7: 1994 | Q7: ITA | R7: SANNIO RUNNERS | S7: 228 | T7: 45
A8: =CONCATENATE(M8,"_",N8,"_",L8) -> CAPONE_ANGELO_RAFFAELE_M02 | B8: =B7+1 -> 7 | C8: 1401 | D8: 84 | E8: 73 | F8: 24 | G8: 0:38:22 | H8: 0:38:17 | I8: +0:09:04 | J8: 3:50 | K8: SM | L8: =VLOOKUP(K8,CAT!$E$2:$F$26,2) -> M02 | M8: CAPONE | N8: ANGELO_RAFFAELE | O8: M | P8: 1986 | Q8: ITA | R8: TELESIA RUNNING TEAM | S8: 226 | T8: 42
A9: =CONCATENATE(M9,"_",N9,"_",L9) -> DE_CICCO_ALESSANDRO_M02 | B9: =B8+1 -> 8 | C9: 1412 | D9: 95 | E9: 83 | F9: 29 | G9: 0:38:45 | H9: 0:38:36 | I9: +0:09:28 | J9: 3:53 | K9: SM | L9: =VLOOKUP(K9,CAT!$E$2:$F$26,2) -> M02 | M9: DE_CICCO | N9: ALESSANDRO | O9: M | P9: 1988 | Q9: ITA | R9: TELESIA RUNNING TEAM | S9: 224 | T9: 39
A10: =CONCATENATE(M10,"_",N10,"_",L10) -> GRASSO_ANGELO_M02 | B10: =B9+1 -> 9 | C10: 901 | D10: 97 | E10: 85 | F10: 31 | G10: 0:38:52 | H10: 0:38:42 | I10: +0:09:34 | J10: 3:53 | K10: SM | L10: =VLOOKUP(K10,CAT!$E$2:$F$26,2) -> M02 | M10: GRASSO | N10: ANGELO | O10: M | P10: 1986 | Q10: ITA | R10: SANNIO RUNNERS | S10: 222 | T10: 37
A11: =CONCATENATE(M11,"_",N11,"_",L11) -> SIMPATICO_DOMENICO_M04 | B11: =B10+1 -> 10 | C11: 1513 | D11: 106 | E11: 94 | F11: 23 | G11: 0:39:03 | H11: 0:39:00 | I11: +0:09:45 | J11: 3:54 | K11: SM40 | L11: =VLOOKUP(K11,CAT!$E$2:$F$26,2) -> M04 | M11: SIMPATICO | N11: DOMENICO | O11: M | P11: 1975 | Q11: ITA | R11: PODISTI ALTO SANNIO | S11: 220 | T11: 39
A12: =CONCATENATE(M12,"_",N12,"_",L12) -> PILLA_EMILIANO_M03 | B12: =B11+1 -> 11 | C12: 1506 | D12: 112 | E12: 100 | F12: 25 | G12: 0:39:18 | H12: 0:39:12 | I12: +0:10:00 | J12: 3:56 | K12: SM35 | L12: =VLOOKUP(K12,CAT!$E$2:$F$26,2) -> M03 | M12: PILLA | N12: EMILIANO | O12: M | P12: 1982 | Q12: ITA | R12: PODISTI ALTO SANNIO | S12: =S11-1 -> 219 | T12: 37
A13: =CONCATENATE(M13,"_",N13,"_",L13) -> IANNUCCI_PASQUALE_M04 | B13: =B12+1 -> 12 | C13: 1427 | D13: 128 | E13: 116 | F13: 25 | G13: 0:39:38 | H13: 0:39:36 | I13: +0:10:21 | J13: 3:58 | K13: SM40 | L13: =VLOOKUP(K13,CAT!$E$2:$F$26,2) -> M04 | M13: IANNUCCI | N13: PASQUALE | O13: M | P13: 1979 | Q13: ITA | R13: TELESIA RUNNING TEAM | S13: =S12-1 -> 218 | T13: 37
A14: =CONCATENATE(M14,"_",N14,"_",L14) -> SINISCALCHI_LODOVICO_M04 | B14: =B13+1 -> 13 | C14: 1514 | D14: 144 | E14: 131 | F14: 29 | G14: 0:39:55 | H14: 0:39:49 | I14: +0:10:37 | J14: 4:00 | K14: SM40 | L14: =VLOOKUP(K14,CAT!$E$2:$F$26,2) -> M04 | M14: SINISCALCHI | N14: LODOVICO | O14: M | P14: 1976 | Q14: ITA | R14: PODISTI ALTO SANNIO | S14: =S13-1 -> 217 | T14: 36
A15: =CONCATENATE(M15,"_",N15,"_",L15) -> IZZO_ARCANGELO_M05 | B15: =B14+1 -> 14 | C15: 1680 | D15: 147 | E15: 134 | F15: 13 | G15: 0:40:03 | H15: 0:39:53 | I15: +0:10:45 | J15: 4:00 | K15: SM45 | L15: =VLOOKUP(K15,CAT!$E$2:$F$26,2) -> M05 | M15: IZZO | N15: ARCANGELO | O15: M | P15: 1972 | Q15: ITA | R15: TABURNO RUNNERS | S15: =S14-1 -> 216 | T15: 45
A16: =CONCATENATE(M16,"_",N16,"_",L16) -> SABATINO_ANTONIO_M05 | B16: =B15+1 -> 15 | C16: 1689 | D16: 146 | E16: 133 | F16: 12 | G16: 0:40:02 | H16: 0:39:55 | I16: +0:10:44 | J16: 4:00 | K16: SM45 | L16: =VLOOKUP(K16,CAT!$E$2:$F$26,2) -> M05 | M16: SABATINO | N16: ANTONIO | O16: M | P16: 1972 | Q16: ITA | R16: TABURNO RUNNERS | S16: =S15-1 -> 215 | T16: 42
A17: =CONCATENATE(M17,"_",N17,"_",L17) -> LOMBARDI_DOMENICO_M04 | B17: =B16+1 -> 16 | C17: 353 | D17: 152 | E17: 139 | F17: 32 | G17: 0:40:10 | H17: 0:40:04 | I17: +0:10:52 | J17: 4:01 | K17: SM40 | L17: =VLOOKUP(K17,CAT!$E$2:$F$26,2) -> M04 | M17: LOMBARDI | N17: DOMENICO | O17: M | P17: 1977 | Q17: ITA | R17: PODISTICA AVIS CAMPOBASSO | S17: =S16-1 -> 214 | T17: 35
A18: =CONCATENATE(M18,"_",N18,"_",L18) -> CAPPUCCIO_MILANINO_M04 | B18: =B17+1 -> 17 | C18: 1402 | D18: 163 | E18: 150 | F18: 36 | G18: 0:40:22 | H18: 0:40:17 | I18: +0:11:04 | J18: 4:02 | K18: SM40 | L18: =VLOOKUP(K18,CAT!$E$2:$F$26,2) -> M04 | M18: CAPPUCCIO | N18: MILANINO | O18: M | P18: 1975 | Q18: ITA | R18: TELESIA RUNNING TEAM | S18: =S17-1 -> 213 | T18: 34
A19: =CONCATENATE(M19,"_",N19,"_",L19) -> CERULO_ETTORE_M03 | B19: =B18+1 -> 18 | C19: 1488 | D19: 170 | E19: 157 | F19: 40 | G19: 0:40:30 | H19: 0:40:19 | I19: +0:11:12 | J19: 4:03 | K19: SM35 | L19: =VLOOKUP(K19,CAT!$E$2:$F$26,2) -> M03 | M19: CERULO | N19: ETTORE | O19: M | P19: 1981 | Q19: ITA | R19: PODISTI ALTO SANNIO | S19: =S18-1 -> 212 | T19: 36
A20: =CONCATENATE(M20,"_",N20,"_",L20) -> PIROZZOLO_DANILO_M02 | B20: =B19+1 -> 19 | C20: 1139 | D20: 168 | E20: 155 | F20: 43 | G20: 0:40:27 | H20: 0:40:22 | I20: +0:11:09 | J20: 4:03 | K20: SM | L20: =VLOOKUP(K20,CAT!$E$2:$F$26,2) -> M02 | M20: PIROZZOLO | N20: DANILO | O20: M | P20: 1987 | Q20: ITA | R20: PODISMO BENEVENTO | S20: =S19-1 -> 211 | T20: 36
A21: =CONCATENATE(M21,"_",N21,"_",L21) -> NAPOLITANO_LUIGI_M05 | B21: =B20+1 -> 20 | C21: 1683 | D21: 169 | E21: 156 | F21: 18 | G21: 0:40:29 | H21: 0:40:25 | I21: +0:11:11 | J21: 4:03 | K21: SM45 | L21: =VLOOKUP(K21,CAT!$E$2:$F$26,2) -> M05 | M21: NAPOLITANO | N21: LUIGI | O21: M | P21: 1970 | Q21: ITA | R21: TABURNO RUNNERS | S21: =S20-1 -> 210 | T21: 39
A22: =CONCATENATE(M22,"_",N22,"_",L22) -> SPELTRA_AMELIO_M02 | B22: =B21+1 -> 21 | C22: 1516 | D22: 175 | E22: 162 | F22: 45 | G22: 0:40:37 | H22: 0:40:27 | I22: +0:11:19 | J22: 4:04 | K22: SM | L22: =VLOOKUP(K22,CAT!$E$2:$F$26,2) -> M02 | M22: SPELTRA | N22: AMELIO | O22: M | P22: 1985 | Q22: ITA | R22: PODISTI ALTO SANNIO | S22: =S21-1 -> 209 | T22: 35
A23: =CONCATENATE(M23,"_",N23,"_",L23) -> DE_MARCO_DOMENICO_M05 | B23: =B22+1 -> 22 | C23: 1548 | D23: 184 | E23: 171 | F23: 21 | G23: 0:40:47 | H23: 0:40:41 | I23: +0:11:29 | J23: 4:05 | K23: SM45 | L23: =VLOOKUP(K23,CAT!$E$2:$F$26,2) -> M05 | M23: DE_MARCO | N23: DOMENICO | O23: M | P23: 1974 | Q23: ITA | R23: PODISTICA AVIS CAMPOBASSO | S23: =S22-1 -> 208 | T23: 37
... A174: =CONCATENATE(M174,"_",N174,"_",L174) -> SAGNELLA_GEMMA_F6 | B174: =B173+1 -> 173 | C174: F307 | D174: 1826 | E174: 282 | F174: 43 | G174: 1:22:43 | H174: 1:21:46 | I174: +0:53:25 | J174: 8:16 | K174: SF50 | L174: =VLOOKUP(K174,CAT!$E$2:$F$26,2) -> F6 | M174: SAGNELLA | N174: GEMMA | O174: F | P174: 1967 | Q174: ITA | R174: TELESIA RUNNING TEAM | S174: =S173-1 -> 57 | T174: 7

Sheet V_TAPPA
B1: Pos | C1: Ps | D1: S | E1: Num | F1: PCat | G1: Cat | H1: CAT_SA | I1: Tempo | J1: Media | K1: Cognome | L1: Nome | M1: REALTIME | N1: Nome Squadra | O1: Pts | P1: PUNTI CAT
A2: =CONCATENATE(K2,"_",L2,"_",H2) -> GORRASI_MICHELE_M02 | B2: 1 | C2: 1 | D2: M | E2: 1117 | F2: 1 | G2: SM | H2: =VLOOKUP(G2,CAT!$E$2:$F$26,2) -> M02 | I2: 0.025126968 | J2: 0.0025127315 | K2: GORRASI | L2: MICHELE | M2: [0:36:10,97] | N2: SANNIO RUNNERS | O2: 260 | P2: 45
A3: =CONCATENATE(K3,"_",L3,"_",H3) -> PERONE_GIACOMO_M03 | B3: =B2+1 -> 2 | C3: 2 | D3: M | E3: 1190 | F3: 1 | G3: SM35 | H3: =VLOOKUP(G3,CAT!$E$2:$F$26,2) -> M03 | I3: 0.025408333 | J3: 0.0025408565 | K3: PERONE | L3: GIACOMO | M3: [0:36:35,28] | N3: TABURNO RUNNERS | O3: 250 | P3: 45
A4: =CONCATENATE(K4,"_",L4,"_",H4) -> MOLINARO_NICOLA_M06 | B4: =B3+1 -> 3 | C4: 4 | D4: M | E4: 1251 | F4: 1 | G4: SM50 | H4: =VLOOKUP(G4,CAT!$E$2:$F$26,2) -> M06 | I4: 0.026228588 | J4: 0.0026228009 | K4: MOLINARO | L4: NICOLA | M4: [0:37:46,15] | N4: PODISTI ALTO SANNIO | O4: 240 | P4: 45
A5: =CONCATENATE(K5,"_",L5,"_",H5) -> COLESANTO_MASSIMILIANO_M04 | B5: =B4+1 -> 4 | C5: 5 | D5: M | E5: 1114 | F5: 1 | G5: SM40 | H5: =VLOOKUP(G5,CAT!$E$2:$F$26,2) -> M04 | I5: 0.026372685 | J5: 0.0026372685 | K5: COLESANTO | L5: MASSIMILIANO | M5: [0:37:58,60] | N5: SANNIO RUNNERS | O5: 235 | P5: 45
A6: =CONCATENATE(K6,"_",L6,"_",H6) -> DAMPHA_LAMIN_M02 | B6: =B5+1 -> 5 | C6: 7 | D6: M | E6: 1233 | F6: 2 | G6: SM | H6: =VLOOKUP(G6,CAT!$E$2:$F$26,2) -> M02 | I6: 0.026946875 | J6: 0.0026946759 | K6: DAMPHA | L6: LAMIN | M6: [0:38:48,21] | N6: ATLETICA DUGENTA | O6: 230 | P6: 42
A7: =CONCATENATE(K7,"_",L7,"_",H7) -> VALENTINO_ANGELO_M06 | B7: =B6+1 -> 6 | C7: 8 | D7: M | E7: 1111 | F7: 2 | G7: SM50 | H7: =VLOOKUP(G7,CAT!$E$2:$F$26,2) -> M06 | I7: 0.026950926 | J7: 0.0026951389 | K7: VALENTINO | L7: ANGELO | M7: [0:38:48,56] | N7: ATLETICA DUGENTA | O7: 228 | P7: 42
A8: =CONCATENATE(K8,"_",L8,"_",H8) -> DE_CICCO_ALESSANDRO_M02 | B8: =B7+1 -> 7 | C8: 9 | D8: M | E8: 1124 | F8: 3 | G8: SM | H8: =VLOOKUP(G8,CAT!$E$2:$F$26,2) -> M02 | I8: 0.027198727 | J8: 0.0027199074 | K8: DE_CICCO | L8: ALESSANDRO | M8: [0:39:09,97] | N8: TELESIA RUNNING TEAM | O8: 226 | P8: 39
A9: =CONCATENATE(K9,"_",L9,"_",H9) -> CAPONE_ANGELO_RAFFAELE_M02 | B9: =B8+1 -> 8 | C9: 10 | D9: M | E9: 1246 | F9: 4 | G9: SM | H9: =VLOOKUP(G9,CAT!$E$2:$F$26,2) -> M02 | I9: 0.027228009 | J9: 0.0027228009 | K9: CAPONE | L9: ANGELO_RAFFAELE | M9: [0:39:12,50] | N9: TELESIA RUNNING TEAM | O9: 224 | P9: 37
A10: =CONCATENATE(K10,"_",L10,"_",H10) -> SINISCALCHI_LODOVICO_M04 | B10: =B9+1 -> 9 | C10: 11 | D10: M | E10: 1218 | F10: 3 | G10: SM40 | H10: =VLOOKUP(G10,CAT!$E$2:$F$26,2) -> M04 | I10: 0.027252199 | J10: 0.0027252315 | K10: SINISCALCHI | L10: LODOVICO | M10: [0:39:14,59] | N10: PODISTI ALTO SANNIO | O10: 222 | P10: 42
A11: =CONCATENATE(K11,"_",L11,"_",H11) -> NAPOLITANO_BENITO_M02 | B11: =B10+1 -> 10 | C11: 12 | D11: M | E11: 1188 | F11: 2 | G11: PM | H11: =VLOOKUP(G11,CAT!$E$2:$F$26,2) -> M02 | I11: 0.027502778 | J11: 0.0027502315 | K11: NAPOLITANO | L11: BENITO | M11: [0:39:36,24] | N11: TABURNO RUNNERS | O11: 220 | P11: 36
A12: =CONCATENATE(K12,"_",L12,"_",H12) -> SABATINO_ANTONIO_M05 | B12: =B11+1 -> 11 | C12: 13 | D12: M | E12: 1194 | F12: 1 | G12: SM45 | H12: =VLOOKUP(G12,CAT!$E$2:$F$26,2) -> M05 | I12: 0.027506944 | J12: 0.0027506944 | K12: SABATINO | L12: ANTONIO | M12: [0:39:36,60] | N12: TABURNO RUNNERS | O12: =O11-1 -> 219 | P12: 45
A13: =CONCATENATE(K13,"_",L13,"_",H13) -> PILLA_EMILIANO_M03 | B13: =B12+1 -> 12 | C13: 14 | D13: M | E13: 1211 | F13: 2 | G13: SM35 | H13: =VLOOKUP(G13,CAT!$E$2:$F$26,2) -> M03 | I13: 0.027701273 | J13: 0.0027701389 | K13: PILLA | L13: EMILIANO | M13: [0:39:53,39] | N13: PODISTI ALTO SANNIO | O13: =O12-1 -> 218 | P13: 42
A14: =CONCATENATE(K14,"_",L14,"_",H14) -> RAME_ASSUNTO_M07 | B14: =B13+1 -> 13 | C14: 15 | D14: M | E14: 1191 | F14: 1 | G14: SM55 | H14: =VLOOKUP(G14,CAT!$E$2:$F$26,2) -> M07 | I14: 0.027908449 | J14: 0.0027908565 | K14: RAME | L14: ASSUNTO | M14: [0:40:11,29] | N14: TABURNO RUNNERS | O14: =O13-1 -> 217 | P14: 45
A15: =CONCATENATE(K15,"_",L15,"_",H15) -> IANNUCCI_PASQUALE_M04 | B15: =B14+1 -> 14 | C15: 16 | D15: M | E15: 1130 | F15: 4 | G15: SM40 | H15: =VLOOKUP(G15,CAT!$E$2:$F$26,2) -> M04 | I15: 0.028262037 | J15: 0.0028261574 | K15: IANNUCCI | L15: PASQUALE | M15: [0:40:41,84] | N15: TELESIA RUNNING TEAM | O15: =O14-1 -> 216 | P15: 39
A16: =CONCATENATE(K16,"_",L16,"_",H16) -> DI_CERBO_LUCIANO_M07 | B16: =B15+1 -> 15 | C16: 18 | D16: M | E16: 1106 | F16: 2 | G16: SM55 | H16: =VLOOKUP(G16,CAT!$E$2:$F$26,2) -> M07 | I16: 0.028333912 | J16: 0.0028333333 | K16: DI_CERBO | L16: LUCIANO | M16: [0:40:48,05] | N16: ATLETICA DUGENTA | O16: =O15-1 -> 215 | P16: 42
A17: =CONCATENATE(K17,"_",L17,"_",H17) -> SAIDY_SAIKOU_M03 | B17: =B16+1 -> 16 | C17: 19 | D17: M | E17: 1172 | F17: 4 | G17: SM35 | H17: =VLOOKUP(G17,CAT!$E$2:$F$26,2) -> M03 | I17: 0.028672338 | J17: 0.0028672454 | K17: SAIDY | L17: SAIKOU | M17: [0:41:17,29] | N17: ATLETICA DUGENTA | O17: =O16-1 -> 214 | P17: 39
A18: =CONCATENATE(K18,"_",L18,"_",H18) -> LOMBARDI_DOMENICO_M04 | B18: =B17+1 -> 17 | C18: 20 | D18: M | E18: 1181 | F18: 5 | G18: SM40 | H18: =VLOOKUP(G18,CAT!$E$2:$F$26,2) -> M04 | I18: 0.028834606 | J18: 0.0028834491 | K18: LOMBARDI | L18: DOMENICO | M18: [0:41:31,31] | N18: PODISTICA AVIS CAMPOBASSO | O18: =O17-1 -> 213 | P18: 37
A19: =CONCATENATE(K19,"_",L19,"_",H19) -> RICCIARDI_ALESSANDRO_M04 | B19: =B18+1 -> 18 | C19: 21 | D19: M | E19: 1139 | F19: 6 | G19: SM40 | H19: =VLOOKUP(G19,CAT!$E$2:$F$26,2) -> M04 | I19: 0.028970023 | J19: 0.0028969907 | K19: RICCIARDI | L19: ALESSANDRO | M19: [0:41:43,01] | N19: PODISMO BENEVENTO | O19: =O18-1 -> 212 | P19: 36
A20: =CONCATENATE(K20,"_",L20,"_",H20) -> PIROZZOLO_DANILO_M02 | B20: =B19+1 -> 19 | C20: 22 | D20: M | E20: 1138 | F20: 5 | G20: SM | H20: =VLOOKUP(G20,CAT!$E$2:$F$26,2) -> M02 | I20: 0.028987037 | J20: 0.0028987269 | K20: PIROZZOLO | L20: DANILO | M20: [0:41:44,48] | N20: PODISMO BENEVENTO | O20: =O19-1 -> 211 | P20: 35
A21: =CONCATENATE(K21,"_",L21,"_",H21) -> CERULO_ETTORE_M03 | B21: =B20+1 -> 20 | C21: 23 | D21: M | E21: 1255 | F21: 5 | G21: SM35 | H21: =VLOOKUP(G21,CAT!$E$2:$F$26,2) -> M03 | I21: 0.029107292 | J21: 0.0029107639 | K21: CERULO | L21: ETTORE | M21: [0:41:54,87] | N21: PODISTI ALTO SANNIO | O21: =O20-1 -> 210 | P21: 37
A22: =CONCATENATE(K22,"_",L22,"_",H22) -> TOZZI_ANTONIO_M02 | B22: =B21+1 -> 21 | C22: 24 | D22: M | E22: 1220 | F22: 6 | G22: SM | H22: =VLOOKUP(G22,CAT!$E$2:$F$26,2) -> M02 | I22: 0.02911169 | J22: 0.0029111111 | K22: TOZZI | L22: ANTONIO | M22: [0:41:55,25] | N22: PODISTI ALTO SANNIO | O22: =O21-1 -> 209 | P22: 34
A23: =CONCATENATE(K23,"_",L23,"_",H23) -> DE_MARCO_DOMENICO_M05 | B23: =B22+1 -> 22 | C23: 25 | D23: M | E23: 1144 | F23: 2 | G23: SM45 | H23: =VLOOKUP(G23,CAT!$E$2:$F$26,2) -> M05 | I23: 0.029358681 | J23: 0.0029358796 | K23: DE_MARCO | L23: DOMENICO | M23: [0:42:16,59] | N23: PODISTICA AVIS CAMPOBASSO | O23: =O22-1 -> 208 | P23: 42
... A98: =CONCATENATE(K98,"_",L98,"_",H98) -> DI_TOTA_FELICE_MARIO_M09 | B98: =B97+1 -> 97 | C98: 127 | D98: M | E98: 1145 | F98: 15 | G98: SM65 | H98: =VLOOKUP(G98,CAT!$E$2:$F$26,2) -> M09 | I98: 0.052978704 | J98: 0.0052979167 | K98: DI_TOTA | L98: FELICE_MARIO | M98: [1:16:17,36] | N98: PODISTICA AVIS CAMPOBASSO | O98: =O97-1 -> 133 | P98: 31
A99: =CONCATENATE(K99,"_",L99,"_",H99) -> __
A100: =CONCATENATE(K100,"_",L100,"_",H100) -> __
A101: =CONCATENATE(K101,"_",L101,"_",H101) -> __
A102: =CONCATENATE(K102,"_",L102,"_",H102) -> __
A103: =CONCATENATE(K103,"_",L103,"_",H103) -> __
A104: =CONCATENATE(K104,"_",L104,"_",H104) -> __
A105: =CONCATENATE(K105,"_",L105,"_",H105) -> __
A106: =CONCATENATE(K106,"_",L106,"_",H106) -> __
A107: =CONCATENATE(K107,"_",L107,"_",H107) -> __
A108: =CONCATENATE(K108,"_",L108,"_",H108) -> __
A109: =CONCATENATE(K109,"_",L109,"_",H109) -> __
A110: =CONCATENATE(K110,"_",L110,"_",H110) -> __
... A127: =CONCATENATE(K127,"_",L127,"_",H127) -> __
A128: =CONCATENATE(K128,"_",L128,"_",G128) -> __

Sheet VI_TAPPA
B1: Pos | C1: Ps | D1: S | E1: Num | F1: PCat | G1: Cat | H1: CAT_SA | I1: Tempo | J1: Media | K1: Cognome | L1: Nome | M1: REALTIME | N1: Nome Squadra | O1: Pts | P1: PUNTI CAT
A2: =CONCATENATE(K2,"_",L2,"_",H2) -> MEOLI_FABRIZIO_M03 | B2: 1 | C2: 2 | D2: M | E2: 952 | F2: 2 | G2: SM35 | H2: =VLOOKUP(G2,CAT!$E$2:$F$26,2) -> M03 | I2: 0.025381944 | J2: 0.0024884259 | K2: MEOLI | L2: FABRIZIO | M2: [0:36:33,00] | N2: TELESIA RUNNING TEAM | O2: 260 | P2: 45
A3: =CONCATENATE(K3,"_",L3,"_",H3) -> PERONE_GIACOMO_M03 | B3: =B2+1 -> 2 | C3: 3 | D3: M | E3: 966 | F3: 3 | G3: SM35 | H3: =VLOOKUP(G3,CAT!$E$2:$F$26,2) -> M03 | I3: 0.025572917 | J3: 0.0025071759 | K3: PERONE | L3: GIACOMO | M3: [0:36:49,50] | N3: TABURNO RUNNERS | O3: 250 | P3: 45
A4: =CONCATENATE(K4,"_",L4,"_",H4) -> GORRASI_MICHELE_M02 | B4: =B3+1 -> 3 | C4: 5 | D4: M | E4: 1092 | F4: 5 | G4: SM | H4: =VLOOKUP(G4,CAT!$E$2:$F$26,2) -> M02 | I4: 0.025593171 | J4: 0.0025091435 | K4: GORRASI | L4: MICHELE | M4: [0:36:51,25] | N4: SANNIO RUNNERS | O4: 240 | P4: 42
A5: =CONCATENATE(K5,"_",L5,"_",H5) -> COLESANTO_MASSIMILIANO_M04 | B5: =B4+1 -> 4 | C5: 7 | D5: M | E5: 1090 | F5: 1 | G5: SM40 | H5: =VLOOKUP(G5,CAT!$E$2:$F$26,2) -> M04 | I5: 0.026457176 | J5: 0.0025938657 | K5: COLESANTO | L5: MASSIMILIANO | M5: [0:38:05,90] | N5: SANNIO RUNNERS | O5: 235 | P5: 45
A6: =CONCATENATE(K6,"_",L6,"_",H6) -> GRASSO_ANGELO_M02 | B6: =B5+1 -> 5 | C6: 8 | D6: M | E6: 1177 | F6: 1 | G6: SM | H6: =VLOOKUP(G6,CAT!$E$2:$F$26,2) -> M02 | I6: 0.02648206 | J6: 0.0025962963 | K6: GRASSO | L6: ANGELO | M6: [0:38:08,05] | N6: TABURNO RUNNERS | O6: 230 | P6: 42
A7: =CONCATENATE(K7,"_",L7,"_",H7) -> MOLINARO_NICOLA_M06 | B7: =B6+1 -> 6 | C7: 9 | D7: M | E7: 1185 | F7: 1 | G7: SM50 | H7: =VLOOKUP(G7,CAT!$E$2:$F$26,2) -> M06 | I7: 0.026493634 | J7: 0.0025974537 | K7: MOLINARO | L7: NICOLA | M7: [0:38:09,05] | N7: PODISTI ALTO SANNIO | O7: 228 | P7: 45
A8: =CONCATENATE(K8,"_",L8,"_",H8) -> IAMONACO_GIUSEPPE_M06 | B8: =B7+1 -> 7 | C8: 12 | D8: M | E8: 1153 | F8: 2 | G8: SM50 | H8: =VLOOKUP(G8,CAT!$E$2:$F$26,2) -> M06 | I8: 0.026864005 | J8: 0.0026336806 | K8: IAMONACO | L8: GIUSEPPE | M8: [0:38:41,05] | N8: PODISTICA AVIS CAMPOBASSO | O8: 226 | P8: 42
A9: =CONCATENATE(K9,"_",L9,"_",H9) -> SINISCALCHI_LODOVICO_M04 | B9: =B8+1 -> 8 | C9: 14 | D9: M | E9: 1194 | F9: 3 | G9: SM40 | H9: =VLOOKUP(G9,CAT!$E$2:$F$26,2) -> M04 | I9: 0.027152778 | J9: 0.002662037 | K9: SINISCALCHI | L9: LODOVICO | M9: [0:39:06,00] | N9: PODISTI ALTO SANNIO | O9: 224 | P9: 42
A10: =CONCATENATE(K10,"_",L10,"_",H10) -> CAPONE_ANGELO_RAFFAELE_M02 | B10: =B9+1 -> 9 | C10: 15 | D10: M | E10: 949 | F10: 2 | G10: SM | H10: =VLOOKUP(G10,CAT!$E$2:$F$26,2) -> M02 | I10: 0.027409144 | J10: 0.0026871528 | K10: CAPONE | L10: ANGELO_RAFFAELE | M10: [0:39:28,15] | N10: TELESIA RUNNING TEAM | O10: 222 | P10: 39
A11: =CONCATENATE(K11,"_",L11,"_",H11) -> SIMPATICO_DOMENICO_M04 | B11: =B10+1 -> 10 | C11: 16 | D11: M | E11: 985 | F11: 4 | G11: SM40 | H11: =VLOOKUP(G11,CAT!$E$2:$F$26,2) -> M04 | I11: 0.027670718 | J11: 0.0027128472 | K11: SIMPATICO | L11: DOMENICO | M11: [0:39:50,75] | N11: PODISTI ALTO SANNIO | O11: 220 | P11: 39
A12: =CONCATENATE(K12,"_",L12,"_",H12) -> VALENTINO_ANGELO_M06 | B12: =B11+1 -> 11 | C12: 17 | D12: M | E12: 1088 | F12: 4 | G12: SM50 | H12: =VLOOKUP(G12,CAT!$E$2:$F$26,2) -> M06 | I12: 0.027747106 | J12: 0.0027202546 | K12: VALENTINO | L12: ANGELO | M12: [0:39:57,35] | N12: ATLETICA DUGENTA | O12: =O11-1 -> 219 | P12: 39
A13: =CONCATENATE(K13,"_",L13,"_",H13) -> DE_CICCO_ALESSANDRO_M02 | B13: =B12+1 -> 12 | C13: 19 | D13: M | E13: 950 | F13: 3 | G13: SM | H13: =VLOOKUP(G13,CAT!$E$2:$F$26,2) -> M02 | I13: 0.027831597 | J13: 0.002728588 | K13: DE_CICCO | L13: ALESSANDRO | M13: [0:40:04,65] | N13: TELESIA RUNNING TEAM | O13: =O12-1 -> 218 | P13: 37
A14: =CONCATENATE(K14,"_",L14,"_",H14) -> PILLA_EMILIANO_M03 | B14: =B13+1 -> 13 | C14: 20 | D14: M | E14: 1191 | F14: 3 | G14: SM35 | H14: =VLOOKUP(G14,CAT!$E$2:$F$26,2) -> M03 | I14: 0.027858218 | J14: 0.00273125 | K14: PILLA | L14: EMILIANO | M14: [0:40:06,95] | N14: PODISTI ALTO SANNIO | O14: =O13-1 -> 217 | P14: 39
A15: =CONCATENATE(K15,"_",L15,"_",H15) -> DI_CERBO_LUCIANO_M07 | B15: =B14+1 -> 14 | C15: 22 | D15: M | E15: 1085 | F15: 1 | G15: SM55 | H15: =VLOOKUP(G15,CAT!$E$2:$F$26,2) -> M07 | I15: 0.028027778 | J15: 0.0027478009 | K15: DI_CERBO | L15: LUCIANO | M15: [0:40:21,60] | N15: ATLETICA DUGENTA | O15: =O14-1 -> 216 | P15: 45
A16: =CONCATENATE(K16,"_",L16,"_",H16) -> SABATINO_ANTONIO_M05 | B16: =B15+1 -> 15 | C16: 27 | D16: M | E16: 968 | F16: 2 | G16: SM45 | H16: =VLOOKUP(G16,CAT!$E$2:$F$26,2) -> M05 | I16: 0.028313079 | J16: 0.0027758102 | K16: SABATINO | L16: ANTONIO | M16: [0:40:46,25] | N16: TABURNO RUNNERS | O16: =O15-1 -> 215 | P16: 45
A17: =CONCATENATE(K17,"_",L17,"_",H17) -> IANNUCCI_PASQUALE_M04 | B17: =B16+1 -> 16 | C17: 29 | D17: M | E17: 951 | F17: 6 | G17: SM40 | H17: =VLOOKUP(G17,CAT!$E$2:$F$26,2) -> M04 | I17: 0.028495949 | J17: 0.00279375 | K17: IANNUCCI | L17: PASQUALE | M17: [0:41:02,05] | N17: TELESIA RUNNING TEAM | O17: =O16-1 -> 214 | P17: 37
A18: =CONCATENATE(K18,"_",L18,"_",H18) -> SPELTRA_AMELIO_M02 | B18: =B17+1 -> 17 | C18: 32 | D18: M | E18: 1195 | F18: 4 | G18: SM | H18: =VLOOKUP(G18,CAT!$E$2:$F$26,2) -> M02 | I18: 0.028869213 | J18: 0.0028303241 | K18: SPELTRA | L18: AMELIO | M18: [0:41:34,30] | N18: PODISTI ALTO SANNIO | O18: =O17-1 -> 213 | P18: 36
A19: =CONCATENATE(K19,"_",L19,"_",H19) -> DE_MARCO_DOMENICO_M05 | B19: =B18+1 -> 18 | C19: 33 | D19: M | E19: 1152 | F19: 6 | G19: SM45 | H19: =VLOOKUP(G19,CAT!$E$2:$F$26,2) -> M05 | I19: 0.02887037 | J19: 0.0028304398 | K19: DE_MARCO | L19: DOMENICO | M19: [0:41:34,40] | N19: PODISTICA AVIS CAMPOBASSO | O19: =O18-1 -> 212 | P19: 42
A20: =CONCATENATE(K20,"_",L20,"_",H20) -> TOZZI_ANTONIO_M02 | B20: =B19+1 -> 19 | C20: 34 | D20: M | E20: 1197 | F20: 5 | G20: SM | H20: =VLOOKUP(G20,CAT!$E$2:$F$26,2) -> M02 | I20: 0.02888831 | J20: 0.0028321759 | K20: TOZZI | L20: ANTONIO | M20: [0:41:35,95] | N20: PODISTI ALTO SANNIO | O20: =O19-1 -> 211 | P20: 35
A21: =CONCATENATE(K21,"_",L21,"_",H21) -> RICCIARDI_ALESSANDRO_M04 | B21: =B20+1 -> 20 | C21: 35 | D21: M | E21: 1144 | F21: 7 | G21: SM40 | H21: =VLOOKUP(G21,CAT!$E$2:$F$26,2) -> M04 | I21: 0.028899306 | J21: 0.0028332176 | K21: RICCIARDI | L21: ALESSANDRO | M21: [0:41:36,90] | N21: PODISMO BENEVENTO | O21: =O20-1 -> 210 | P21: 36
A22: =CONCATENATE(K22,"_",L22,"_",H22) -> PIROZZOLO_DANILO_M02 | B22: =B21+1 -> 21 | C22: 36 | D22: M | E22: 1142 | F22: 6 | G22: SM | H22: =VLOOKUP(G22,CAT!$E$2:$F$26,2) -> M02 | I22: 0.028923032 | J22: 0.0028356481 | K22: PIROZZOLO | L22: DANILO | M22: [0:41:38,95] | N22: PODISMO BENEVENTO | O22: =O21-1 -> 209 | P22: 34
A23: =CONCATENATE(K23,"_",L23,"_",H23) -> LOMBARDI_DOMENICO_M04 | B23: =B22+1 -> 22 | C23: 37 | D23: M | E23: 1175 | F23: 8 | G23: SM40 | H23: =VLOOKUP(G23,CAT!$E$2:$F$26,2) -> M04 | I23: 0.029052662 | J23: 0.0028482639 | K23: LOMBARDI | L23: DOMENICO | M23: [0:41:50,15] | N23: PODISTICA AVIS CAMPOBASSO | O23: =O22-1 -> 208 | P23: 35
... A99: =CONCATENATE(K99,"_",L99,"_",H99) -> SAGNELLA_GEMMA_F6 | B99: =B98+1 -> 98 | C99: 35 | D99: F | E99: 1115 | F99: 7 | G99: SF50 | H99: =VLOOKUP(G99,CAT!$E$2:$F$26,2) -> F6 | I99: 0.054550347 | J99: 0.0053480324 | K99: SAGNELLA | L99: GEMMA | M99: [1:18:33,15] | N99: TELESIA RUNNING TEAM | O99: =O98-1 -> 132 | P99: 6
A100: =CONCATENATE(K100,"_",L100,"_",H100) -> __
A101: =CONCATENATE(K101,"_",L101,"_",H101) -> __
A102: =CONCATENATE(K102,"_",L102,"_",H102) -> __
A103: =CONCATENATE(K103,"_",L103,"_",H103) -> __
A104: =CONCATENATE(K104,"_",L104,"_",H104) -> __
A105: =CONCATENATE(K105,"_",L105,"_",H105) -> __
A106: =CONCATENATE(K106,"_",L106,"_",H106) -> __
A107: =CONCATENATE(K107,"_",L107,"_",H107) -> __
A108: =CONCATENATE(K108,"_",L108,"_",H108) -> __
A109: =CONCATENATE(K109,"_",L109,"_",H109) -> __
A110: =CONCATENATE(K110,"_",L110,"_",H110) -> __
A111: =CONCATENATE(K111,"_",L111,"_",H111) -> __
... A127: =CONCATENATE(K127,"_",L127,"_",H127) -> __
A128: =CONCATENATE(K128,"_",L128,"_",G128) -> __

Sheet VII_TAPPA
B1: Pos | C1: Ps | D1: S | E1: Num | F1: PCat | G1: Cat | H1: CAT_SA | I1: Tempo | J1: Media | K1: Cognome | L1: Nome | M1: REALTIME | N1: Nome Squadra | O1: Pts | P1: PUNTI CAT
A2: =CONCATENATE(K2,"_",L2,"_",H2) -> MEOLI_FABRIZIO_M03 | B2: 4 | C2: 4 | D2: M | E2: 1 | F2: 2 | G2: SM35 | H2: =VLOOKUP(G2,CAT!$E$2:$F$26,2) -> M03 | I2: 0.024950231 | J2: 0.0024950231 | K2: MEOLI | L2: FABRIZIO | M2: [0:35:55,70] | N2: TELESIA RUNNING TEAM | O2: 260 | P2: 45
A3: =CONCATENATE(K3,"_",L3,"_",H3) -> PERONE_GIACOMO_M03 | B3: 5 | C3: 5 | D3: M | E3: 11 | F3: 3 | G3: SM35 | H3: =VLOOKUP(G3,CAT!$E$2:$F$26,2) -> M03 | I3: 0.024983218 | J3: 0.0024982639 | K3: PERONE | L3: GIACOMO | M3: [0:35:58,55] | N3: TABURNO RUNNERS | O3: 250 | P3: 42
A4: =CONCATENATE(K4,"_",L4,"_",H4) -> GORRASI_MICHELE_M02 | B4: 8 | C4: 8 | D4: M | E4: 4 | F4: 1 | G4: SM | H4: =VLOOKUP(G4,CAT!$E$2:$F$26,2) -> M02 | I4: 0.025559606 | J4: 0.0025559028 | K4: GORRASI | L4: MICHELE | M4: [0:36:48,35] | N4: SANNIO RUNNERS | O4: 240 | P4: 45
A5: =CONCATENATE(K5,"_",L5,"_",H5) -> GRASSO_ANGELO_M02 | B5: 12 | C5: 12 | D5: M | E5: 8 | F5: 2 | G5: SM | H5: =VLOOKUP(G5,CAT!$E$2:$F$26,2) -> M02 | I5: 0.026229167 | J5: 0.0026229167 | K5: GRASSO | L5: ANGELO | M5: [0:37:46,20] | N5: SANNIO RUNNERS | O5: 235 | P5: 42
A6: =CONCATENATE(K6,"_",L6,"_",H6) -> CAPONE_ANGELO_RAFFAELE_M02 | B6: 14 | C6: 14 | D6: M | E6: 46 | F6: 3 | G6: SM | H6: =VLOOKUP(G6,CAT!$E$2:$F$26,2) -> M02 | I6: 0.026335069 | J6: 0.0026334491 | K6: CAPONE | L6: ANGELO_RAFFAELE | M6: [0:37:55,35] | N6: TELESIA RUNNING TEAM | O6: 230 | P6: 39
A7: =CONCATENATE(K7,"_",L7,"_",H7) -> COLESANTO_MASSIMILIANO_M04 | B7: 16 | C7: 16 | D7: M | E7: 227 | F7: 6 | G7: SM40 | H7: =VLOOKUP(G7,CAT!$E$2:$F$26,2) -> M04 | I7: 0.026493056 | J7: 0.0026493056 | K7: COLESANTO | L7: MASSIMILIANO | M7: [0:38:09,00] | N7: SANNIO RUNNERS | O7: 228 | P7: 45
A8: =CONCATENATE(K8,"_",L8,"_",H8) -> DE_CICCO_ALESSANDRO_M02 | B8: 17 | C8: 17 | D8: M | E8: 48 | F8: 4 | G8: SM | H8: =VLOOKUP(G8,CAT!$E$2:$F$26,2) -> M02 | I8: 0.026571759 | J8: 0.0026571759 | K8: DE_CICCO | L8: ALESSANDRO | M8: [0:38:15,80] | N8: TELESIA RUNNING TEAM | O8: 226 | P8: 37
A9: =CONCATENATE(K9,"_",L9,"_",H9) -> SAIDY_SAIKOU_M03 | B9: 19 | C9: 19 | D9: M | E9: 376 | F9: 7 | G9: SM35 | H9: =VLOOKUP(G9,CAT!$E$2:$F$26,2) -> M03 | I9: 0.026612269 | J9: 0.0026612269 | K9: SAIDY | L9: SAIKOU | M9: [0:38:19,30] | N9: ATLETICA DUGENTA | O9: 224 | P9: 39
A10: =CONCATENATE(K10,"_",L10,"_",H10) -> VALENTINO_ANGELO_M06 | B10: 23 | C10: 23 | D10: M | E10: 225 | F10: 2 | G10: SM50 | H10: =VLOOKUP(G10,CAT!$E$2:$F$26,2) -> M06 | I10: 0.026814815 | J10: 0.0026814815 | K10: VALENTINO | L10: ANGELO | M10: [0:38:36,80] | N10: ATLETICA DUGENTA | O10: 222 | P10: 45
A11: =CONCATENATE(K11,"_",L11,"_",H11) -> SINISCALCHI_LODOVICO_M04 | B11: 24 | C11: 24 | D11: M | E11: 434 | F11: 8 | G11: SM40 | H11: =VLOOKUP(G11,CAT!$E$2:$F$26,2) -> M04 | I11: 0.026909144 | J11: 0.0026909722 | K11: SINISCALCHI | L11: LODOVICO | M11: [0:38:44,95] | N11: PODISTI ALTO SANNIO | O11: 220 | P11: 42
A12: =CONCATENATE(K12,"_",L12,"_",H12) -> PILLA_EMILIANO_M03 | B12: 25 | C12: 25 | D12: M | E12: 431 | F12: 8 | G12: SM35 | H12: =VLOOKUP(G12,CAT!$E$2:$F$26,2) -> M03 | I12: 0.026946181 | J12: 0.0026945602 | K12: PILLA | L12: EMILIANO | M12: [0:38:48,15] | N12: PODISTI ALTO SANNIO | O12: =O11-1 -> 219 | P12: 37
A13: =CONCATENATE(K13,"_",L13,"_",H13) -> SABATINO_ANTONIO_M05 | B13: 30 | C13: 30 | D13: M | E13: 152 | F13: 2 | G13: SM45 | H13: =VLOOKUP(G13,CAT!$E$2:$F$26,2) -> M05 | I13: 0.027178819 | J13: 0.0027178241 | K13: SABATINO | L13: ANTONIO | M13: [0:39:08,25] | N13: TABURNO RUNNERS | O13: =O12-1 -> 218 | P13: 45
A14: =CONCATENATE(K14,"_",L14,"_",H14) -> IANNUCCI_PASQUALE_M04 | B14: 33 | C14: 33 | D14: M | E14: 49 | F14: 9 | G14: SM40 | H14: =VLOOKUP(G14,CAT!$E$2:$F$26,2) -> M04 | I14: 0.027402199 | J14: 0.0027402778 | K14: IANNUCCI | L14: PASQUALE | M14: [0:39:27,55] | N14: TELESIA RUNNING TEAM | O14: =O13-1 -> 217 | P14: 39
A15: =CONCATENATE(K15,"_",L15,"_",H15) -> DI_CERBO_LUCIANO_M07 | B15: 35 | C15: 35 | D15: M | E15: 221 | F15: 1 | G15: SM55 | H15: =VLOOKUP(G15,CAT!$E$2:$F$26,2) -> M07 | I15: 0.027417245 | J15: 0.0027417824 | K15: DI_CERBO | L15: LUCIANO | M15: [0:39:28,85] | N15: ATLETICA DUGENTA | O15: =O14-1 -> 216 | P15: 45
A16: =CONCATENATE(K16,"_",L16,"_",H16) -> RICCIARDI_ALESSANDRO_M04 | B16: 37 | C16: 37 | D16: M | E16: 270 | F16: 10 | G16: SM40 | H16: =VLOOKUP(G16,CAT!$E$2:$F$26,2) -> M04 | I16: 0.027755787 | J16: 0.0027755787 | K16: RICCIARDI | L16: ALESSANDRO | M16: [0:39:58,10] | N16: PODISMO BENEVENTO | O16: =O15-1 -> 215 | P16: 37
A17: =CONCATENATE(K17,"_",L17,"_",H17) -> SPELTRA_AMELIO_M02 | B17: 40 | C17: 40 | D17: M | E17: 436 | F17: 9 | G17: SM | H17: =VLOOKUP(G17,CAT!$E$2:$F$26,2) -> M02 | I17: 0.027984375 | J17: 0.0027984954 | K17: SPELTRA | L17: AMELIO | M17: [0:40:17,85] | N17: PODISTI ALTO SANNIO | O17: =O16-1 -> 214 | P17: 36
A18: =CONCATENATE(K18,"_",L18,"_",H18) -> TOZZI_ANTONIO_M02 | B18: 41 | C18: 41 | D18: M | E18: 437 | F18: 10 | G18: SM | H18: =VLOOKUP(G18,CAT!$E$2:$F$26,2) -> M02 | I18: 0.028104167 | J18: 0.0028104167 | K18: TOZZI | L18: ANTONIO | M18: [0:40:28,20] | N18: PODISTI ALTO SANNIO | O18: =O17-1 -> 213 | P18: 35
A19: =CONCATENATE(K19,"_",L19,"_",H19) -> LOMBARDI_DOMENICO_M04 | B19: 45 | C19: 45 | D19: M | E19: 413 | F19: 13 | G19: SM40 | H19: =VLOOKUP(G19,CAT!$E$2:$F$26,2) -> M04 | I19: 0.028252894 | J19: 0.0028253472 | K19: LOMBARDI | L19: DOMENICO | M19: [0:40:41,05] | N19: PODISTICA AVIS CAMPOBASSO | O19: =O18-1 -> 212 | P19: 36
A20: =CONCATENATE(K20,"_",L20,"_",H20) -> AMBROSINO_ALBERTO_M04 | B20: 56 | C20: 56 | D20: M | E20: 414 | F20: 16 | G20: SM40 | H20: =VLOOKUP(G20,CAT!$E$2:$F$26,2) -> M04 | I20: 0.028654514 | J20: 0.0028653935 | K20: AMBROSINO | L20: ALBERTO | M20: [0:41:15,75] | N20: PODISTI SAN GIORGIO DEL SANNIO | O20: =O19-1 -> 211 | P20: 35
A21: =CONCATENATE(K21,"_",L21,"_",H21) -> DE_MARCO_DOMENICO_M05 | B21: 59 | C21: 59 | D21: M | E21: 273 | F21: 8 | G21: SM45 | H21: =VLOOKUP(G21,CAT!$E$2:$F$26,2) -> M05 | I21: 0.028713542 | J21: 0.002871412 | K21: DE_MARCO | L21: DOMENICO | M21: [0:41:20,85] | N21: PODISTICA AVIS CAMPOBASSO | O21: =O20-1 -> 210 | P21: 42
A22: =CONCATENATE(K22,"_",L22,"_",H22) -> PIROZZOLO_DANILO_M02 | B22: 64 | C22: 62 | D22: M | E22: 269 | F22: 15 | G22: SM | H22: =VLOOKUP(G22,CAT!$E$2:$F$26,2) -> M02 | I22: 0.029063079 | J22: 0.0029063657 | K22: PIROZZOLO | L22: DANILO | M22: [0:41:51,05] | N22: PODISMO BENEVENTO | O22: =O21-1 -> 209 | P22: 34
A23: =CONCATENATE(K23,"_",L23,"_",H23) -> NAPOLITANO_LUIGI_M05 | B23: 65 | C23: 63 | D23: M | E23: 150 | F23: 9 | G23: SM45 | H23: =VLOOKUP(G23,CAT!$E$2:$F$26,2) -> M05 | I23: 0.029126157 | J23: 0.0029126157 | K23: NAPOLITANO | L23: LUIGI | M23: [0:41:56,50] | N23: TABURNO RUNNERS | O23: =O22-1 -> 208 | P23: 39
... A113: =CONCATENATE(K113,"_",L113,"_",H113) -> COLELLA_TERESA_F6 | B113: 471 | C113: 59 | D113: F | E113: 233 | F113: 7 | G113: SF50 | H113: =VLOOKUP(G113,CAT!$E$2:$F$26,2) -> F6 | I113: 0.050226273 | J113: 0.0050225694 | K113: COLELLA | L113: TERESA | M113: [1:12:19,55] | N113: TELESIA RUNNING TEAM | O113: =O112-1 -> 118 | P113: 10
A114: =CONCATENATE(K114,"_",L114,"_",H114) -> __
A115: =CONCATENATE(K115,"_",L115,"_",H115) -> __
A116: =CONCATENATE(K116,"_",L116,"_",H116) -> __
A117: =CONCATENATE(K117,"_",L117,"_",H117) -> __
A118: =CONCATENATE(K118,"_",L118,"_",H118) -> __
A119: =CONCATENATE(K119,"_",L119,"_",H119) -> __
A120: =CONCATENATE(K120,"_",L120,"_",H120) -> __
A121: =CONCATENATE(K121,"_",L121,"_",H121) -> __
A122: =CONCATENATE(K122,"_",L122,"_",H122) -> __
A123: =CONCATENATE(K123,"_",L123,"_",H123) -> __
A124: =CONCATENATE(K124,"_",L124,"_",H124) -> __
A125: =CONCATENATE(K125,"_",L125,"_",H125) -> __
A126: =CONCATENATE(K126,"_",L126,"_",H126) -> __
A127: =CONCATENATE(K127,"_",L127,"_",G127) -> __

Sheet VIII_TAPPA
B1: Pos | C1: Ps | D1: S | E1: Num | F1: PCat | G1: Cat | H1: CAT_SA | I1: Tempo | J1: Media | K1: Cognome | L1: Nome | M1: REALTIME | N1: Nome Squadra | O1: Pts | P1: PUNTI CAT
A2: =CONCATENATE(K2,"_",L2,"_",H2) -> PERONE_GIACOMO_M03 | B2: 1 | C2: 1 | D2: M | E2: 6 | F2: 1 | G2: SM35 | H2: =VLOOKUP(G2,CAT!$E$2:$F$26,2) -> M03 | I2: 0.023122106 | J2: 0.0024862269 | K2: PERONE | L2: GIACOMO | M2: [0:33:17,75] | N2: TABURNO RUNNERS | O2: 260 | P2: 45
A3: =CONCATENATE(K3,"_",L3,"_",H3) -> FALCO_ANIELLO_M03 | B3: 2 | C3: 2 | D3: M | E3: 1 | F3: 2 | G3: SM35 | H3: =VLOOKUP(G3,CAT!$E$2:$F$26,2) -> M03 | I3: 0.023311921 | J3: 0.002506713 | K3: FALCO | L3: ANIELLO | M3: [0:33:34,15] | N3: TABURNO RUNNERS | O3: 250 | P3: 42
A4: =CONCATENATE(K4,"_",L4,"_",H4) -> GORRASI_MICHELE_M02 | B4: 4 | C4: 4 | D4: M | E4: 2 | F4: 1 | G4: SM | H4: =VLOOKUP(G4,CAT!$E$2:$F$26,2) -> M02 | I4: 0.023729745 | J4: 0.0025516204 | K4: GORRASI | L4: MICHELE | M4: [0:34:10,25] | N4: SANNIO RUNNERS | O4: 240 | P4: 45
A5: =CONCATENATE(K5,"_",L5,"_",H5) -> SIMPATICO_DOMENICO_M04 | B5: 8 | C5: 8 | D5: M | E5: 7 | F5: 1 | G5: SM40 | H5: =VLOOKUP(G5,CAT!$E$2:$F$26,2) -> M04 | I5: 0.02414294 | J5: 0.0025960648 | K5: SIMPATICO | L5: DOMENICO | M5: [0:34:45,95] | N5: PODISTI ALTO SANNIO | O5: 235 | P5: 45
A6: =CONCATENATE(K6,"_",L6,"_",H6) -> NAPOLITANO_BENITO_M02 | B6: 10 | C6: 10 | D6: M | E6: 11 | F6: 2 | G6: PM | H6: =VLOOKUP(G6,CAT!$E$2:$F$26,2) -> M02 | I6: 0.024413194 | J6: 0.0026251157 | K6: NAPOLITANO | L6: BENITO | M6: [0:35:09,30] | N6: TABURNO RUNNERS | O6: 230 | P6: 42
A7: =CONCATENATE(K7,"_",L7,"_",H7) -> COLESANTO_MASSIMILIANO_M04 | B7: 11 | C7: 11 | D7: M | E7: 9 | F7: 3 | G7: SM40 | H7: =VLOOKUP(G7,CAT!$E$2:$F$26,2) -> M04 | I7: 0.024418403 | J7: 0.0026255787 | K7: COLESANTO | L7: MASSIMILIANO | M7: [0:35:09,75] | N7: SANNIO RUNNERS | O7: 228 | P7: 42
A8: =CONCATENATE(K8,"_",L8,"_",H8) -> MOLINARO_NICOLA_M06 | B8: 12 | C8: 12 | D8: M | E8: 278 | F8: 1 | G8: SM50 | H8: =VLOOKUP(G8,CAT!$E$2:$F$26,2) -> M06 | I8: 0.02447338 | J8: 0.0026315972 | K8: MOLINARO | L8: NICOLA | M8: [0:35:14,50] | N8: PODISTI ALTO SANNIO | O8: 226 | P8: 45
A9: =CONCATENATE(K9,"_",L9,"_",H9) -> PILLA_EMILIANO_M03 | B9: 13 | C9: 13 | D9: M | E9: 159 | F9: 5 | G9: SM35 | H9: =VLOOKUP(G9,CAT!$E$2:$F$26,2) -> M03 | I9: 0.024474537 | J9: 0.002631713 | K9: PILLA | L9: EMILIANO | M9: [0:35:14,60] | N9: PODISTI ALTO SANNIO | O9: 224 | P9: 39
A10: =CONCATENATE(K10,"_",L10,"_",H10) -> DAMPHA_LAMIN_M02 | B10: 14 | C10: 14 | D10: M | E10: 15 | F10: 2 | G10: SM | H10: =VLOOKUP(G10,CAT!$E$2:$F$26,2) -> M02 | I10: 0.024555556 | J10: 0.0026403935 | K10: DAMPHA | L10: LAMIN | M10: [0:35:21,60] | N10: ATLETICA DUGENTA | O10: 222 | P10: 39
A11: =CONCATENATE(K11,"_",L11,"_",H11) -> IANNUCCI_PASQUALE_M04 | B11: 15 | C11: 15 | D11: M | E11: 233 | F11: 4 | G11: SM40 | H11: =VLOOKUP(G11,CAT!$E$2:$F$26,2) -> M04 | I11: 0.024977431 | J11: 0.0026857639 | K11: IANNUCCI | L11: PASQUALE | M11: [0:35:58,05] | N11: TELESIA RUNNING TEAM | O11: 220 | P11: 39
A12: =CONCATENATE(K12,"_",L12,"_",H12) -> SINISCALCHI_LODOVICO_M04 | B12: 16 | C12: 16 | D12: M | E12: 12 | F12: 5 | G12: SM40 | H12: =VLOOKUP(G12,CAT!$E$2:$F$26,2) -> M04 | I12: 0.024999421 | J12: 0.0026880787 | K12: SINISCALCHI | L12: LODOVICO | M12: [0:35:59,95] | N12: PODISTI ALTO SANNIO | O12: =O11-1 -> 219 | P12: 37
A13: =CONCATENATE(K13,"_",L13,"_",H13) -> SABATINO_ANTONIO_M05 | B13: 18 | C13: 18 | D13: M | E13: 10 | F13: 2 | G13: SM45 | H13: =VLOOKUP(G13,CAT!$E$2:$F$26,2) -> M05 | I13: 0.025335648 | J13: 0.0027243056 | K13: SABATINO | L13: ANTONIO | M13: [0:36:29,00] | N13: TABURNO RUNNERS | O13: =O12-1 -> 218 | P13: 45
A14: =CONCATENATE(K14,"_",L14,"_",H14) -> IZZO_ARCANGELO_M05 | B14: 19 | C14: 19 | D14: M | E14: 16 | F14: 3 | G14: SM45 | H14: =VLOOKUP(G14,CAT!$E$2:$F$26,2) -> M05 | I14: 0.025354745 | J14: 0.0027262731 | K14: IZZO | L14: ARCANGELO | M14: [0:36:30,65] | N14: TABURNO RUNNERS | O14: =O13-1 -> 217 | P14: 42
A15: =CONCATENATE(K15,"_",L15,"_",H15) -> DI_CERBO_LUCIANO_M07 | B15: 21 | C15: 21 | D15: M | E15: 42 | F15: 1 | G15: SM55 | H15: =VLOOKUP(G15,CAT!$E$2:$F$26,2) -> M07 | I15: 0.025435185 | J15: 0.0027349537 | K15: DI_CERBO | L15: LUCIANO | M15: [0:36:37,60] | N15: ATLETICA DUGENTA | O15: =O14-1 -> 216 | P15: 45
A16: =CONCATENATE(K16,"_",L16,"_",H16) -> GIGLIO_GIOVANNI_M06 | B16: 23 | C16: 23 | D16: M | E16: 120 | F16: 2 | G16: SM50 | H16: =VLOOKUP(G16,CAT!$E$2:$F$26,2) -> M06 | I16: 0.025590856 | J16: 0.0027517361 | K16: GIGLIO | L16: GIOVANNI | M16: [0:36:51,05] | N16: PODISTICA AVIS CAMPOBASSO | O16: =O15-1 -> 215 | P16: 42
A17: =CONCATENATE(K17,"_",L17,"_",H17) -> LOMBARDI_DOMENICO_M04 | B17: 24 | C17: 24 | D17: M | E17: 122 | F17: 8 | G17: SM40 | H17: =VLOOKUP(G17,CAT!$E$2:$F$26,2) -> M04 | I17: 0.025738426 | J17: 0.0027675926 | K17: LOMBARDI | L17: DOMENICO | M17: [0:37:03,80] | N17: PODISTICA AVIS CAMPOBASSO | O17: =O16-1 -> 214 | P17: 36
A18: =CONCATENATE(K18,"_",L18,"_",H18) -> SPELTRA_AMELIO_M02 | B18: 26 | C18: 26 | D18: M | E18: 161 | F18: 3 | G18: SM | H18: =VLOOKUP(G18,CAT!$E$2:$F$26,2) -> M02 | I18: 0.025815972 | J18: 0.0027759259 | K18: SPELTRA | L18: AMELIO | M18: [0:37:10,50] | N18: PODISTI ALTO SANNIO | O18: =O17-1 -> 213 | P18: 37
A19: =CONCATENATE(K19,"_",L19,"_",H19) -> RICCIARDI_ALESSANDRO_M04 | B19: 27 | C19: 27 | D19: M | E19: 113 | F19: 9 | G19: SM40 | H19: =VLOOKUP(G19,CAT!$E$2:$F$26,2) -> M04 | I19: 0.025834491 | J19: 0.0027778935 | K19: RICCIARDI | L19: ALESSANDRO | M19: [0:37:12,10] | N19: PODISMO BENEVENTO | O19: =O18-1 -> 212 | P19: 35
A20: =CONCATENATE(K20,"_",L20,"_",H20) -> TOZZI_ANTONIO_M02 | B20: 28 | C20: 28 | D20: M | E20: 163 | F20: 4 | G20: SM | H20: =VLOOKUP(G20,CAT!$E$2:$F$26,2) -> M02 | I20: 0.025840856 | J20: 0.002778588 | K20: TOZZI | L20: ANTONIO | M20: [0:37:12,65] | N20: PODISTI ALTO SANNIO | O20: =O19-1 -> 211 | P20: 36
A21: =CONCATENATE(K21,"_",L21,"_",H21) -> CERULO_ETTORE_M03 | B21: 31 | C21: 31 | D21: M | E21: 220 | F21: 8 | G21: SM35 | H21: =VLOOKUP(G21,CAT!$E$2:$F$26,2) -> M03 | I21: 0.025979745 | J21: 0.0027935185 | K21: CERULO | L21: ETTORE | M21: [0:37:24,65] | N21: PODISTI ALTO SANNIO | O21: =O20-1 -> 210 | P21: 37
A22: =CONCATENATE(K22,"_",L22,"_",H22) -> AMBROSINO_ALBERTO_M04 | B22: 36 | C22: 36 | D22: M | E22: 137 | F22: 11 | G22: SM40 | H22: =VLOOKUP(G22,CAT!$E$2:$F$26,2) -> M04 | I22: 0.026718171 | J22: 0.0028729167 | K22: AMBROSINO | L22: ALBERTO | M22: [0:38:28,45] | N22: PODISTI SAN GIORGIO DEL SANNIO | O22: =O21-1 -> 209 | P22: 34
A23: =CONCATENATE(K23,"_",L23,"_",H23) -> INGLESE_LUCA_M03 | B23: 37 | C23: 37 | D23: M | E23: 149 | F23: 10 | G23: SM35 | H23: =VLOOKUP(G23,CAT!$E$2:$F$26,2) -> M03 | I23: 0.026754051 | J23: 0.0028767361 | K23: INGLESE | L23: LUCA | M23: [0:38:31,55] | N23: PODISTI ALTO SANNIO | O23: =O22-1 -> 208 | P23: 36
... A127: =CONCATENATE(K127,"_",L127,"_",H127) -> CATILLO_LORENZO_M05 | B127: 267 | C127: 228 | D127: M | E127: 105 | F127: 47 | G127: SM45 | H127: =VLOOKUP(G127,CAT!$E$2:$F$26,2) -> M05 | I127: 0.041863426 | J127: 0.0045013889 | K127: CATILLO | L127: LORENZO | M127: [1:00:17,00] | N127: PODISMO BENEVENTO | O127: =O126-1 -> 104 | P127: 21

Sheet Societa
A1: POS | B1: SOCIETA' | C1: 1° TAPPA | E1: 2° TAPPA | G1: 3° TAPPA | I1: 4° TAPPA | K1: 5° TAPPA | M1: 6° TAPPA | O1: 7° TAPPA | Q1: 8° TAPPA | S1: TOTALE PROGRESSIVO
C2: Atleti | D2: Punti | E2: Atleti | F2: Punti | G2: Atleti | H2: Punti | I2: Atleti | J2: Punti | K2: Atleti | L2: Punti | M2: Atleti | N2: Punti | O2: Atleti | P2: Punti | Q2: Atleti | R2: Punti | S2: Punti
A3: 1 | B3: PODISTI ALTO SANNIO | C3: =COUNTIF(I_TAPPA!N:N,B3) -> 29 | D3: =SUMIF(I_TAPPA!N:N,B3,I_TAPPA!O:O) -> 5386 | E3: =COUNTIF(II_TAPPA!N:N,B3) -> 48 | F3: =SUMIF(II_TAPPA!N:N,B3,II_TAPPA!O:O) -> 7847 | G3: =COUNTIF(III_TAPPA!N:N,B3) -> 33 | H3: =SUMIF(III_TAPPA!N:N,B3,III_TAPPA!O:O) -> 5512 | I3: =COUNTIF(IV_TAPPA!R:R,B3) -> 43 | K3: =COUNTIF(V_TAPPA!N:N,B3) -> 34 | M3: =COUNTIF(VI_TAPPA!N:N,B3) -> 29 | O3: =COUNTIF(VII_TAPPA!N:N,B3) -> 42 | Q3: =COUNTIF(VIII_TAPPA!N:N,B3) -> 51 | S3: =SUM(D3+F3+H3+J3+L3+N3+R3+P3) -> 18745 | T3: =C3+E3+G3+I3+K3+M3+O3+Q3 -> 309
A4: 2 | B4: TELESIA RUNNING TEAM | C4: =COUNTIF(I_TAPPA!N:N,B4) -> 19 | D4: =SUMIF(I_TAPPA!N:N,B4,I_TAPPA!O:O) -> 3491 | E4: =COUNTIF(II_TAPPA!N:N,B4) -> 29 | F4: =SUMIF(II_TAPPA!N:N,B4,II_TAPPA!O:O) -> 4675 | G4: =COUNTIF(III_TAPPA!N:N,B4) -> 19 | H4: =SUMIF(III_TAPPA!N:N,B4,III_TAPPA!O:O) -> 3352 | I4: =COUNTIF(IV_TAPPA!R:R,B4) -> 62 | K4: =COUNTIF(V_TAPPA!N:N,B4) -> 19 | M4: =COUNTIF(VI_TAPPA!N:N,B4) -> 27 | O4: =COUNTIF(VII_TAPPA!N:N,B4) -> 30 | Q4: =COUNTIF(VIII_TAPPA!N:N,B4) -> 25 | S4: =SUM(D4+F4+H4+J4+L4+N4+R4+P4) -> 11518 | T4: =C4+E4+G4+I4+K4+M4+O4+Q4 -> 230
A5: 3 | B5: PODISTICA AVIS CAMPOBASSO | C5: =COUNTIF(I_TAPPA!N:N,B5) -> 9 | D5: =SUMIF(I_TAPPA!N:N,B5,I_TAPPA!O:O) -> 1750 | E5: =COUNTIF(II_TAPPA!N:N,B5) -> 8 | F5: =SUMIF(II_TAPPA!N:N,B5,II_TAPPA!O:O) -> 1552 | G5: =COUNTIF(III_TAPPA!N:N,B5) -> 30 | H5: =SUMIF(III_TAPPA!N:N,B5,III_TAPPA!O:O) -> 5106 | I5: =COUNTIF(IV_TAPPA!R:R,B5) -> 13 | K5: =COUNTIF(V_TAPPA!N:N,B5) -> 9 | M5: =COUNTIF(VI_TAPPA!N:N,B5) -> 10 | O5: =COUNTIF(VII_TAPPA!N:N,B5) -> 4 | Q5: =COUNTIF(VIII_TAPPA!N:N,B5) -> 7 | S5: =SUM(D5+F5+H5+J5+L5+N5+R5+P5) -> 8408 | T5: =C5+E5+G5+I5+K5+M5+O5+Q5 -> 90
A6: 4 | B6: PODISMO BENEVENTO | C6: =COUNTIF(I_TAPPA!N:N,B6) -> 8 | D6: =SUMIF(I_TAPPA!N:N,B6,I_TAPPA!O:O) -> 1518 | E6: =COUNTIF(II_TAPPA!N:N,B6) -> 11 | F6: =SUMIF(II_TAPPA!N:N,B6,II_TAPPA!O:O) -> 1590 | G6: =COUNTIF(III_TAPPA!N:N,B6) -> 16 | H6: =SUMIF(III_TAPPA!N:N,B6,III_TAPPA!O:O) -> 2594 | I6: =COUNTIF(IV_TAPPA!R:R,B6) -> 17 | K6: =COUNTIF(V_TAPPA!N:N,B6) -> 5 | M6: =COUNTIF(VI_TAPPA!N:N,B6) -> 12 | O6: =COUNTIF(VII_TAPPA!N:N,B6) -> 8 | Q6: =COUNTIF(VIII_TAPPA!N:N,B6) -> 13 | S6: =SUM(D6+F6+H6+J6+L6+N6+R6+P6) -> 5702 | T6: =C6+E6+G6+I6+K6+M6+O6+Q6 -> 90
