Workbook

Sheet OMONIMI
A1: DI CAPRIO GIUSEPPE | C1: SM45
C2: SM60
A4: D'ONOFRIO MICHELE | C4: SM40
C5: SM60
A7: LIVERINI FILIPPO | C7: SM
C8: SM35
C9: SM55
A11: VALENTINO ALFONSO | C11: PM
C12: SM50
A16: doppio tesseramento
A18: COLUCCI FRANCESCO
A20: CUZZUPE' MAURIZIO
A22: LANZALONE ANDREA

Sheet I_TAPPA
B1: Pos | C1: Ps | D1: S | E1: Num | F1: PCat | G1: Cat | H1: CAT_SA | I1: Tempo | J1: Media | K1: Cognome | L1: Nome | M1: REALTIME | N1: Nome Squadra | O1: Pts | P1: PUNTI CAT
A2: =CONCATENATE(K2,"_",L2,"_",H2) -> PERONE_GIACOMO_M03 | B2: 1 | G2: SM35 | H2: =VLOOKUP(G2,CAT!$E$2:$F$26,2) -> M03 | K2: PERONE | L2: GIACOMO | M2: 00:36:05:53 | N2: TABURNO RUNNERS | O2: 260 | P2: 45
A3: =CONCATENATE(K3,"_",L3,"_",H3) -> GORRASI_MICHELE_M02 | B3: 2 | G3: SM | H3: =VLOOKUP(G3,CAT!$E$2:$F$26,2) -> M02 | K3: GORRASI | L3: MICHELE | M3: 00:36:39:26 | N3: SANNIO RUNNERS | O3: 250 | P3: 45
A4: =CONCATENATE(K4,"_",L4,"_",H4) -> IAMONACO_GIUSEPPE_M06 | B4: =B3+1 -> 3 | G4: SM50 | H4: =VLOOKUP(G4,CAT!$E$2:$F$26,2) -> M06 | K4: IAMONACO | L4: GIUSEPPE | M4: 00:37:55:14 | N4: PODISTICA AVIS CAMPOBASSO | O4: 240 | P4: 45
A5: =CONCATENATE(K5,"_",L5,"_",H5) -> CAPONE_ANGELO_RAFFAELE_M02 | B5: =B4+1 -> 4 | G5: SM | H5: =VLOOKUP(G5,CAT!$E$2:$F$26,2) -> M02 | K5: CAPONE | L5: ANGELO_RAFFAELE | M5: 00:38:24:28 | N5: TELESIA RUNNING TEAM | O5: 235 | P5: 42
A6: =CONCATENATE(K6,"_",L6,"_",H6) -> COLESANTO_MASSIMILIANO_M04 | B6: =B5+1 -> 5 | G6: SM40 | H6: =VLOOKUP(G6,CAT!$E$2:$F$26,2) -> M04 | K6: COLESANTO | L6: MASSIMILIANO | M6: 00:38:32:11 | N6: SANNIO RUNNERS | O6: 230 | P6: 45
A7: =CONCATENATE(K7,"_",L7,"_",H7) -> SIMPATICO_DOMENICO_M04 | B7: =B6+1 -> 6 | G7: SM40 | H7: =VLOOKUP(G7,CAT!$E$2:$F$26,2) -> M04 | K7: SIMPATICO | L7: DOMENICO | M7: 00:38:49:78 | N7: PODISTI ALTO SANNIO | O7: 228 | P7: 42
A8: =CONCATENATE(K8,"_",L8,"_",H8) -> SINISCALCHI_LODOVICO_M04 | B8: =B7+1 -> 7 | G8: SM40 | H8: =VLOOKUP(G8,CAT!$E$2:$F$26,2) -> M04 | K8: SINISCALCHI | L8: LODOVICO | M8: 00:39:36:14 | N8: PODISTI ALTO SANNIO | O8: 226 | P8: 39
A9: =CONCATENATE(K9,"_",L9,"_",H9) -> DI_CERBO_LUCIANO_M07 | B9: =B8+1 -> 8 | G9: SM55 | H9: =VLOOKUP(G9,CAT!$E$2:$F$26,2) -> M07 | K9: DI_CERBO | L9: LUCIANO | M9: 00:39:41:92 | N9: ATLETICA DUGENTA | O9: 224 | P9: 45
A10: =CONCATENATE(K10,"_",L10,"_",H10) -> PILLA_EMILIANO_M03 | B10: =B9+1 -> 9 | G10: SM35 | H10: =VLOOKUP(G10,CAT!$E$2:$F$26,2) -> M03 | K10: PILLA | L10: EMILIANO | M10: 00:39:52:26 | N10: PODISTI ALTO SANNIO | O10: 222 | P10: 42
A11: =CONCATENATE(K11,"_",L11,"_",H11) -> CERULO_ETTORE_M03 | B11: =B10+1 -> 10 | G11: SM35 | H11: =VLOOKUP(G11,CAT!$E$2:$F$26,2) -> M03 | K11: CERULO | L11: ETTORE | M11: 00:40:26:74 | N11: PODISTI ALTO SANNIO | O11: 220 | P11: 39
A12: =CONCATENATE(K12,"_",L12,"_",H12) -> IANNUCCI_PASQUALE_M04 | B12: =B11+1 -> 11 | G12: SM40 | H12: =VLOOKUP(G12,CAT!$E$2:$F$26,2) -> M04 | K12: IANNUCCI | L12: PASQUALE | M12: 00:40:32:74 | N12: TELESIA RUNNING TEAM | O12: =O11-1 -> 219 | P12: 37
A13: =CONCATENATE(K13,"_",L13,"_",H13) -> SPELTRA_AMELIO_M02 | B13: =B12+1 -> 12 | G13: SM | H13: =VLOOKUP(G13,CAT!$E$2:$F$26,2) -> M02 | K13: SPELTRA | L13: AMELIO | M13: 00:41:01:71 | N13: PODISTI ALTO SANNIO | O13: =O12-1 -> 218 | P13: 39
A14: =CONCATENATE(K14,"_",L14,"_",H14) -> DE_MARCO_DOMENICO_M05 | B14: =B13+1 -> 13 | G14: SM45 | H14: =VLOOKUP(G14,CAT!$E$2:$F$26,2) -> M05 | K14: DE_MARCO | L14: DOMENICO | M14: 00:41:11:77 | N14: PODISTICA AVIS CAMPOBASSO | O14: =O13-1 -> 217 | P14: 45
A15: =CONCATENATE(K15,"_",L15,"_",H15) -> RICCIARDI_ALESSANDRO_M04 | B15: =B14+1 -> 14 | G15: SM40 | H15: =VLOOKUP(G15,CAT!$E$2:$F$26,2) -> M04 | K15: RICCIARDI | L15: ALESSANDRO | M15: 00:41:20:46 | N15: PODISMO BENEVENTO | O15: =O14-1 -> 216 | P15: 36
A16: =CONCATENATE(K16,"_",L16,"_",H16) -> PIROZZOLO_DANILO_M02 | B16: =B15+1 -> 15 | G16: SM | H16: =VLOOKUP(G16,CAT!$E$2:$F$26,2) -> M02 | K16: PIROZZOLO | L16: DANILO | M16: 00:41:20:88 | N16: PODISMO BENEVENTO | O16: =O15-1 -> 215 | P16: 37
A17: =CONCATENATE(K17,"_",L17,"_",H17) -> TOZZI_ANTONIO_M02 | B17: =B16+1 -> 16 | G17: SM | H17: =VLOOKUP(G17,CAT!$E$2:$F$26,2) -> M02 | K17: TOZZI | L17: ANTONIO | M17: 00:41:26:81 | N17: PODISTI ALTO SANNIO | O17: =O16-1 -> 214 | P17: 36
A18: =CONCATENATE(K18,"_",L18,"_",H18) -> GRASSO_ANGELO_M02 | B18: =B17+1 -> 17 | G18: SM | H18: =VLOOKUP(G18,CAT!$E$2:$F$26,2) -> M02 | K18: GRASSO | L18: ANGELO | M18: 00:41:44:33 | N18: SANNIO RUNNERS | O18: =O17-1 -> 213 | P18: 35
A19: =CONCATENATE(K19,"_",L19,"_",H19) -> LOMBARDI_DOMENICO_M04 | B19: =B18+1 -> 18 | G19: SM40 | H19: =VLOOKUP(G19,CAT!$E$2:$F$26,2) -> M04 | K19: LOMBARDI | L19: DOMENICO | M19: 00:41:59:79 | N19: PODISTICA AVIS CAMPOBASSO | O19: =O18-1 -> 212 | P19: 35
A20: =CONCATENATE(K20,"_",L20,"_",H20) -> TARANTINO_GIANLUIGI_M05 | B20: =B19+1 -> 19 | G20: SM45 | H20: =VLOOKUP(G20,CAT!$E$2:$F$26,2) -> M05 | K20: TARANTINO | L20: GIANLUIGI | M20: 00:43:09:82 | N20: SANNIO RUNNERS | O20: =O19-1 -> 211 | P20: 42
A21: =CONCATENATE(K21,"_",L21,"_",H21) -> FERRI_LEUCIO_M06 | B21: =B20+1 -> 20 | G21: SM50 | H21: =VLOOKUP(G21,CAT!$E$2:$F$26,2) -> M06 | K21: FERRI | L21: LEUCIO | M21: 00:43:27:01 | N21: PODISTI ALTO SANNIO | O21: =O20-1 -> 210 | P21: 42
A22: =CONCATENATE(K22,"_",L22,"_",H22) -> INGLESE_LUCA_M03 | B22: =B21+1 -> 21 | G22: SM35 | H22: =VLOOKUP(G22,CAT!$E$2:$F$26,2) -> M03 | K22: INGLESE | L22: LUCA | M22: 00:43:27:79 | N22: PODISTI ALTO SANNIO | O22: =O21-1 -> 209 | P22: 37
A23: =CONCATENATE(K23,"_",L23,"_",H23) -> CAROLLA_ANTONIO_M07 | B23: =B22+1 -> 22 | G23: SM55 | H23: =VLOOKUP(G23,CAT!$E$2:$F$26,2) -> M07 | K23: CAROLLA | L23: ANTONIO | M23: 00:43:46:03 | N23: TELESIA RUNNING TEAM | O23: =O22-1 -> 208 | P23: 42
... A85: =CONCATENATE(K85,"_",L85,"_",H85) -> BOSCOTRECASE_CLAUDIO_M10 | B85: =B84+1 -> 84 | G85: SM70 | H85: =VLOOKUP(G85,CAT!$E$2:$F$26,2) -> M10 | K85: BOSCOTRECASE | L85: CLAUDIO | M85: 01:10:04:29 | N85: TELESIA RUNNING TEAM | O85: =O84-1 -> 146 | P85: 42
A128: =CONCATENATE(K128,"_",L128,"_",G128) -> __

Sheet II_TAPPA
B1: Pos | C1: Ps | D1: S | E1: Num | F1: PCat | G1: Cat | H1: CAT_SA | I1: Tempo | J1: Media | K1: Cognome | L1: Nome | M1: REALTIME | N1: Nome Squadra | O1: Pts | P1: PUNTI CAT
A2: =CONCATENATE(K2,"_",L2,"_",H2) -> GORRASI_MICHELE_M02 | B2: 1 | D2: M | E2: 100 | F2: 1 | G2: SM | H2: =VLOOKUP(G2,CAT!$E$2:$F$26,2) -> M02 | K2: GORRASI | L2: MICHELE | M2: 00:33:19:17 | N2: SANNIO RUNNERS | O2: 260 | P2: 45
A3: =CONCATENATE(K3,"_",L3,"_",H3) -> FALCO_ANIELLO_M03 | B3: 2 | D3: M | E3: 104 | F3: 1 | G3: SM35 | H3: =VLOOKUP(G3,CAT!$E$2:$F$26,2) -> M03 | K3: FALCO | L3: ANIELLO | M3: 00:33:34:56 | N3: TABURNO RUNNERS | O3: 250 | P3: 45
A4: =CONCATENATE(K4,"_",L4,"_",H4) -> PERONE_GIACOMO_M03 | B4: =B3+1 -> 3 | D4: M | E4: 113 | F4: 2 | G4: SM35 | H4: =VLOOKUP(G4,CAT!$E$2:$F$26,2) -> M03 | K4: PERONE | L4: GIACOMO | M4: 00:34:51:74 | N4: TABURNO RUNNERS | O4: 240 | P4: 42
A5: =CONCATENATE(K5,"_",L5,"_",H5) -> VOLPACCHIO_NICOLA_M05 | B5: =B4+1 -> 4 | D5: M | E5: 171 | F5: 1 | G5: SM45 | H5: =VLOOKUP(G5,CAT!$E$2:$F$26,2) -> M05 | K5: VOLPACCHIO | L5: NICOLA | M5: 00:35:06:50 | N5: PODISTICA AVIS CAMPOBASSO | O5: 235 | P5: 45
A6: =CONCATENATE(K6,"_",L6,"_",H6) -> MOLINARO_NICOLA_M06 | B6: =B5+1 -> 5 | D6: M | E6: 68 | F6: 1 | G6: SM50 | H6: =VLOOKUP(G6,CAT!$E$2:$F$26,2) -> M06 | K6: MOLINARO | L6: NICOLA | M6: 00:35:48:52 | N6: PODISTI ALTO SANNIO | O6: 230 | P6: 45
A7: =CONCATENATE(K7,"_",L7,"_",H7) -> SIMPATICO_DOMENICO_M04 | B7: =B6+1 -> 6 | D7: M | E7: 81 | F7: 1 | G7: SM40 | H7: =VLOOKUP(G7,CAT!$E$2:$F$26,2) -> M04 | K7: SIMPATICO | L7: DOMENICO | M7: 00:35:53:64 | N7: PODISTI ALTO SANNIO | O7: 228 | P7: 45
A8: =CONCATENATE(K8,"_",L8,"_",H8) -> CAPONE_ANGELO_RAFFAELE_M02 | B8: =B7+1 -> 7 | D8: M | E8: 132 | F8: 2 | G8: SM | H8: =VLOOKUP(G8,CAT!$E$2:$F$26,2) -> M02 | K8: CAPONE | L8: ANGELO_RAFFAELE | M8: 00:36:07:16 | N8: TELESIA RUNNING TEAM | O8: 226 | P8: 42
A9: =CONCATENATE(K9,"_",L9,"_",H9) -> COLESANTO_MASSIMILIANO_M04 | B9: =B8+1 -> 8 | D9: M | E9: 97 | F9: 2 | G9: SM40 | H9: =VLOOKUP(G9,CAT!$E$2:$F$26,2) -> M04 | K9: COLESANTO | L9: MASSIMILIANO | M9: 00:36:57:92 | N9: SANNIO RUNNERS | O9: 224 | P9: 42
A10: =CONCATENATE(K10,"_",L10,"_",H10) -> GRASSO_ANGELO_M02 | B10: =B9+1 -> 9 | D10: M | E10: 101 | F10: 3 | G10: SM | H10: =VLOOKUP(G10,CAT!$E$2:$F$26,2) -> M02 | K10: GRASSO | L10: ANGELO | M10: 00:36:58:50 | N10: SANNIO RUNNERS | O10: 222 | P10: 39
A11: =CONCATENATE(K11,"_",L11,"_",H11) -> SABATINO_ANTONIO_M05 | B11: =B10+1 -> 10 | D11: M | E11: 117 | F11: 2 | G11: SM45 | H11: =VLOOKUP(G11,CAT!$E$2:$F$26,2) -> M05 | K11: SABATINO | L11: ANTONIO | M11: 00:37:09:59 | N11: TABURNO RUNNERS | O11: 220 | P11: 42
A12: =CONCATENATE(K12,"_",L12,"_",H12) -> CAPPUCCIO_MILANINO_M04 | B12: =B11+1 -> 11 | D12: M | E12: 133 | F12: 3 | G12: SM40 | H12: =VLOOKUP(G12,CAT!$E$2:$F$26,2) -> M04 | K12: CAPPUCCIO | L12: MILANINO | M12: 00:37:23:22 | N12: TELESIA RUNNING TEAM | O12: =O11-1 -> 219 | P12: 39
A13: =CONCATENATE(K13,"_",L13,"_",H13) -> DI_CERBO_LUCIANO_M07 | B13: =B12+1 -> 12 | D13: M | E13: 172 | F13: 1 | G13: SM55 | H13: =VLOOKUP(G13,CAT!$E$2:$F$26,2) -> M07 | K13: DI_CERBO | L13: LUCIANO | M13: 00:37:38:19 | N13: ATLETICA DUGENTA | O13: =O12-1 -> 218 | P13: 45
A14: =CONCATENATE(K14,"_",L14,"_",H14) -> IZZO_ARCANGELO_M05 | B14: =B13+1 -> 13 | D14: M | E14: 108 | F14: 3 | G14: SM45 | H14: =VLOOKUP(G14,CAT!$E$2:$F$26,2) -> M05 | K14: IZZO | L14: ARCANGELO | M14: 00:37:41:34 | N14: TABURNO RUNNERS | O14: =O13-1 -> 217 | P14: 39
A15: =CONCATENATE(K15,"_",L15,"_",H15) -> DE_CICCO_ALESSANDRO_M02 | B15: =B14+1 -> 14 | D15: M | E15: 143 | F15: 4 | G15: SM | H15: =VLOOKUP(G15,CAT!$E$2:$F$26,2) -> M02 | K15: DE_CICCO | L15: ALESSANDRO | M15: 00:37:53:53 | N15: TELESIA RUNNING TEAM | O15: =O14-1 -> 216 | P15: 37
A16: =CONCATENATE(K16,"_",L16,"_",H16) -> PILLA_EMILIANO_M03 | B16: =B15+1 -> 15 | D16: M | E16: 75 | F16: 3 | G16: SM35 | H16: =VLOOKUP(G16,CAT!$E$2:$F$26,2) -> M03 | K16: PILLA | L16: EMILIANO | M16: 00:38:34:43 | N16: PODISTI ALTO SANNIO | O16: =O15-1 -> 215 | P16: 39
A17: =CONCATENATE(K17,"_",L17,"_",H17) -> SINISCALCHI_LODOVICO_M04 | B17: =B16+1 -> 16 | D17: M | E17: 82 | F17: 4 | G17: SM40 | H17: =VLOOKUP(G17,CAT!$E$2:$F$26,2) -> M04 | K17: SINISCALCHI | L17: LODOVICO | M17: 00:38:35:86 | N17: PODISTI ALTO SANNIO | O17: =O16-1 -> 214 | P17: 37
A18: =CONCATENATE(K18,"_",L18,"_",H18) -> AMBROSINO_ALBERTO_M04 | B18: =B17+1 -> 17 | D18: M | E18: 43 | F18: 5 | G18: SM40 | H18: =VLOOKUP(G18,CAT!$E$2:$F$26,2) -> M04 | K18: AMBROSINO | L18: ALBERTO | M18: 00:38:44:47 | N18: PODISTI SAN GIORGIO DEL SANNIO | O18: =O17-1 -> 213 | P18: 36
A19: =CONCATENATE(K19,"_",L19,"_",H19) -> LOMBARDI_DOMENICO_M04 | B19: =B18+1 -> 18 | D19: M | E19: 162 | F19: 6 | G19: SM40 | H19: =VLOOKUP(G19,CAT!$E$2:$F$26,2) -> M04 | K19: LOMBARDI | L19: DOMENICO | M19: 00:38:47:91 | N19: PODISTICA AVIS CAMPOBASSO | O19: =O18-1 -> 212 | P19: 35
A20: =CONCATENATE(K20,"_",L20,"_",H20) -> CERULO_ETTORE_M03 | B20: =B19+1 -> 19 | D20: M | E20: 50 | F20: 4 | G20: SM35 | H20: =VLOOKUP(G20,CAT!$E$2:$F$26,2) -> M03 | K20: CERULO | L20: ETTORE | M20: 00:38:51:73 | N20: PODISTI ALTO SANNIO | O20: =O19-1 -> 211 | P20: 37
A21: =CONCATENATE(K21,"_",L21,"_",H21) -> SPELTRA_AMELIO_M02 | B21: =B20+1 -> 20 | D21: M | E21: 84 | F21: 5 | G21: SM | H21: =VLOOKUP(G21,CAT!$E$2:$F$26,2) -> M02 | K21: SPELTRA | L21: AMELIO | M21: 00:38:54:87 | N21: PODISTI ALTO SANNIO | O21: =O20-1 -> 210 | P21: 36
A22: =CONCATENATE(K22,"_",L22,"_",H22) -> DE_MARCO_DOMENICO_M05 | B22: =B21+1 -> 21 | D22: M | E22: 166 | F22: 4 | G22: SM45 | H22: =VLOOKUP(G22,CAT!$E$2:$F$26,2) -> M05 | K22: DE_MARCO | L22: DOMENICO | M22: 00:38:58:56 | N22: PODISTICA AVIS CAMPOBASSO | O22: =O21-1 -> 209 | P22: 37
A23: =CONCATENATE(K23,"_",L23,"_",H23) -> RICCIARDI_ALESSANDRO_M04 | B23: =B22+1 -> 22 | D23: M | E23: 183 | F23: 7 | G23: SM40 | H23: =VLOOKUP(G23,CAT!$E$2:$F$26,2) -> M04 | K23: RICCIARDI | L23: ALESSANDRO | M23: 00:39:04:27 | N23: PODISMO BENEVENTO | O23: =O22-1 -> 208 | P23: 34
... A127: =CONCATENATE(K127,"_",L127,"_",H127) -> MARTONE_MARIA_F4 | B127: =B126+1 -> 126 | D127: F | E127: 181 | F127: 4 | G127: SF40 | H127: =VLOOKUP(G127,CAT!$E$2:$F$26,2) -> F4 | K127: MARTONE | L127: MARIA | M127: 01:06:38:44 | N127: PODISMO BENEVENTO | O127: =O126-1 -> 104 | P127: 7
A128: =CONCATENATE(K128,"_",L128,"_",G128) -> __

Sheet III_TAPPA
B1: Pos | C1: Ps | D1: S | E1: Num | F1: PCat | G1: Cat | H1: CAT_SA | I1: Tempo | J1: Media | K1: Cognome | L1: Nome | M1: REALTIME | N1: Nome Squadra | O1: Pts | P1: PUNTI CAT
A2: =CONCATENATE(K2,"_",H2) -> GORRASI_MICHELE_M02 | B2: 1 | G2: SM | H2: =VLOOKUP(G2,CAT!$E$2:$F$26,2) -> M02 | I2: 00.34.07 | K2: GORRASI_MICHELE | N2: SANNIO RUNNERS | O2: 260 | P2: 45
A3: =CONCATENATE(K3,"_",H3) -> FALCO_ANIELLO_M03 | B3: =B2+1 -> 2 | G3: SM35 | H3: =VLOOKUP(G3,CAT!$E$2:$F$26,2) -> M03 | I3: 00.34.23 | K3: FALCO_ANIELLO | N3: TABURNO RUNNERS | O3: 250 | P3: 45
A4: =CONCATENATE(K4,"_",H4) -> PERONE_GIACOMO_M03 | B4: =B3+1 -> 3 | G4: SM35 | H4: =VLOOKUP(G4,CAT!$E$2:$F$26,2) -> M03 | I4: 00.35.50 | K4: PERONE_GIACOMO | N4: TABURNO RUNNERS | O4: 240 | P4: 42
A5: =CONCATENATE(K5,"_",H5) -> VOLPACCHIO_NICOLA_M05 | B5: =B4+1 -> 4 | G5: SM45 | H5: =VLOOKUP(G5,CAT!$E$2:$F$26,2) -> M05 | I5: 00.36.05 | K5: VOLPACCHIO_NICOLA | N5: PODISTICA AVIS CAMPOBASSO | O5: 235 | P5: 45
A6: =CONCATENATE(K6,"_",H6) -> MIGNOGNA_SILVANO_M04 | B6: =B5+1 -> 5 | G6: SM40 | H6: =VLOOKUP(G6,CAT!$E$2:$F$26,2) -> M04 | I6: 00.36.05 | K6: MIGNOGNA_SILVANO | N6: PODISTICA AVIS CAMPOBASSO | O6: 230 | P6: 45
A7: =CONCATENATE(K7,"_",H7) -> GRASSO_ANGELO_M02 | B7: =B6+1 -> 6 | G7: SM | H7: =VLOOKUP(G7,CAT!$E$2:$F$26,2) -> M02 | I7: 00.36.18 | K7: GRASSO_ANGELO | N7: SANNIO RUNNERS | O7: 228 | P7: 42
A8: =CONCATENATE(K8,"_",H8) -> COLESANTO_MASSIMILIANO_M04 | B8: =B7+1 -> 7 | G8: SM40 | H8: =VLOOKUP(G8,CAT!$E$2:$F$26,2) -> M04 | I8: 00.36.57 | K8: COLESANTO_MASSIMILIANO | N8: SANNIO RUNNERS | O8: 226 | P8: 42
A9: =CONCATENATE(K9,"_",H9) -> GIGLIO_GIOVANNI_M06 | B9: =B8+1 -> 8 | G9: SM50 | H9: =VLOOKUP(G9,CAT!$E$2:$F$26,2) -> M06 | I9: 00.37.17 | K9: GIGLIO_GIOVANNI | N9: PODISTICA AVIS CAMPOBASSO | O9: 224 | P9: 45
A10: =CONCATENATE(K10,"_",H10) -> PILLA_EMILIANO_M03 | B10: =B9+1 -> 9 | G10: SM35 | H10: =VLOOKUP(G10,CAT!$E$2:$F$26,2) -> M03 | I10: 00.37.58 | K10: PILLA_EMILIANO | N10: PODISTI ALTO SANNIO | O10: 222 | P10: 39
A11: =CONCATENATE(K11,"_",H11) -> CAPONE_ANGELO_RAFFAELE_M02 | B11: =B10+1 -> 10 | G11: SM | H11: =VLOOKUP(G11,CAT!$E$2:$F$26,2) -> M02 | I11: 00.38.31 | K11: CAPONE_ANGELO_RAFFAELE | N11: TELESIA RUNNING TEAM | O11: 220 | P11: 39
A12: =CONCATENATE(K12,"_",H12) -> IANNUCCI_PASQUALE_M04 | B12: =B11+1 -> 11 | G12: SM40 | H12: =VLOOKUP(G12,CAT!$E$2:$F$26,2) -> M04 | I12: 00.38.42 | K12: IANNUCCI_PASQUALE | N12: TELESIA RUNNING TEAM | O12: =O11-1 -> 219 | P12: 39
A13: =CONCATENATE(K13,"_",H13) -> LOMBARDI_DOMENICO_M04 | B13: =B12+1 -> 12 | G13: SM40 | H13: =VLOOKUP(G13,CAT!$E$2:$F$26,2) -> M04 | I13: 00.38.59 | K13: LOMBARDI_DOMENICO | N13: PODISTICA AVIS CAMPOBASSO | O13: =O12-1 -> 218 | P13: 37
A14: =CONCATENATE(K14,"_",H14) -> SINISCALCHI_LODOVICO_M04 | B14: =B13+1 -> 13 | G14: SM40 | H14: =VLOOKUP(G14,CAT!$E$2:$F$26,2) -> M04 | I14: 00.38.59 | K14: SINISCALCHI_LODOVICO | N14: PODISTI ALTO SANNIO | O14: =O13-1 -> 217 | P14: 36
A15: =CONCATENATE(K15,"_",H15) -> CERULO_ETTORE_M03 | B15: =B14+1 -> 14 | G15: SM35 | H15: =VLOOKUP(G15,CAT!$E$2:$F$26,2) -> M03 | I15: 00.39.00 | K15: CERULO_ETTORE | N15: PODISTI ALTO SANNIO | O15: =O14-1 -> 216 | P15: 37
A16: =CONCATENATE(K16,"_",H16) -> DE_MARCO_DOMENICO_M05 | B16: =B15+1 -> 15 | G16: SM45 | H16: =VLOOKUP(G16,CAT!$E$2:$F$26,2) -> M05 | I16: 00.39.00 | K16: DE_MARCO_DOMENICO | N16: PODISTICA AVIS CAMPOBASSO | O16: =O15-1 -> 215 | P16: 42
A17: =CONCATENATE(K17,"_",H17) -> SPELTRA_AMELIO_M02 | B17: =B16+1 -> 16 | G17: SM | H17: =VLOOKUP(G17,CAT!$E$2:$F$26,2) -> M02 | I17: 00.39.02 | K17: SPELTRA_AMELIO | N17: PODISTI ALTO SANNIO | O17: =O16-1 -> 214 | P17: 37
A18: =CONCATENATE(K18,"_",H18) -> DI_CERBO_LUCIANO_M07 | B18: =B17+1 -> 17 | G18: SM55 | H18: =VLOOKUP(G18,CAT!$E$2:$F$26,2) -> M07 | I18: 00.39.06 | K18: DI_CERBO_LUCIANO | N18: ATLETICA DUGENTA | O18: =O17-1 -> 213 | P18: 45
A19: =CONCATENATE(K19,"_",H19) -> PIROZZOLO_DANILO_M02 | B19: =B18+1 -> 18 | G19: SM | H19: =VLOOKUP(G19,CAT!$E$2:$F$26,2) -> M02 | I19: 00.39.06 | K19: PIROZZOLO_DANILO | N19: PODISMO BENEVENTO | O19: =O18-1 -> 212 | P19: 36
A20: =CONCATENATE(K20,"_",H20) -> DE_CICCO_ALESSANDRO_M02 | B20: =B19+1 -> 19 | G20: SM | H20: =VLOOKUP(G20,CAT!$E$2:$F$26,2) -> M02 | I20: 00.39.17 | K20: DE_CICCO_ALESSANDRO | N20: TELESIA RUNNING TEAM | O20: =O19-1 -> 211 | P20: 35
A21: =CONCATENATE(K21,"_",H21) -> RICCIARDI_ALESSANDRO_M04 | B21: =B20+1 -> 20 | G21: SM40 | H21: =VLOOKUP(G21,CAT!$E$2:$F$26,2) -> M04 | I21: 00.39.21 | K21: RICCIARDI_ALESSANDRO | N21: PODISMO BENEVENTO | O21: =O20-1 -> 210 | P21: 35
A22: =CONCATENATE(K22,"_",H22) -> MARCHESCIANO_DOMENICO_M04 | B22: =B21+1 -> 21 | G22: SM40 | H22: =VLOOKUP(G22,CAT!$E$2:$F$26,2) -> M04 | I22: 00.40.30 | K22: MARCHESCIANO_DOMENICO | N22: PODISTICA AVIS CAMPOBASSO | O22: =O21-1 -> 209 | P22: 34
A23: =CONCATENATE(K23,"_",H23) -> GALASSO_MICHELE_M02 | B23: =B22+1 -> 22 | G23: SM | H23: =VLOOKUP(G23,CAT!$E$2:$F$26,2) -> M02 | I23: 00.41.03 | K23: GALASSO_MICHELE | N23: SANNIO RUNNERS | O23: =O22-1 -> 208 | P23: 34
... A120: =CONCATENATE(K120,"_",H120) -> BOSCOTRECASE_CLAUDIO_M10 | B120: =B119+1 -> 119 | G120: SM70 | H120: =VLOOKUP(G120,CAT!$E$2:$F$26,2) -> M10 | I120: 01.05.46 | K120: BOSCOTRECASE_CLAUDIO | N120: TELESIA RUNNING TEAM | O120: =O119-1 -> 111 | P120: 42

Sheet IV_TAPPA
A1: NomeCog | B1: Pos | C1: Num.Pettorale | D1: Arrivo | E1: Arrivo M/F | F1: Arrivo Cat. 1 | G1: Tempo Finale | H1: Real Time | I1: Distacco | J1: minKm | K1: Categoria 1 | L1: McAT | M1: Cognome | N1: Nome | O1: Sesso | P1: Anno | Q1: Naz. | R1: Società | S1: 5000 | T1: P_Cat
A2: =CONCATENATE(M2,"_",N2,"_",L2) -> FALCO_ANIELLO_M03 | B2: 1 | C2: 1678 | D2: 28 | E2: 25 | F2: 5 | G2: 0:35:02 | H2: 0:35:00 | I2: +0:05:44 | J2: 3:30 | K2: SM35 | L2: =VLOOKUP(K2,CAT!$E$2:$F$26,2) -> M03 | M2: FALCO | N2: ANIELLO | O2: M | P2: 1982 | Q2: ITA | R2: TABURNO RUNNERS | S2: 260 | T2: 45
A3: =CONCATENATE(M3,"_",N3,"_",L3) -> MEOLI_FABRIZIO_M03 | B3: =B2+1 -> 2 | C3: 1439 | D3: 36 | E3: 31 | F3: 8 | G3: 0:35:41 | H3: 0:35:39 | I3: +0:06:23 | J3: 3:34 | K3: SM35 | L3: =VLOOKUP(K3,CAT!$E$2:$F$26,2) -> M03 | M3: MEOLI | N3: FABRIZIO | O3: M | P3: 1984 | Q3: ITA | R3: TELESIA RUNNING TEAM | S3: 250 | T3: 42
A4: =CONCATENATE(M4,"_",N4,"_",L4) -> MIGNOGNA_SILVANO_M04 | B4: =B3+1 -> 3 | C4: 1553 | D4: 39 | E4: 33 | F4: 6 | G4: 0:36:06 | H4: 0:35:57 | I4: +0:06:48 | J4: 3:37 | K4: SM40 | L4: =VLOOKUP(K4,CAT!$E$2:$F$26,2) -> M04 | M4: MIGNOGNA | N4: SILVANO | O4: M | P4: 1976 | Q4: ITA | R4: PODISTICA AVIS CAMPOBASSO | S4: 240 | T4: 45
A5: =CONCATENATE(M5,"_",N5,"_",L5) -> PERONE_GIACOMO_M03 | B5: =B4+1 -> 4 | C5: 1685 | D5: 42 | E5: 36 | F5: 10 | G5: 0:36:22 | H5: 0:36:15 | I5: +0:07:04 | J5: 3:38 | K5: SM35 | L5: =VLOOKUP(K5,CAT!$E$2:$F$26,2) -> M03 | M5: PERONE | N5: GIACOMO | O5: M | P5: 1982 | Q5: ITA | R5: TABURNO RUNNERS | S5: 235 | T5: 39
A6: =CONCATENATE(M6,"_",N6,"_",L6) -> COLESANTO_MASSIMILIANO_M04 | B6: =B5+1 -> 5 | C6: 898 | D6: 81 | E6: 70 | F6: 18 | G6: 0:38:16 | H6: 0:38:10 | I6: +0:08:58 | J6: 3:50 | K6: SM40 | L6: =VLOOKUP(K6,CAT!$E$2:$F$26,2) -> M04 | M6: COLESANTO | N6: MASSIMILIANO | O6: M | P6: 1978 | Q6: ITA | R6: SANNIO RUNNERS | S6: 230 | T6: 42
A7: =CONCATENATE(M7,"_",N7,"_",L7) -> GORRASI_MICHELE_M02 | B7: =B6+1 -> 6 | C7: 902 | D7: 82 | E7: 71 | F7: 23 | G7: 0:38:16 | H7: 0:38:13 | I7: +0:08:58 | J7: 3:50 | K7: SM | L7: =VLOOKUP(K7,CAT!$E$2:$F$26,2) -> M02 | M7: GORRASI | N7: MICHELE | O7: M | P7: 1994 | Q7: ITA | R7: SANNIO RUNNERS | S7: 228 | T7: 45
A8: =CONCATENATE(M8,"_",N8,"_",L8) -> CAPONE_ANGELO_RAFFAELE_M02 | B8: =B7+1 -> 7 | C8: 1401 | D8: 84 | E8: 73 | F8: 24 | G8: 0:38:22 | H8: 0:38:17 | I8: +0:09:04 | J8: 3:50 | K8: SM | L8: =VLOOKUP(K8,CAT!$E$2:$F$26,2) -> M02 | M8: CAPONE | N8: ANGELO_RAFFAELE | O8: M | P8: 1986 | Q8: ITA | R8: TELESIA RUNNING TEAM | S8: 226 | T8: 42
A9: =CONCATENATE(M9,"_",N9,"_",L9) -> DE_CICCO_ALESSANDRO_M02 | B9: =B8+1 -> 8 | C9: 1412 | D9: 95 | E9: 83 | F9: 29 | G9: 0:38:45 | H9: 0:38:36 | I9: +0:09:28 | J9: 3:53 | K9: SM | L9: =VLOOKUP(K9,CAT!$E$2:$F$26,2) -> M02 | M9: DE_CICCO | N9: ALESSANDRO | O9: M | P9: 1988 | Q9: ITA | R9: TELESIA RUNNING TEAM | S9: 224 | T9: 39
A10: =CONCATENATE(M10,"_",N10,"_",L10) -> GRASSO_ANGELO_M02 | B10: =B9+1 -> 9 | C10: 901 | D10: 97 | E10: 85 | F10: 31 | G10: 0:38:52 | H10: 0:38:42 | I10: +0:09:34 | J10: 3:53 | K10: SM | L10: =VLOOKUP(K10,CAT!$E$2:$F$26,2) -> M02 | M10: GRASSO | N10: ANGELO | O10: M | P10: 1986 | Q10: ITA | R10: SANNIO RUNNERS | S10: 222 | T10: 37
A11: =CONCATENATE(M11,"_",N11,"_",L11) -> SIMPATICO_DOMENICO_M04 | B11: =B10+1 -> 10 | C11: 1513 | D11: 106 | E11: 94 | F11: 23 | G11: 0:39:03 | H11: 0:39:00 | I11: +0:09:45 | J11: 3:54 | K11: SM40 | L11: =VLOOKUP(K11,CAT!$E$2:$F$26,2) -> M04 | M11: SIMPATICO | N11: DOMENICO | O11: M | P11: 1975 | Q11: ITA | R11: PODISTI ALTO SANNIO | S11: 220 | T11: 39
A12: =CONCATENATE(M12,"_",N12,"_",L12) -> PILLA_EMILIANO_M03 | B12: =B11+1 -> 11 | C12: 1506 | D12: 112 | E12: 100 | F12: 25 | G12: 0:39:18 | H12: 0:39:12 | I12: +0:10:00 | J12: 3:56 | K12: SM35 | L12: =VLOOKUP(K12,CAT!$E$2:$F$26,2) -> M03 | M12: PILLA | N12: EMILIANO | O12: M | P12: 1982 | Q12: ITA | R12: PODISTI ALTO SANNIO | S12: =S11-1 -> 219 | T12: 37
A13: =CONCATENATE(M13,"_",N13,"_",L13) -> IANNUCCI_PASQUALE_M04 | B13: =B12+1 -> 12 | C13: 1427 | D13: 128 | E13: 116 | F13: 25 | G13: 0:39:38 | H13: 0:39:36 | I13: +0:10:21 | J13: 3:58 | K13: SM40 | L13: =VLOOKUP(K13,CAT!$E$2:$F$26,2) -> M04 | M13: IANNUCCI | N13: PASQUALE | O13: M | P13: 1979 | Q13: ITA | R13: TELESIA RUNNING TEAM | S13: =S12-1 -> 218 | T13: 37
A14: =CONCATENATE(M14,"_",N14,"_",L14) -> SINISCALCHI_LODOVICO_M04 | B14: =B13+1 -> 13 | C14: 1514 | D14: 144 | E14: 131 | F14: 29 | G14: 0:39:55 | H14: 0:39:49 | I14: +0:10:37 | J14: 4:00 | K14: SM40 | L14: =VLOOKUP(K14,CAT!$E$2:$F$26,2) -> M04 | M14: SINISCALCHI | N14: LODOVICO | O14: M | P14: 1976 | Q14: ITA | R14: PODISTI ALTO SANNIO | S14: =S13-1 -> 217 | T14: 36
A15: =CONCATENATE(M15,"_",N15,"_",L15) -> IZZO_ARCANGELO_M05 | B15: =B14+1 -> 14 | C15: 1680 | D15: 147 | E15: 134 | F15: 13 | G15: 0:40:03 | H15: 0:39:53 | I15: +0:10:45 | J15: 4:00 | K15: SM45 | L15: =VLOOKUP(K15,CAT!$E$2:$F$26,2) -> M05 | M15: IZZO | N15: ARCANGELO | O15: M | P15: 1972 | Q15: ITA | R15: TABURNO RUNNERS | S15: =S14-1 -> 216 | T15: 45
A16: =CONCATENATE(M16,"_",N16,"_",L16) -> SABATINO_ANTONIO_M05 | B16: =B15+1 -> 15 | C16: 1689 | D16: 146 | E16: 133 | F16: 12 | G16: 0:40:02 | H16: 0:39:55 | I16: +0:10:44 | J16: 4:00 | K16: SM45 | L16: =VLOOKUP(K16,CAT!$E$2:$F$26,2) -> M05 | M16: SABATINO | N16: ANTONIO | O16: M | P16: 1972 | Q16: ITA | R16: TABURNO RUNNERS | S16: =S15-1 -> 215 | T16: 42
A17: =CONCATENATE(M17,"_",N17,"_",L17) -> LOMBARDI_DOMENICO_M04 | B17: =B16+1 -> 16 | C17: 353 | D17: 152 | E17: 139 | F17: 32 | G17: 0:40:10 | H17: 0:40:04 | I17: +0:10:52 | J17: 4:01 | K17: SM40 | L17: =VLOOKUP(K17,CAT!$E$2:$F$26,2) -> M04 | M17: LOMBARDI | N17: DOMENICO | O17: M | P17: 1977 | Q17: ITA | R17: PODISTICA AVIS CAMPOBASSO | S17: =S16-1 -> 214 | T17: 35
A18: =CONCATENATE(M18,"_",N18,"_",L18) -> CAPPUCCIO_MILANINO_M04 | B18: =B17+1 -> 17 | C18: 1402 | D18: 163 | E18: 150 | F18: 36 | G18: 0:40:22 | H18: 0:40:17 | I18: +0:11:04 | J18: 4:02 | K18: SM40 | L18: =VLOOKUP(K18,CAT!$E$2:$F$26,2) -> M04 | M18: CAPPUCCIO | N18: MILANINO | O18: M | P18: 1975 | Q18: ITA | R18: TELESIA RUNNING TEAM | S18: =S17-1 -> 213 | T18: 34
A19: =CONCATENATE(M19,"_",N19,"_",L19) -> CERULO_ETTORE_M03 | B19: =B18+1 -> 18 | C19: 1488 | D19: 170 | E19: 157 | F19: 40 | G19: 0:40:30 | H19: 0:40:19 | I19: +0:11:12 | J19: 4:03 | K19: SM35 | L19: =VLOOKUP(K19,CAT!$E$2:$F$26,2) -> M03 | M19: CERULO | N19: ETTORE | O19: M | P19: 1981 | Q19: ITA | R19: PODISTI ALTO SANNIO | S19: =S18-1 -> 212 | T19: 36
A20: =CONCATENATE(M20,"_",N20,"_",L20) -> PIROZZOLO_DANILO_M02 | B20: =B19+1 -> 19 | C20: 1139 | D20: 168 | E20: 155 | F20: 43 | G20: 0:40:27 | H20: 0:40:22 | I20: +0:11:09 | J20: 4:03 | K20: SM | L20: =VLOOKUP(K20,CAT!$E$2:$F$26,2) -> M02 | M20: PIROZZOLO | N20: DANILO | O20: M | P20: 1987 | Q20: ITA | R20: PODISMO BENEVENTO | S20: =S19-1 -> 211 | T20: 36
A21: =CONCATENATE(M21,"_",N21,"_",L21) -> NAPOLITANO_LUIGI_M05 | B21: =B20+1 -> 20 | C21: 1683 | D21: 169 | E21: 156 | F21: 18 | G21: 0:40:29 | H21: 0:40:25 | I21: +0:11:11 | J21: 4:03 | K21: SM45 | L21: =VLOOKUP(K21,CAT!$E$2:$F$26,2) -> M05 | M21: NAPOLITANO | N21: LUIGI | O21: M | P21: 1970 | Q21: ITA | R21: TABURNO RUNNERS | S21: =S20-1 -> 210 | T21: 39
A22: =CONCATENATE(M22,"_",N22,"_",L22) -> SPELTRA_AMELIO_M02 | B22: =B21+1 -> 21 | C22: 1516 | D22: 175 | E22: 162 | F22: 45 | G22: 0:40:37 | H22: 0:40:27 | I22: +0:11:19 | J22: 4:04 | K22: SM | L22: =VLOOKUP(K22,CAT!$E$2:$F$26,2) -> M02 | M22: SPELTRA | N22: AMELIO | O22: M | P22: 1985 | Q22: ITA | R22: PODISTI ALTO SANNIO | S22: =S21-1 -> 209 | T22: 35
A23: =CONCATENATE(M23,"_",N23,"_",L23) -> DE_MARCO_DOMENICO_M05 | B23: =B22+1 -> 22 | C23: 1548 | D23: 184 | E23: 171 | F23: 21 | G23: 0:40:47 | H23: 0:40:41 | I23: +0:11:29 | J23: 4:05 | K23: SM45 | L23: =VLOOKUP(K23,CAT!$E$2:$F$26,2) -> M05 | M23: DE_MARCO | N23: DOMENICO | O23: M | P23: 1974 | Q23: ITA | R23: PODISTICA AVIS CAMPOBASSO | S23: =S22-1 -> 208 | T23: 37
... A174: =CONCATENATE(M174,"_",N174,"_",L174) -> SAGNELLA_GEMMA_F6 | B174: =B173+1 -> 173 | C174: F307 | D174: 1826 | E174: 282 | F174: 43 | G174: 1:22:43 | H174: 1:21:46 | I174: +0:53:25 | J174: 8:16 | K174: SF50 | L174: =VLOOKUP(K174,CAT!$E$2:$F$26,2) -> F6 | M174: SAGNELLA | N174: GEMMA | O174: F | P174: 1967 | Q174: ITA | R174: TELESIA RUNNING TEAM | S174: =S173-1 -> 57 | T174: 7

Sheet V_TAPPA
B1: Pos | C1: Ps | D1: S | E1: Num | F1: PCat | G1: Cat | H1: CAT_SA | I1: Tempo | J1: Media | K1: Cognome | L1: Nome | M1: REALTIME | N1: Nome Squadra | O1: Pts | P1: PUNTI CAT
A2: =CONCATENATE(K2,"_",L2,"_",H2) -> GORRASI_MICHELE_M02 | B2: 1 | C2: 1 | D2: M | E2: 1117 | F2: 1 | G2: SM | H2: =VLOOKUP(G2,CAT!$E$2:$F$26,2) -> M02 | I2: 0.025126968 | J2: 0.0025127315 | K2: GORRASI | L2: MICHELE | M2: [0:36:10,97] | N2: SANNIO RUNNERS | O2: 260 | P2: 45
A3: =CONCATENATE(K3,"_",L3,"_",H3) -> PERONE_GIACOMO_M03 | B3: =B2+1 -> 2 | C3: 2 | D3: M | E3: 1190 | F3: 1 | G3: SM35 | H3: =VLOOKUP(G3,CAT!$E$2:$F$26,2) -> M03 | I3: 0.025408333 | J3: 0.0025408565 | K3: PERONE | L3: GIACOMO | M3: [0:36:35,28] | N3: TABURNO RUNNERS | O3: 250 | P3: 45
A4: =CONCATENATE(K4,"_",L4,"_",H4) -> MOLINARO_NICOLA_M06 | B4: =B3+1 -> 3 | C4: 4 | D4: M | E4: 1251 | F4: 1 | G4: SM50 | H4: =VLOOKUP(G4,CAT!$E$2:$F$26,2) -> M06 | I4: 0.026228588 | J4: 0.0026228009 | K4: MOLINARO | L4: NICOLA | M4: [0:37:46,15] | N4: PODISTI ALTO SANNIO | O4: 240 | P4: 45
A5: =CONCATENATE(K5,"_",L5,"_",H5) -> COLESANTO_MASSIMILIANO_M04 | B5: =B4+1 -> 4 | C5: 5 | D5: M | E5: 1114 | F5: 1 | G5: SM40 | H5: =VLOOKUP(G5,CAT!$E$2:$F$26,2) -> M04 | I5: 0.026372685 | J5: 0.0026372685 | K5: COLESANTO | L5: MASSIMILIANO | M5: [0:37:58,60] | N5: SANNIO RUNNERS | O5: 235 | P5: 45
A6: =CONCATENATE(K6,"_",L6,"_",H6) -> DAMPHA_LAMIN_M02 | B6: =B5+1 -> 5 | C6: 7 | D6: M | E6: 1233 | F6: 2 | G6: SM | H6: =VLOOKUP(G6,CAT!$E$2:$F$26,2) -> M02 | I6: 0.026946875 | J6: 0.0026946759 | K6: DAMPHA | L6: LAMIN | M6: [0:38:48,21] | N6: ATLETICA DUGENTA | O6: 230 | P6: 42
A7: =CONCATENATE(K7,"_",L7,"_",H7) -> VALENTINO_ANGELO_M06 | B7: =B6+1 -> 6 | C7: 8 | D7: M | E7: 1111 | F7: 2 | G7: SM50 | H7: =VLOOKUP(G7,CAT!$E$2:$F$26,2) -> M06 | I7: 0.026950926 | J7: 0.0026951389 | K7: VALENTINO | L7: ANGELO | M7: [0:38:48,56] | N7: ATLETICA DUGENTA | O7: 228 | P7: 42
A8: =CONCATENATE(K8,"_",L8,"_",H8) -> DE_CICCO_ALESSANDRO_M02 | B8: =B7+1 -> 7 | C8: 9 | D8: M | E8: 1124 | F8: 3 | G8: SM | H8: =VLOOKUP(G8,CAT!$E$2:$F$26,2) -> M02 | I8: 0.027198727 | J8: 0.0027199074 | K8: DE_CICCO | L8: ALESSANDRO | M8: [0:39:09,97] | N8: TELESIA RUNNING TEAM | O8: 226 | P8: 39
A9: =CONCATENATE(K9,"_",L9,"_",H9) -> CAPONE_ANGELO_RAFFAELE_M02 | B9: =B8+1 -> 8 | C9: 10 | D9: M | E9: 1246 | F9: 4 | G9: SM | H9: =VLOOKUP(G9,CAT!$E$2:$F$26,2) -> M02 | I9: 0.027228009 | J9: 0.0027228009 | K9: CAPONE | L9: ANGELO_RAFFAELE | M9: [0:39:12,50] | N9: TELESIA RUNNING TEAM | O9: 224 | P9: 37
A10: =CONCATENATE(K10,"_",L10,"_",H10) -> SINISCALCHI_LODOVICO_M04 | B10: =B9+1 -> 9 | C10: 11 | D10: M | E10: 1218 | F10: 3 | G10: SM40 | H10: =VLOOKUP(G10,CAT!$E$2:$F$26,2) -> M04 | I10: 0.027252199 | J10: 0.0027252315 | K10: SINISCALCHI | L10: LODOVICO | M10: [0:39:14,59] | N10: PODISTI ALTO SANNIO | O10: 222 | P10: 42
A11: =CONCATENATE(K11,"_",L11,"_",H11) -> NAPOLITANO_BENITO_M02 | B11: =B10+1 -> 10 | C11: 12 | D11: M | E11: 1188 | F11: 2 | G11: PM | H11: =VLOOKUP(G11,CAT!$E$2:$F$26,2) -> M02 | I11: 0.027502778 | J11: 0.0027502315 | K11: NAPOLITANO | L11: BENITO | M11: [0:39:36,24] | N11: TABURNO RUNNERS | O11: 220 | P11: 36
A12: =CONCATENATE(K12,"_",L12,"_",H12) -> SABATINO_ANTONIO_M05 | B12: =B11+1 -> 11 | C12: 13 | D12: M | E12: 1194 | F12: 1 | G12: SM45 | H12: =VLOOKUP(G12,CAT!$E$2:$F$26,2) -> M05 | I12: 0.027506944 | J12: 0.0027506944 | K12: SABATINO | L12: ANTONIO | M12: [0:39:36,60] | N12: TABURNO RUNNERS | O12: =O11-1 -> 219 | P12: 45
A13: =CONCATENATE(K13,"_",L13,"_",H13) -> PILLA_EMILIANO_M03 | B13: =B12+1 -> 12 | C13: 14 | D13: M | E13: 1211 | F13: 2 | G13: SM35 | H13: =VLOOKUP(G13,CAT!$E$2:$F$26,2) -> M03 | I13: 0.027701273 | J13: 0.0027701389 | K13: PILLA | L13: EMILIANO | M13: [0:39:53,39] | N13: PODISTI ALTO SANNIO | O13: =O12-1 -> 218 | P13: 42
A14: =CONCATENATE(K14,"_",L14,"_",H14) -> RAME_ASSUNTO_M07 | B14: =B13+1 -> 13 | C14: 15 | D14: M | E14: 1191 | F14: 1 | G14: SM55 | H14: =VLOOKUP(G14,CAT!$E$2:$F$26,2) -> M07 | I14: 0.027908449 | J14: 0.0027908565 | K14: RAME | L14: ASSUNTO | M14: [0:40:11,29] | N14: TABURNO RUNNERS | O14: =O13-1 -> 217 | P14: 45
A15: =CONCATENATE(K15,"_",L15,"_",H15) -> IANNUCCI_PASQUALE_M04 | B15: =B14+1 -> 14 | C15: 16 | D15: M | E15: 1130 | F15: 4 | G15: SM40 | H15: =VLOOKUP(G15,CAT!$E$2:$F$26,2) -> M04 | I15: 0.028262037 | J15: 0.0028261574 | K15: IANNUCCI | L15: PASQUALE | M15: [0:40:41,84] | N15: TELESIA RUNNING TEAM | O15: =O14-1 -> 216 | P15: 39
A16: =CONCATENATE(K16,"_",L16,"_",H16) -> DI_CERBO_LUCIANO_M07 | B16: =B15+1 -> 15 | C16: 18 | D16: M | E16: 1106 | F16: 2 | G16: SM55 | H16: =VLOOKUP(G16,CAT!$E$2:$F$26,2) -> M07 | I16: 0.028333912 | J16: 0.0028333333 | K16: DI_CERBO | L16: LUCIANO | M16: [0:40:48,05] | N16: ATLETICA DUGENTA | O16: =O15-1 -> 215 | P16: 42
A17: =CONCATENATE(K17,"_",L17,"_",H17) -> SAIDY_SAIKOU_M03 | B17: =B16+1 -> 16 | C17: 19 | D17: M | E17: 1172 | F17: 4 | G17: SM35 | H17: =VLOOKUP(G17,CAT!$E$2:$F$26,2) -> M03 | I17: 0.028672338 | J17: 0.0028672454 | K17: SAIDY | L17: SAIKOU | M17: [0:41:17,29] | N17: ATLETICA DUGENTA | O17: =O16-1 -> 214 | P17: 39
A18: =CONCATENATE(K18,"_",L18,"_",H18) -> LOMBARDI_DOMENICO_M04 | B18: =B17+1 -> 17 | C18: 20 | D18: M | E18: 1181 | F18: 5 | G18: SM40 | H18: =VLOOKUP(G18,CAT!$E$2:$F$26,2) -> M04 | I18: 0.028834606 | J18: 0.0028834491 | K18: LOMBARDI | L18: DOMENICO | M18: [0:41:31,31] | N18: PODISTICA AVIS CAMPOBASSO | O18: =O17-1 -> 213 | P18: 37
A19: =CONCATENATE(K19,"_",L19,"_",H19) -> RICCIARDI_ALESSANDRO_M04 | B19: =B18+1 -> 18 | C19: 21 | D19: M | E19: 1139 | F19: 6 | G19: SM40 | H19: =VLOOKUP(G19,CAT!$E$2:$F$26,2) -> M04 | I19: 0.028970023 | J19: 0.0028969907 | K19: RICCIARDI | L19: ALESSANDRO | M19: [0:41:43,01] | N19: PODISMO BENEVENTO | O19: =O18-1 -> 212 | P19: 36
A20: =CONCATENATE(K20,"_",L20,"_",H20) -> PIROZZOLO_DANILO_M02 | B20: =B19+1 -> 19 | C20: 22 | D20: M | E20: 1138 | F20: 5 | G20: SM | H20: =VLOOKUP(G20,CAT!$E$2:$F$26,2) -> M02 | I20: 0.028987037 | J20: 0.0028987269 | K20: PIROZZOLO | L20: DANILO | M20: [0:41:44,48] | N20: PODISMO BENEVENTO | O20: =O19-1 -> 211 | P20: 35
A21: =CONCATENATE(K21,"_",L21,"_",H21) -> CERULO_ETTORE_M03 | B21: =B20+1 -> 20 | C21: 23 | D21: M | E21: 1255 | F21: 5 | G21: SM35 | H21: =VLOOKUP(G21,CAT!$E$2:$F$26,2) -> M03 | I21: 0.029107292 | J21: 0.0029107639 | K21: CERULO | L21: ETTORE | M21: [0:41:54,87] | N21: PODISTI ALTO SANNIO | O21: =O20-1 -> 210 | P21: 37
A22: =CONCATENATE(K22,"_",L22,"_",H22) -> TOZZI_ANTONIO_M02 | B22: =B21+1 -> 21 | C22: 24 | D22: M | E22: 1220 | F22: 6 | G22: SM | H22: =VLOOKUP(G22,CAT!$E$2:$F$26,2) -> M02 | I22: 0.02911169 | J22: 0.0029111111 | K22: TOZZI | L22: ANTONIO | M22: [0:41:55,25] | N22: PODISTI ALTO SANNIO | O22: =O21-1 -> 209 | P22: 34
A23: =CONCATENATE(K23,"_",L23,"_",H23) -> DE_MARCO_DOMENICO_M05 | B23: =B22+1 -> 22 | C23: 25 | D23: M | E23: 1144 | F23: 2 | G23: SM45 | H23: =VLOOKUP(G23,CAT!$E$2:$F$26,2) -> M05 | I23: 0.029358681 | J23: 0.0029358796 | K23: DE_MARCO | L23: DOMENICO | M23: [0:42:16,59] | N23: PODISTICA AVIS CAMPOBASSO | O23: =O22-1 -> 208 | P23: 42
... A98: =CONCATENATE(K98,"_",L98,"_",H98) -> DI_TOTA_FELICE_MARIO_M09 | B98: =B97+1 -> 97 | C98: 127 | D98: M | E98: 1145 | F98: 15 | G98: SM65 | H98: =VLOOKUP(G98,CAT!$E$2:$F$26,2) -> M09 | I98: 0.052978704 | J98: 0.0052979167 | K98: DI_TOTA | L98: FELICE_MARIO | M98: [1:16:17,36] | N98: PODISTICA AVIS CAMPOBASSO | O98: =O97-1 -> 133 | P98: 31
A99: =CONCATENATE(K99,"_",L99,"_",H99) -> __
A100: =CONCATENATE(K100,"_",L100,"_",H100) -> __
A101: =CONCATENATE(K101,"_",L101,"_",H101) -> __
A102: =CONCATENATE(K102,"_",L102,"_",H102) -> __
A103: =CONCATENATE(K103,"_",L103,"_",H103) -> __
A104: =CONCATENATE(K104,"_",L104,"_",H104) -> __
A105: =CONCATENATE(K105,"_",L105,"_",H105) -> __
A106: =CONCATENATE(K106,"_",L106,"_",H106) -> __
A107: =CONCATENATE(K107,"_",L107,"_",H107) -> __
A108: =CONCATENATE(K108,"_",L108,"_",H108) -> __
A109: =CONCATENATE(K109,"_",L109,"_",H109) -> __
A110: =CONCATENATE(K110,"_",L110,"_",H110) -> __
... A127: =CONCATENATE(K127,"_",L127,"_",H127) -> __
A128: =CONCATENATE(K128,"_",L128,"_",G128) -> __

Sheet VI_TAPPA
B1: Pos | C1: Ps | D1: S | E1: Num | F1: PCat | G1: Cat | H1: CAT_SA | I1: Tempo | J1: Media | K1: Cognome | L1: Nome | M1: REALTIME | N1: Nome Squadra | O1: Pts | P1: PUNTI CAT
A2: =CONCATENATE(K2,"_",L2,"_",H2) -> MEOLI_FABRIZIO_M03 | B2: 1 | C2: 2 | D2: M | E2: 952 | F2: 2 | G2: SM35 | H2: =VLOOKUP(G2,CAT!$E$2:$F$26,2) -> M03 | I2: 0.025381944 | J2: 0.0024884259 | K2: MEOLI | L2: FABRIZIO | M2: [0:36:33,00] | N2: TELESIA RUNNING TEAM | O2: 260 | P2: 45
A3: =CONCATENATE(K3,"_",L3,"_",H3) -> PERONE_GIACOMO_M03 | B3: =B2+1 -> 2 | C3: 3 | D3: M | E3: 966 | F3: 3 | G3: SM35 | H3: =VLOOKUP(G3,CAT!$E$2:$F$26,2) -> M03 | I3: 0.025572917 | J3: 0.0025071759 | K3: PERONE | L3: GIACOMO | M3: [0:36:49,50] | N3: TABURNO RUNNERS | O3: 250 | P3: 45
A4: =CONCATENATE(K4,"_",L4,"_",H4) -> GORRASI_MICHELE_M02 | B4: =B3+1 -> 3 | C4: 5 | D4: M | E4: 1092 | F4: 5 | G4: SM | H4: =VLOOKUP(G4,CAT!$E$2:$F$26,2) -> M02 | I4: 0.025593171 | J4: 0.0025091435 | K4: GORRASI | L4: MICHELE | M4: [0:36:51,25] | N4: SANNIO RUNNERS | O4: 240 | P4: 42
A5: =CONCATENATE(K5,"_",L5,"_",H5) -> COLESANTO_MASSIMILIANO_M04 | B5: =B4+1 -> 4 | C5: 7 | D5: M | E5: 1090 | F5: 1 | G5: SM40 | H5: =VLOOKUP(G5,CAT!$E$2:$F$26,2) -> M04 | I5: 0.026457176 | J5: 0.0025938657 | K5: COLESANTO | L5: MASSIMILIANO | M5: [0:38:05,90] | N5: SANNIO RUNNERS | O5: 235 | P5: 45
A6: =CONCATENATE(K6,"_",L6,"_",H6) -> GRASSO_ANGELO_M02 | B6: =B5+1 -> 5 | C6: 8 | D6: M | E6: 1177 | F6: 1 | G6: SM | H6: =VLOOKUP(G6,CAT!$E$2:$F$26,2) -> M02 | I6: 0.02648206 | J6: 0.0025962963 | K6: GRASSO | L6: ANGELO | M6: [0:38:08,05] | N6: TABURNO RUNNERS | O6: 230 | P6: 42
A7: =CONCATENATE(K7,"_",L7,"_",H7) -> MOLINARO_NICOLA_M06 | B7: =B6+1 -> 6 | C7: 9 | D7: M | E7: 1185 | F7: 1 | G7: SM50 | H7: =VLOOKUP(G7,CAT!$E$2:$F$26,2) -> M06 | I7: 0.026493634 | J7: 0.0025974537 | K7: MOLINARO | L7: NICOLA | M7: [0:38:09,05] | N7: PODISTI ALTO SANNIO | O7: 228 | P7: 45
A8: =CONCATENATE(K8,"_",L8,"_",H8) -> IAMONACO_GIUSEPPE_M06 | B8: =B7+1 -> 7 | C8: 12 | D8: M | E8: 1153 | F8: 2 | G8: SM50 | H8: =VLOOKUP(G8,CAT!$E$2:$F$26,2) -> M06 | I8: 0.026864005 | J8: 0.0026336806 | K8: IAMONACO | L8: GIUSEPPE | M8: [0:38:41,05] | N8: PODISTICA AVIS CAMPOBASSO | O8: 226 | P8: 42
A9: =CONCATENATE(K9,"_",L9,"_",H9) -> SINISCALCHI_LODOVICO_M04 | B9: =B8+1 -> 8 | C9: 14 | D9: M | E9: 1194 | F9: 3 | G9: SM40 | H9: =VLOOKUP(G9,CAT!$E$2:$F$26,2) -> M04 | I9: 0.027152778 | J9: 0.002662037 | K9: SINISCALCHI | L9: LODOVICO | M9: [0:39:06,00] | N9: PODISTI ALTO SANNIO | O9: 224 | P9: 42
A10: =CONCATENATE(K10,"_",L10,"_",H10) -> CAPONE_ANGELO_RAFFAELE_M02 | B10: =B9+1 -> 9 | C10: 15 | D10: M | E10: 949 | F10: 2 | G10: SM | H10: =VLOOKUP(G10,CAT!$E$2:$F$26,2) -> M02 | I10: 0.027409144 | J10: 0.0026871528 | K10: CAPONE | L10: ANGELO_RAFFAELE | M10: [0:39:28,15] | N10: TELESIA RUNNING TEAM | O10: 222 | P10: 39
A11: =CONCATENATE(K11,"_",L11,"_",H11) -> SIMPATICO_DOMENICO_M04 | B11: =B10+1 -> 10 | C11: 16 | D11: M | E11: 985 | F11: 4 | G11: SM40 | H11: =VLOOKUP(G11,CAT!$E$2:$F$26,2) -> M04 | I11: 0.027670718 | J11: 0.0027128472 | K11: SIMPATICO | L11: DOMENICO | M11: [0:39:50,75] | N11: PODISTI ALTO SANNIO | O11: 220 | P11: 39
A12: =CONCATENATE(K12,"_",L12,"_",H12) -> VALENTINO_ANGELO_M06 | B12: =B11+1 -> 11 | C12: 17 | D12: M | E12: 1088 | F12: 4 | G12: SM50 | H12: =VLOOKUP(G12,CAT!$E$2:$F$26,2) -> M06 | I12: 0.027747106 | J12: 0.0027202546 | K12: VALENTINO | L12: ANGELO | M12: [0:39:57,35] | N12: ATLETICA DUGENTA | O12: =O11-1 -> 219 | P12: 39
A13: =CONCATENATE(K13,"_",L13,"_",H13) -> DE_CICCO_ALESSANDRO_M02 | B13: =B12+1 -> 12 | C13: 19 | D13: M | E13: 950 | F13: 3 | G13: SM | H13: =VLOOKUP(G13,CAT!$E$2:$F$26,2) -> M02 | I13: 0.027831597 | J13: 0.002728588 | K13: DE_CICCO | L13: ALESSANDRO | M13: [0:40:04,65] | N13: TELESIA RUNNING TEAM | O13: =O12-1 -> 218 | P13: 37
A14: =CONCATENATE(K14,"_",L14,"_",H14) -> PILLA_EMILIANO_M03 | B14: =B13+1 -> 13 | C14: 20 | D14: M | E14: 1191 | F14: 3 | G14: SM35 | H14: =VLOOKUP(G14,CAT!$E$2:$F$26,2) -> M03 | I14: 0.027858218 | J14: 0.00273125 | K14: PILLA | L14: EMILIANO | M14: [0:40:06,95] | N14: PODISTI ALTO SANNIO | O14: =O13-1 -> 217 | P14: 39
A15: =CONCATENATE(K15,"_",L15,"_",H15) -> DI_CERBO_LUCIANO_M07 | B15: =B14+1 -> 14 | C15: 22 | D15: M | E15: 1085 | F15: 1 | G15: SM55 | H15: =VLOOKUP(G15,CAT!$E$2:$F$26,2) -> M07 | I15: 0.028027778 | J15: 0.0027478009 | K15: DI_CERBO | L15: LUCIANO | M15: [0:40:21,60] | N15: ATLETICA DUGENTA | O15: =O14-1 -> 216 | P15: 45
A16: =CONCATENATE(K16,"_",L16,"_",H16) -> SABATINO_ANTONIO_M05 | B16: =B15+1 -> 15 | C16: 27 | D16: M | E16: 968 | F16: 2 | G16: SM45 | H16: =VLOOKUP(G16,CAT!$E$2:$F$26,2) -> M05 | I16: 0.028313079 | J16: 0.0027758102 | K16: SABATINO | L16: ANTONIO | M16: [0:40:46,25] | N16: TABURNO RUNNERS | O16: =O15-1 -> 215 | P16: 45
A17: =CONCATENATE(K17,"_",L17,"_",H17) -> IANNUCCI_PASQUALE_M04 | B17: =B16+1 -> 16 | C17: 29 | D17: M | E17: 951 | F17: 6 | G17: SM40 | H17: =VLOOKUP(G17,CAT!$E$2:$F$26,2) -> M04 | I17: 0.028495949 | J17: 0.00279375 | K17: IANNUCCI | L17: PASQUALE | M17: [0:41:02,05] | N17: TELESIA RUNNING TEAM | O17: =O16-1 -> 214 | P17: 37
A18: =CONCATENATE(K18,"_",L18,"_",H18) -> SPELTRA_AMELIO_M02 | B18: =B17+1 -> 17 | C18: 32 | D18: M | E18: 1195 | F18: 4 | G18: SM | H18: =VLOOKUP(G18,CAT!$E$2:$F$26,2) -> M02 | I18: 0.028869213 | J18: 0.0028303241 | K18: SPELTRA | L18: AMELIO | M18: [0:41:34,30] | N18: PODISTI ALTO SANNIO | O18: =O17-1 -> 213 | P18: 36
A19: =CONCATENATE(K19,"_",L19,"_",H19) -> DE_MARCO_DOMENICO_M05 | B19: =B18+1 -> 18 | C19: 33 | D19: M | E19: 1152 | F19: 6 | G19: SM45 | H19: =VLOOKUP(G19,CAT!$E$2:$F$26,2) -> M05 | I19: 0.02887037 | J19: 0.0028304398 | K19: DE_MARCO | L19: DOMENICO | M19: [0:41:34,40] | N19: PODISTICA AVIS CAMPOBASSO | O19: =O18-1 -> 212 | P19: 42
A20: =CONCATENATE(K20,"_",L20,"_",H20) -> TOZZI_ANTONIO_M02 | B20: =B19+1 -> 19 | C20: 34 | D20: M | E20: 1197 | F20: 5 | G20: SM | H20: =VLOOKUP(G20,CAT!$E$2:$F$26,2) -> M02 | I20: 0.02888831 | J20: 0.0028321759 | K20: TOZZI | L20: ANTONIO | M20: [0:41:35,95] | N20: PODISTI ALTO SANNIO | O20: =O19-1 -> 211 | P20: 35
A21: =CONCATENATE(K21,"_",L21,"_",H21) -> RICCIARDI_ALESSANDRO_M04 | B21: =B20+1 -> 20 | C21: 35 | D21: M | E21: 1144 | F21: 7 | G21: SM40 | H21: =VLOOKUP(G21,CAT!$E$2:$F$26,2) -> M04 | I21: 0.028899306 | J21: 0.0028332176 | K21: RICCIARDI | L21: ALESSANDRO | M21: [0:41:36,90] | N21: PODISMO BENEVENTO | O21: =O20-1 -> 210 | P21: 36
A22: =CONCATENATE(K22,"_",L22,"_",H22) -> PIROZZOLO_DANILO_M02 | B22: =B21+1 -> 21 | C22: 36 | D22: M | E22: 1142 | F22: 6 | G22: SM | H22: =VLOOKUP(G22,CAT!$E$2:$F$26,2) -> M02 | I22: 0.028923032 | J22: 0.0028356481 | K22: PIROZZOLO | L22: DANILO | M22: [0:41:38,95] | N22: PODISMO BENEVENTO | O22: =O21-1 -> 209 | P22: 34
A23: =CONCATENATE(K23,"_",L23,"_",H23) -> LOMBARDI_DOMENICO_M04 | B23: =B22+1 -> 22 | C23: 37 | D23: M | E23: 1175 | F23: 8 | G23: SM40 | H23: =VLOOKUP(G23,CAT!$E$2:$F$26,2) -> M04 | I23: 0.029052662 | J23: 0.0028482639 | K23: LOMBARDI | L23: DOMENICO | M23: [0:41:50,15] | N23: PODISTICA AVIS CAMPOBASSO | O23: =O22-1 -> 208 | P23: 35
... A99: =CONCATENATE(K99,"_",L99,"_",H99) -> SAGNELLA_GEMMA_F6 | B99: =B98+1 -> 98 | C99: 35 | D99: F | E99: 1115 | F99: 7 | G99: SF50 | H99: =VLOOKUP(G99,CAT!$E$2:$F$26,2) -> F6 | I99: 0.054550347 | J99: 0.0053480324 | K99: SAGNELLA | L99: GEMMA | M99: [1:18:33,15] | N99: TELESIA RUNNING TEAM | O99: =O98-1 -> 132 | P99: 6
A100: =CONCATENATE(K100,"_",L100,"_",H100) -> __
A101: =CONCATENATE(K101,"_",L101,"_",H101) -> __
A102: =CONCATENATE(K102,"_",L102,"_",H102) -> __
A103: =CONCATENATE(K103,"_",L103,"_",H103) -> __
A104: =CONCATENATE(K104,"_",L104,"_",H104) -> __
A105: =CONCATENATE(K105,"_",L105,"_",H105) -> __
A106: =CONCATENATE(K106,"_",L106,"_",H106) -> __
A107: =CONCATENATE(K107,"_",L107,"_",H107) -> __
A108: =CONCATENATE(K108,"_",L108,"_",H108) -> __
A109: =CONCATENATE(K109,"_",L109,"_",H109) -> __
A110: =CONCATENATE(K110,"_",L110,"_",H110) -> __
A111: =CONCATENATE(K111,"_",L111,"_",H111) -> __
... A127: =CONCATENATE(K127,"_",L127,"_",H127) -> __
A128: =CONCATENATE(K128,"_",L128,"_",G128) -> __

Sheet VII_TAPPA
B1: Pos | C1: Ps | D1: S | E1: Num | F1: PCat | G1: Cat | H1: CAT_SA | I1: Tempo | J1: Media | K1: Cognome | L1: Nome | M1: REALTIME | N1: Nome Squadra | O1: Pts | P1: PUNTI CAT
A2: =CONCATENATE(K2,"_",L2,"_",H2) -> MEOLI_FABRIZIO_M03 | B2: 4 | C2: 4 | D2: M | E2: 1 | F2: 2 | G2: SM35 | H2: =VLOOKUP(G2,CAT!$E$2:$F$26,2) -> M03 | I2: 0.024950231 | J2: 0.0024950231 | K2: MEOLI | L2: FABRIZIO | M2: [0:35:55,70] | N2: TELESIA RUNNING TEAM | O2: 260 | P2: 45
A3: =CONCATENATE(K3,"_",L3,"_",H3) -> PERONE_GIACOMO_M03 | B3: 5 | C3: 5 | D3: M | E3: 11 | F3: 3 | G3: SM35 | H3: =VLOOKUP(G3,CAT!$E$2:$F$26,2) -> M03 | I3: 0.024983218 | J3: 0.0024982639 | K3: PERONE | L3: GIACOMO | M3: [0:35:58,55] | N3: TABURNO RUNNERS | O3: 250 | P3: 42
A4: =CONCATENATE(K4,"_",L4,"_",H4) -> GORRASI_MICHELE_M02 | B4: 8 | C4: 8 | D4: M | E4: 4 | F4: 1 | G4: SM | H4: =VLOOKUP(G4,CAT!$E$2:$F$26,2) -> M02 | I4: 0.025559606 | J4: 0.0025559028 | K4: GORRASI | L4: MICHELE | M4: [0:36:48,35] | N4: SANNIO RUNNERS | O4: 240 | P4: 45
A5: =CONCATENATE(K5,"_",L5,"_",H5) -> GRASSO_ANGELO_M02 | B5: 12 | C5: 12 | D5: M | E5: 8 | F5: 2 | G5: SM | H5: =VLOOKUP(G5,CAT!$E$2:$F$26,2) -> M02 | I5: 0.026229167 | J5: 0.0026229167 | K5: GRASSO | L5: ANGELO | M5: [0:37:46,20] | N5: SANNIO RUNNERS | O5: 235 | P5: 42
A6: =CONCATENATE(K6,"_",L6,"_",H6) -> CAPONE_ANGELO_RAFFAELE_M02 | B6: 14 | C6: 14 | D6: M | E6: 46 | F6: 3 | G6: SM | H6: =VLOOKUP(G6,CAT!$E$2:$F$26,2) -> M02 | I6: 0.026335069 | J6: 0.0026334491 | K6: CAPONE | L6: ANGELO_RAFFAELE | M6: [0:37:55,35] | N6: TELESIA RUNNING TEAM | O6: 230 | P6: 39
A7: =CONCATENATE(K7,"_",L7,"_",H7) -> COLESANTO_MASSIMILIANO_M04 | B7: 16 | C7: 16 | D7: M | E7: 227 | F7: 6 | G7: SM40 | H7: =VLOOKUP(G7,CAT!$E$2:$F$26,2) -> M04 | I7: 0.026493056 | J7: 0.0026493056 | K7: COLESANTO | L7: MASSIMILIANO | M7: [0:38:09,00] | N7: SANNIO RUNNERS | O7: 228 | P7: 45
A8: =CONCATENATE(K8,"_",L8,"_",H8) -> DE_CICCO_ALESSANDRO_M02 | B8: 17 | C8: 17 | D8: M | E8: 48 | F8: 4 | G8: SM | H8: =VLOOKUP(G8,CAT!$E$2:$F$26,2) -> M02 | I8: 0.026571759 | J8: 0.0026571759 | K8: DE_CICCO | L8: ALESSANDRO | M8: [0:38:15,80] | N8: TELESIA RUNNING TEAM | O8: 226 | P8: 37
A9: =CONCATENATE(K9,"_",L9,"_",H9) -> SAIDY_SAIKOU_M03 | B9: 19 | C9: 19 | D9: M | E9: 376 | F9: 7 | G9: SM35 | H9: =VLOOKUP(G9,CAT!$E$2:$F$26,2) -> M03 | I9: 0.026612269 | J9: 0.0026612269 | K9: SAIDY | L9: SAIKOU | M9: [0:38:19,30] | N9: ATLETICA DUGENTA | O9: 224 | P9: 39
A10: =CONCATENATE(K10,"_",L10,"_",H10) -> VALENTINO_ANGELO_M06 | B10: 23 | C10: 23 | D10: M | E10: 225 | F10: 2 | G10: SM50 | H10: =VLOOKUP(G10,CAT!$E$2:$F$26,2) -> M06 | I10: 0.026814815 | J10: 0.0026814815 | K10: VALENTINO | L10: ANGELO | M10: [0:38:36,80] | N10: ATLETICA DUGENTA | O10: 222 | P10: 45
A11: =CONCATENATE(K11,"_",L11,"_",H11) -> SINISCALCHI_LODOVICO_M04 | B11: 24 | C11: 24 | D11: M | E11: 434 | F11: 8 | G11: SM40 | H11: =VLOOKUP(G11,CAT!$E$2:$F$26,2) -> M04 | I11: 0.026909144 | J11: 0.0026909722 | K11: SINISCALCHI | L11: LODOVICO | M11: [0:38:44,95] | N11: PODISTI ALTO SANNIO | O11: 220 | P11: 42
A12: =CONCATENATE(K12,"_",L12,"_",H12) -> PILLA_EMILIANO_M03 | B12: 25 | C12: 25 | D12: M | E12: 431 | F12: 8 | G12: SM35 | H12: =VLOOKUP(G12,CAT!$E$2:$F$26,2) -> M03 | I12: 0.026946181 | J12: 0.0026945602 | K12: PILLA | L12: EMILIANO | M12: [0:38:48,15] | N12: PODISTI ALTO SANNIO | O12: =O11-1 -> 219 | P12: 37
A13: =CONCATENATE(K13,"_",L13,"_",H13) -> SABATINO_ANTONIO_M05 | B13: 30 | C13: 30 | D13: M | E13: 152 | F13: 2 | G13: SM45 | H13: =VLOOKUP(G13,CAT!$E$2:$F$26,2) -> M05 | I13: 0.027178819 | J13: 0.0027178241 | K13: SABATINO | L13: ANTONIO | M13: [0:39:08,25] | N13: TABURNO RUNNERS | O13: =O12-1 -> 218 | P13: 45
A14: =CONCATENATE(K14,"_",L14,"_",H14) -> IANNUCCI_PASQUALE_M04 | B14: 33 | C14: 33 | D14: M | E14: 49 | F14: 9 | G14: SM40 | H14: =VLOOKUP(G14,CAT!$E$2:$F$26,2) -> M04 | I14: 0.027402199 | J14: 0.0027402778 | K14: IANNUCCI | L14: PASQUALE | M14: [0:39:27,55] | N14: TELESIA RUNNING TEAM | O14: =O13-1 -> 217 | P14: 39
A15: =CONCATENATE(K15,"_",L15,"_",H15) -> DI_CERBO_LUCIANO_M07 | B15: 35 | C15: 35 | D15: M | E15: 221 | F15: 1 | G15: SM55 | H15: =VLOOKUP(G15,CAT!$E$2:$F$26,2) -> M07 | I15: 0.027417245 | J15: 0.0027417824 | K15: DI_CERBO | L15: LUCIANO | M15: [0:39:28,85] | N15: ATLETICA DUGENTA | O15: =O14-1 -> 216 | P15: 45
A16: =CONCATENATE(K16,"_",L16,"_",H16) -> RICCIARDI_ALESSANDRO_M04 | B16: 37 | C16: 37 | D16: M | E16: 270 | F16: 10 | G16: SM40 | H16: =VLOOKUP(G16,CAT!$E$2:$F$26,2) -> M04 | I16: 0.027755787 | J16: 0.0027755787 | K16: RICCIARDI | L16: ALESSANDRO | M16: [0:39:58,10] | N16: PODISMO BENEVENTO | O16: =O15-1 -> 215 | P16: 37
A17: =CONCATENATE(K17,"_",L17,"_",H17) -> SPELTRA_AMELIO_M02 | B17: 40 | C17: 40 | D17: M | E17: 436 | F17: 9 | G17: SM | H17: =VLOOKUP(G17,CAT!$E$2:$F$26,2) -> M02 | I17: 0.027984375 | J17: 0.0027984954 | K17: SPELTRA | L17: AMELIO | M17: [0:40:17,85] | N17: PODISTI ALTO SANNIO | O17: =O16-1 -> 214 | P17: 36
A18: =CONCATENATE(K18,"_",L18,"_",H18) -> TOZZI_ANTONIO_M02 | B18: 41 | C18: 41 | D18: M | E18: 437 | F18: 10 | G18: SM | H18: =VLOOKUP(G18,CAT!$E$2:$F$26,2) -> M02 | I18: 0.028104167 | J18: 0.0028104167 | K18: TOZZI | L18: ANTONIO | M18: [0:40:28,20] | N18: PODISTI ALTO SANNIO | O18: =O17-1 -> 213 | P18: 35
A19: =CONCATENATE(K19,"_",L19,"_",H19) -> LOMBARDI_DOMENICO_M04 | B19: 45 | C19: 45 | D19: M | E19: 413 | F19: 13 | G19: SM40 | H19: =VLOOKUP(G19,CAT!$E$2:$F$26,2) -> M04 | I19: 0.028252894 | J19: 0.0028253472 | K19: LOMBARDI | L19: DOMENICO | M19: [0:40:41,05] | N19: PODISTICA AVIS CAMPOBASSO | O19: =O18-1 -> 212 | P19: 36
A20: =CONCATENATE(K20,"_",L20,"_",H20) -> AMBROSINO_ALBERTO_M04 | B20: 56 | C20: 56 | D20: M | E20: 414 | F20: 16 | G20: SM40 | H20: =VLOOKUP(G20,CAT!$E$2:$F$26,2) -> M04 | I20: 0.028654514 | J20: 0.0028653935 | K20: AMBROSINO | L20: ALBERTO | M20: [0:41:15,75] | N20: PODISTI SAN GIORGIO DEL SANNIO | O20: =O19-1 -> 211 | P20: 35
A21: =CONCATENATE(K21,"_",L21,"_",H21) -> DE_MARCO_DOMENICO_M05 | B21: 59 | C21: 59 | D21: M | E21: 273 | F21: 8 | G21: SM45 | H21: =VLOOKUP(G21,CAT!$E$2:$F$26,2) -> M05 | I21: 0.028713542 | J21: 0.002871412 | K21: DE_MARCO | L21: DOMENICO | M21: [0:41:20,85] | N21: PODISTICA AVIS CAMPOBASSO | O21: =O20-1 -> 210 | P21: 42
A22: =CONCATENATE(K22,"_",L22,"_",H22) -> PIROZZOLO_DANILO_M02 | B22: 64 | C22: 62 | D22: M | E22: 269 | F22: 15 | G22: SM | H22: =VLOOKUP(G22,CAT!$E$2:$F$26,2) -> M02 | I22: 0.029063079 | J22: 0.0029063657 | K22: PIROZZOLO | L22: DANILO | M22: [0:41:51,05] | N22: PODISMO BENEVENTO | O22: =O21-1 -> 209 | P22: 34
A23: =CONCATENATE(K23,"_",L23,"_",H23) -> NAPOLITANO_LUIGI_M05 | B23: 65 | C23: 63 | D23: M | E23: 150 | F23: 9 | G23: SM45 | H23: =VLOOKUP(G23,CAT!$E$2:$F$26,2) -> M05 | I23: 0.029126157 | J23: 0.0029126157 | K23: NAPOLITANO | L23: LUIGI | M23: [0:41:56,50] | N23: TABURNO RUNNERS | O23: =O22-1 -> 208 | P23: 39
... A113: =CONCATENATE(K113,"_",L113,"_",H113) -> COLELLA_TERESA_F6 | B113: 471 | C113: 59 | D113: F | E113: 233 | F113: 7 | G113: SF50 | H113: =VLOOKUP(G113,CAT!$E$2:$F$26,2) -> F6 | I113: 0.050226273 | J113: 0.0050225694 | K113: COLELLA | L113: TERESA | M113: [1:12:19,55] | N113: TELESIA RUNNING TEAM | O113: =O112-1 -> 118 | P113: 10
A114: =CONCATENATE(K114,"_",L114,"_",H114) -> __
A115: =CONCATENATE(K115,"_",L115,"_",H115) -> __
A116: =CONCATENATE(K116,"_",L116,"_",H116) -> __
A117: =CONCATENATE(K117,"_",L117,"_",H117) -> __
A118: =CONCATENATE(K118,"_",L118,"_",H118) -> __
A119: =CONCATENATE(K119,"_",L119,"_",H119) -> __
A120: =CONCATENATE(K120,"_",L120,"_",H120) -> __
A121: =CONCATENATE(K121,"_",L121,"_",H121) -> __
A122: =CONCATENATE(K122,"_",L122,"_",H122) -> __
A123: =CONCATENATE(K123,"_",L123,"_",H123) -> __
A124: =CONCATENATE(K124,"_",L124,"_",H124) -> __
A125: =CONCATENATE(K125,"_",L125,"_",H125) -> __
A126: =CONCATENATE(K126,"_",L126,"_",H126) -> __
A127: =CONCATENATE(K127,"_",L127,"_",G127) -> __

Sheet VIII_TAPPA
B1: Pos | C1: Ps | D1: S | E1: Num | F1: PCat | G1: Cat | H1: CAT_SA | I1: Tempo | J1: Media | K1: Cognome | L1: Nome | M1: REALTIME | N1: Nome Squadra | O1: Pts | P1: PUNTI CAT
A2: =CONCATENATE(K2,"_",L2,"_",H2) -> PERONE_GIACOMO_M03 | B2: 1 | C2: 1 | D2: M | E2: 6 | F2: 1 | G2: SM35 | H2: =VLOOKUP(G2,CAT!$E$2:$F$26,2) -> M03 | I2: 0.023122106 | J2: 0.0024862269 | K2: PERONE | L2: GIACOMO | M2: [0:33:17,75] | N2: TABURNO RUNNERS | O2: 260 | P2: 45
A3: =CONCATENATE(K3,"_",L3,"_",H3) -> FALCO_ANIELLO_M03 | B3: 2 | C3: 2 | D3: M | E3: 1 | F3: 2 | G3: SM35 | H3: =VLOOKUP(G3,CAT!$E$2:$F$26,2) -> M03 | I3: 0.023311921 | J3: 0.002506713 | K3: FALCO | L3: ANIELLO | M3: [0:33:34,15] | N3: TABURNO RUNNERS | O3: 250 | P3: 42
A4: =CONCATENATE(K4,"_",L4,"_",H4) -> GORRASI_MICHELE_M02 | B4: 4 | C4: 4 | D4: M | E4: 2 | F4: 1 | G4: SM | H4: =VLOOKUP(G4,CAT!$E$2:$F$26,2) -> M02 | I4: 0.023729745 | J4: 0.0025516204 | K4: GORRASI | L4: MICHELE | M4: [0:34:10,25] | N4: SANNIO RUNNERS | O4: 240 | P4: 45
A5: =CONCATENATE(K5,"_",L5,"_",H5) -> SIMPATICO_DOMENICO_M04 | B5: 8 | C5: 8 | D5: M | E5: 7 | F5: 1 | G5: SM40 | H5: =VLOOKUP(G5,CAT!$E$2:$F$26,2) -> M04 | I5: 0.02414294 | J5: 0.0025960648 | K5: SIMPATICO | L5: DOMENICO | M5: [0:34:45,95] | N5: PODISTI ALTO SANNIO | O5: 235 | P5: 45
A6: =CONCATENATE(K6,"_",L6,"_",H6) -> NAPOLITANO_BENITO_M02 | B6: 10 | C6: 10 | D6: M | E6: 11 | F6: 2 | G6: PM | H6: =VLOOKUP(G6,CAT!$E$2:$F$26,2) -> M02 | I6: 0.024413194 | J6: 0.0026251157 | K6: NAPOLITANO | L6: BENITO | M6: [0:35:09,30] | N6: TABURNO RUNNERS | O6: 230 | P6: 42
A7: =CONCATENATE(K7,"_",L7,"_",H7) -> COLESANTO_MASSIMILIANO_M04 | B7: 11 | C7: 11 | D7: M | E7: 9 | F7: 3 | G7: SM40 | H7: =VLOOKUP(G7,CAT!$E$2:$F$26,2) -> M04 | I7: 0.024418403 | J7: 0.0026255787 | K7: COLESANTO | L7: MASSIMILIANO | M7: [0:35:09,75] | N7: SANNIO RUNNERS | O7: 228 | P7: 42
A8: =CONCATENATE(K8,"_",L8,"_",H8) -> MOLINARO_NICOLA_M06 | B8: 12 | C8: 12 | D8: M | E8: 278 | F8: 1 | G8: SM50 | H8: =VLOOKUP(G8,CAT!$E$2:$F$26,2) -> M06 | I8: 0.02447338 | J8: 0.0026315972 | K8: MOLINARO | L8: NICOLA | M8: [0:35:14,50] | N8: PODISTI ALTO SANNIO | O8: 226 | P8: 45
A9: =CONCATENATE(K9,"_",L9,"_",H9) -> PILLA_EMILIANO_M03 | B9: 13 | C9: 13 | D9: M | E9: 159 | F9: 5 | G9: SM35 | H9: =VLOOKUP(G9,CAT!$E$2:$F$26,2) -> M03 | I9: 0.024474537 | J9: 0.002631713 | K9: PILLA | L9: EMILIANO | M9: [0:35:14,60] | N9: PODISTI ALTO SANNIO | O9: 224 | P9: 39
A10: =CONCATENATE(K10,"_",L10,"_",H10) -> DAMPHA_LAMIN_M02 | B10: 14 | C10: 14 | D10: M | E10: 15 | F10: 2 | G10: SM | H10: =VLOOKUP(G10,CAT!$E$2:$F$26,2) -> M02 | I10: 0.024555556 | J10: 0.0026403935 | K10: DAMPHA | L10: LAMIN | M10: [0:35:21,60] | N10: ATLETICA DUGENTA | O10: 222 | P10: 39
A11: =CONCATENATE(K11,"_",L11,"_",H11) -> IANNUCCI_PASQUALE_M04 | B11: 15 | C11: 15 | D11: M | E11: 233 | F11: 4 | G11: SM40 | H11: =VLOOKUP(G11,CAT!$E$2:$F$26,2) -> M04 | I11: 0.024977431 | J11: 0.0026857639 | K11: IANNUCCI | L11: PASQUALE | M11: [0:35:58,05] | N11: TELESIA RUNNING TEAM | O11: 220 | P11: 39
A12: =CONCATENATE(K12,"_",L12,"_",H12) -> SINISCALCHI_LODOVICO_M04 | B12: 16 | C12: 16 | D12: M | E12: 12 | F12: 5 | G12: SM40 | H12: =VLOOKUP(G12,CAT!$E$2:$F$26,2) -> M04 | I12: 0.024999421 | J12: 0.0026880787 | K12: SINISCALCHI | L12: LODOVICO | M12: [0:35:59,95] | N12: PODISTI ALTO SANNIO | O12: =O11-1 -> 219 | P12: 37
A13: =CONCATENATE(K13,"_",L13,"_",H13) -> SABATINO_ANTONIO_M05 | B13: 18 | C13: 18 | D13: M | E13: 10 | F13: 2 | G13: SM45 | H13: =VLOOKUP(G13,CAT!$E$2:$F$26,2) -> M05 | I13: 0.025335648 | J13: 0.0027243056 | K13: SABATINO | L13: ANTONIO | M13: [0:36:29,00] | N13: TABURNO RUNNERS | O13: =O12-1 -> 218 | P13: 45
A14: =CONCATENATE(K14,"_",L14,"_",H14) -> IZZO_ARCANGELO_M05 | B14: 19 | C14: 19 | D14: M | E14: 16 | F14: 3 | G14: SM45 | H14: =VLOOKUP(G14,CAT!$E$2:$F$26,2) -> M05 | I14: 0.025354745 | J14: 0.0027262731 | K14: IZZO | L14: ARCANGELO | M14: [0:36:30,65] | N14: TABURNO RUNNERS | O14: =O13-1 -> 217 | P14: 42
A15: =CONCATENATE(K15,"_",L15,"_",H15) -> DI_CERBO_LUCIANO_M07 | B15: 21 | C15: 21 | D15: M | E15: 42 | F15: 1 | G15: SM55 | H15: =VLOOKUP(G15,CAT!$E$2:$F$26,2) -> M07 | I15: 0.025435185 | J15: 0.0027349537 | K15: DI_CERBO | L15: LUCIANO | M15: [0:36:37,60] | N15: ATLETICA DUGENTA | O15: =O14-1 -> 216 | P15: 45
A16: =CONCATENATE(K16,"_",L16,"_",H16) -> GIGLIO_GIOVANNI_M06 | B16: 23 | C16: 23 | D16: M | E16: 120 | F16: 2 | G16: SM50 | H16: =VLOOKUP(G16,CAT!$E$2:$F$26,2) -> M06 | I16: 0.025590856 | J16: 0.0027517361 | K16: GIGLIO | L16: GIOVANNI | M16: [0:36:51,05] | N16: PODISTICA AVIS CAMPOBASSO | O16: =O15-1 -> 215 | P16: 42
A17: =CONCATENATE(K17,"_",L17,"_",H17) -> LOMBARDI_DOMENICO_M04 | B17: 24 | C17: 24 | D17: M | E17: 122 | F17: 8 | G17: SM40 | H17: =VLOOKUP(G17,CAT!$E$2:$F$26,2) -> M04 | I17: 0.025738426 | J17: 0.0027675926 | K17: LOMBARDI | L17: DOMENICO | M17: [0:37:03,80] | N17: PODISTICA AVIS CAMPOBASSO | O17: =O16-1 -> 214 | P17: 36
A18: =CONCATENATE(K18,"_",L18,"_",H18) -> SPELTRA_AMELIO_M02 | B18: 26 | C18: 26 | D18: M | E18: 161 | F18: 3 | G18: SM | H18: =VLOOKUP(G18,CAT!$E$2:$F$26,2) -> M02 | I18: 0.025815972 | J18: 0.0027759259 | K18: SPELTRA | L18: AMELIO | M18: [0:37:10,50] | N18: PODISTI ALTO SANNIO | O18: =O17-1 -> 213 | P18: 37
A19: =CONCATENATE(K19,"_",L19,"_",H19) -> RICCIARDI_ALESSANDRO_M04 | B19: 27 | C19: 27 | D19: M | E19: 113 | F19: 9 | G19: SM40 | H19: =VLOOKUP(G19,CAT!$E$2:$F$26,2) -> M04 | I19: 0.025834491 | J19: 0.0027778935 | K19: RICCIARDI | L19: ALESSANDRO | M19: [0:37:12,10] | N19: PODISMO BENEVENTO | O19: =O18-1 -> 212 | P19: 35
A20: =CONCATENATE(K20,"_",L20,"_",H20) -> TOZZI_ANTONIO_M02 | B20: 28 | C20: 28 | D20: M | E20: 163 | F20: 4 | G20: SM | H20: =VLOOKUP(G20,CAT!$E$2:$F$26,2) -> M02 | I20: 0.025840856 | J20: 0.002778588 | K20: TOZZI | L20: ANTONIO | M20: [0:37:12,65] | N20: PODISTI ALTO SANNIO | O20: =O19-1 -> 211 | P20: 36
A21: =CONCATENATE(K21,"_",L21,"_",H21) -> CERULO_ETTORE_M03 | B21: 31 | C21: 31 | D21: M | E21: 220 | F21: 8 | G21: SM35 | H21: =VLOOKUP(G21,CAT!$E$2:$F$26,2) -> M03 | I21: 0.025979745 | J21: 0.0027935185 | K21: CERULO | L21: ETTORE | M21: [0:37:24,65] | N21: PODISTI ALTO SANNIO | O21: =O20-1 -> 210 | P21: 37
A22: =CONCATENATE(K22,"_",L22,"_",H22) -> AMBROSINO_ALBERTO_M04 | B22: 36 | C22: 36 | D22: M | E22: 137 | F22: 11 | G22: SM40 | H22: =VLOOKUP(G22,CAT!$E$2:$F$26,2) -> M04 | I22: 0.026718171 | J22: 0.0028729167 | K22: AMBROSINO | L22: ALBERTO | M22: [0:38:28,45] | N22: PODISTI SAN GIORGIO DEL SANNIO | O22: =O21-1 -> 209 | P22: 34
A23: =CONCATENATE(K23,"_",L23,"_",H23) -> INGLESE_LUCA_M03 | B23: 37 | C23: 37 | D23: M | E23: 149 | F23: 10 | G23: SM35 | H23: =VLOOKUP(G23,CAT!$E$2:$F$26,2) -> M03 | I23: 0.026754051 | J23: 0.0028767361 | K23: INGLESE | L23: LUCA | M23: [0:38:31,55] | N23: PODISTI ALTO SANNIO | O23: =O22-1 -> 208 | P23: 36
... A127: =CONCATENATE(K127,"_",L127,"_",H127) -> CATILLO_LORENZO_M05 | B127: 267 | C127: 228 | D127: M | E127: 105 | F127: 47 | G127: SM45 | H127: =VLOOKUP(G127,CAT!$E$2:$F$26,2) -> M05 | I127: 0.041863426 | J127: 0.0045013889 | K127: CATILLO | L127: LORENZO | M127: [1:00:17,00] | N127: PODISMO BENEVENTO | O127: =O126-1 -> 104 | P127: 21

Sheet Societa
A1: POS | B1: SOCIETA' | C1: 1° TAPPA | E1: 2° TAPPA | G1: 3° TAPPA | I1: 4° TAPPA | K1: 5° TAPPA | M1: 6° TAPPA | O1: 7° TAPPA | Q1: 8° TAPPA | S1: TOTALE PROGRESSIVO
C2: Atleti | D2: Punti | E2: Atleti | F2: Punti | G2: Atleti | H2: Punti | I2: Atleti | J2: Punti | K2: Atleti | L2: Punti | M2: Atleti | N2: Punti | O2: Atleti | P2: Punti | Q2: Atleti | R2: Punti | S2: Punti
A3: 1 | B3: PODISTI ALTO SANNIO | C3: =COUNTIF(I_TAPPA!N:N,B3) -> 29 | D3: =SUMIF(I_TAPPA!N:N,B3,I_TAPPA!O:O) -> 5386 | E3: =COUNTIF(II_TAPPA!N:N,B3) -> 48 | F3: =SUMIF(II_TAPPA!N:N,B3,II_TAPPA!O:O) -> 7847 | G3: =COUNTIF(III_TAPPA!N:N,B3) -> 33 | H3: =SUMIF(III_TAPPA!N:N,B3,III_TAPPA!O:O) -> 5512 | I3: =COUNTIF(IV_TAPPA!R:R,B3) -> 43 | K3: =COUNTIF(V_TAPPA!N:N,B3) -> 34 | M3: =COUNTIF(VI_TAPPA!N:N,B3) -> 29 | O3: =COUNTIF(VII_TAPPA!N:N,B3) -> 42 | Q3: =COUNTIF(VIII_TAPPA!N:N,B3) -> 51 | S3: =SUM(D3+F3+H3+J3+L3+N3+R3+P3) -> 18745 | T3: =C3+E3+G3+I3+K3+M3+O3+Q3 -> 309
A4: 2 | B4: TELESIA RUNNING TEAM | C4: =COUNTIF(I_TAPPA!N:N,B4) -> 19 | D4: =SUMIF(I_TAPPA!N:N,B4,I_TAPPA!O:O) -> 3491 | E4: =COUNTIF(II_TAPPA!N:N,B4) -> 29 | F4: =SUMIF(II_TAPPA!N:N,B4,II_TAPPA!O:O) -> 4675 | G4: =COUNTIF(III_TAPPA!N:N,B4) -> 19 | H4: =SUMIF(III_TAPPA!N:N,B4,III_TAPPA!O:O) -> 3352 | I4: =COUNTIF(IV_TAPPA!R:R,B4) -> 62 | K4: =COUNTIF(V_TAPPA!N:N,B4) -> 19 | M4: =COUNTIF(VI_TAPPA!N:N,B4) -> 27 | O4: =COUNTIF(VII_TAPPA!N:N,B4) -> 30 | Q4: =COUNTIF(VIII_TAPPA!N:N,B4) -> 25 | S4: =SUM(D4+F4+H4+J4+L4+N4+R4+P4) -> 11518 | T4: =C4+E4+G4+I4+K4+M4+O4+Q4 -> 230
A5: 3 | B5: PODISTICA AVIS CAMPOBASSO | C5: =COUNTIF(I_TAPPA!N:N,B5) -> 9 | D5: =SUMIF(I_TAPPA!N:N,B5,I_TAPPA!O:O) -> 1750 | E5: =COUNTIF(II_TAPPA!N:N,B5) -> 8 | F5: =SUMIF(II_TAPPA!N:N,B5,II_TAPPA!O:O) -> 1552 | G5: =COUNTIF(III_TAPPA!N:N,B5) -> 30 | H5: =SUMIF(III_TAPPA!N:N,B5,III_TAPPA!O:O) -> 5106 | I5: =COUNTIF(IV_TAPPA!R:R,B5) -> 13 | K5: =COUNTIF(V_TAPPA!N:N,B5) -> 9 | M5: =COUNTIF(VI_TAPPA!N:N,B5) -> 10 | O5: =COUNTIF(VII_TAPPA!N:N,B5) -> 4 | Q5: =COUNTIF(VIII_TAPPA!N:N,B5) -> 7 | S5: =SUM(D5+F5+H5+J5+L5+N5+R5+P5) -> 8408 | T5: =C5+E5+G5+I5+K5+M5+O5+Q5 -> 90
A6: 4 | B6: PODISMO BENEVENTO | C6: =COUNTIF(I_TAPPA!N:N,B6) -> 8 | D6: =SUMIF(I_TAPPA!N:N,B6,I_TAPPA!O:O) -> 1518 | E6: =COUNTIF(II_TAPPA!N:N,B6) -> 11 | F6: =SUMIF(II_TAPPA!N:N,B6,II_TAPPA!O:O) -> 1590 | G6: =COUNTIF(III_TAPPA!N:N,B6) -> 16 | H6: =SUMIF(III_TAPPA!N:N,B6,III_TAPPA!O:O) -> 2594 | I6: =COUNTIF(IV_TAPPA!R:R,B6) -> 17 | K6: =COUNTIF(V_TAPPA!N:N,B6) -> 5 | M6: =COUNTIF(VI_TAPPA!N:N,B6) -> 12 | O6: =COUNTIF(VII_TAPPA!N:N,B6) -> 8 | Q6: =COUNTIF(VIII_TAPPA!N:N,B6) -> 13 | S6: =SUM(D6+F6+H6+J6+L6+N6+R6+P6) -> 5702 | T6: =C6+E6+G6+I6+K6+M6+O6+Q6 -> 90
A7: 5 | B7: TABURNO RUNNERS | C7: =COUNTIF(I_TAPPA!N:N,B7) -> 5 | D7: =SUMIF(I_TAPPA!N:N,B7,I_TAPPA!O:O) -> 964 | E7: =COUNTIF(II_TAPPA!N:N,B7) -> 13 | F7: =SUMIF(II_TAPPA!N:N,B7,II_TAPPA!O:O) -> 2368 | G7: =COUNTIF(III_TAPPA!N:N,B7) -> 6 | H7: =SUMIF(III_TAPPA!N:N,B7,III_TAPPA!O:O) -> 1092 | I7: =COUNTIF(IV_TAPPA!R:R,B7) -> 13 | K7: =COUNTIF(V_TAPPA!N:N,B7) -> 11 | M7: =COUNTIF(VI_TAPPA!N:N,B7) -> 7 | O7: =COUNTIF(VII_TAPPA!N:N,B7) -> 7 | Q7: =COUNTIF(VIII_TAPPA!N:N,B7) -> 10 | S7: =SUM(D7+F7+H7+J7+L7+N7+R7+P7) -> 4424 | T7: =C7+E7+G7+I7+K7+M7+O7+Q7 -> 72
A8: 6 | B8: ATLETICA DUGENTA | C8: =COUNTIF(I_TAPPA!N:N,B8) -> 6 | D8: =SUMIF(I_TAPPA!N:N,B8,I_TAPPA!O:O) -> 1098 | E8: =COUNTIF(II_TAPPA!N:N,B8) -> 3 | F8: =SUMIF(II_TAPPA!N:N,B8,II_TAPPA!O:O) -> 498 | G8: =COUNTIF(III_TAPPA!N:N,B8) -> 4 | H8: =SUMIF(III_TAPPA!N:N,B8,III_TAPPA!O:O) -> 698 | I8: =COUNTIF(IV_TAPPA!R:R,B8) -> 15 | K8: =COUNTIF(V_TAPPA!N:N,B8) -> 13 | M8: =COUNTIF(VI_TAPPA!N:N,B8) -> 6 | O8: =COUNTIF(VII_TAPPA!N:N,B8) -> 13 | Q8: =COUNTIF(VIII_TAPPA!N:N,B8) -> 9 | S8: =SUM(D8+F8+H8+J8+L8+N8+R8+P8) -> 2294 | T8: =C8+E8+G8+I8+K8+M8+O8+Q8 -> 69
A9: 7 | B9: SANNIO RUNNERS | C9: =COUNTIF(I_TAPPA!N:N,B9) -> 8 | D9: =SUMIF(I_TAPPA!N:N,B9,I_TAPPA!O:O) -> 1633 | E9: =COUNTIF(II_TAPPA!N:N,B9) -> 9 | F9: =SUMIF(II_TAPPA!N:N,B9,II_TAPPA!O:O) -> 1667 | G9: =COUNTIF(III_TAPPA!N:N,B9) -> 8 | H9: =SUMIF(III_TAPPA!N:N,B9,III_TAPPA!O:O) -> 1508 | I9: =COUNTIF(IV_TAPPA!R:R,B9) -> 9 | K9: =COUNTIF(V_TAPPA!N:N,B9) -> 6 | M9: =COUNTIF(VI_TAPPA!N:N,B9) -> 6 | O9: =COUNTIF(VII_TAPPA!N:N,B9) -> 7 | Q9: =COUNTIF(VIII_TAPPA!N:N,B9) -> 10 | S9: =SUM(D9+F9+H9+J9+L9+N9+R9+P9) -> 4808 | T9: =C9+E9+G9+I9+K9+M9+O9+Q9 -> 63
A10: 8 | B10: PODISTI SAN GIORGIO DEL SANNIO | C10: =COUNTIF(I_TAPPA!N:N,B10) -> 0 | D10: =SUMIF(I_TAPPA!N:N,B10,I_TAPPA!O:O) -> 0 | E10: =COUNTIF(II_TAPPA!N:N,B10) -> 5 | F10: =SUMIF(II_TAPPA!N:N,B10,II_TAPPA!O:O) -> 872 | G10: =COUNTIF(III_TAPPA!N:N,B10) -> 3 | H10: =SUMIF(III_TAPPA!N:N,B10,III_TAPPA!O:O) -> 458 | I10: =COUNTIF(IV_TAPPA!R:R,B10) -> 1 | K10: =COUNTIF(V_TAPPA!N:N,B10) -> 0 | M10: =COUNTIF(VI_TAPPA!N:N,B10) -> 1 | O10: =COUNTIF(VII_TAPPA!N:N,B10) -> 1 | Q10: =COUNTIF(VIII_TAPPA!N:N,B10) -> 1 | S10: =SUM(D10+F10+H10+J10+L10+N10+R10+P10) -> 1330 | T10: =C10+E10+G10+I10+K10+M10+O10+Q10 -> 12
B11: TOTALE ATLETI SOC. CORRISANNIO 2019 | C11: =SUM(C3:C10) -> 84 | E11: =SUM(E3:E10) -> 126 | G11: =SUM(G3:G10) -> 119 | I11: =SUM(I3:I10) -> 173 | K11: =SUM(K3:K10) -> 97 | M11: =SUM(M3:M10) -> 98 | O11: =SUM(O3:O10) -> 112 | Q11: =SUM(Q3:Q10) -> 126
A15: 1 | B15: SANNIO RUNNERS | C15: =C11 -> 84 | D15: 0.5 | E15: =C15*D15 -> 42
A16: 2 | B16: PODISTI SAN GIORGIO DEL SANNIO | C16: =E11 -> 126 | D16: 0.5 | E16: =C16*D16 -> 63
A17: 3 | B17: PODISTICA AVIS CAMPOBASSO | C17: =G11 -> 119 | D17: 0.5 | E17: =C17*D17 -> 59.5
A18: 4 | B18: TELESIA RUNNING TEAM | C18: =I11 -> 173 | D18: 0.5 | E18: =C18*D18 -> 86.5
A19: 5 | B19: TABURNO RUNNERS | C19: =K11 -> 97 | D19: 0.5 | E19: =C19*D19 -> 48.5
A20: 6 | B20: PODISTI ALTO SANNIO | C20: =M11 -> 98 | D20: 0.5 | E20: =C20*D20 -> 49
A21: 7 | B21: ATLETICA DUGENTA | C21: =O11 -> 112 | D21: 0.5 | E21: =C21*D21 -> 56
A22: 8 | B22: PODISMO BENEVENTO | C22: =Q11 -> 126 | D22: 0.5 | E22: =C22*D22 -> 63
B24: TOTALE PROGRESSIVO | E24: =SUM(E15:E23) -> 467.5

Sheet CAT
B1: CATEGORIA | C1: ETA'
B2: Esordienti (EM/EF) | C2: 6-11 anni | E2: AF | F2: F1
B3: Ragazzi (RM/RF) | C3: 12-13 anni | E3: AM | F3: M01
B4: Cadetti (CM/CF) | C4: 14-15 anni | E4: CF | F4: F1
B5: Allievi (AM/AF) | C5: 16-17 anni | E5: CM | F5: M01
B6: Juniores (JM/JF) | C6: 18-19 anni | E6: JF | F6: F1
A7: SM | B7: Promesse (PM/PF) | C7: 20-22 anni | E7: JM | F7: M01
B8: Seniores* (SM/SF) | C8: 23 anni ed oltre | E8: PF | F8: F2
B9: SM/SF35 | C9: 35-39 anni | E9: PM | F9: M02
B10: SM/SF40 | C10: 40-44 anni | E10: SF | F10: F2
B11: SM/SF45 | C11: 45-49 anni | E11: SF35 | F11: F3
B12: SM/SF50 | C12: 50-54 anni | E12: SF40 | F12: F4
B13: SM/SF55 | C13: 55-59 anni | E13: SF45 | F13: F5
B14: SM/SF60 | C14: 60-64 anni | E14: SF50 | F14: F6
B15: SM/SF65 | C15: 65-69 anni | E15: SF55 | F15: F7
B16: SM/SF70 | C16: 70-74 anni | E16: SF65 | F16: F8
B17: SM/SF75 | C17: 75-79 anni | E17: SM | F17: M02
B18: SM/SF80 | C18: 80-84 anni | E18: SM35 | F18: M03
B19: SM/SF85 | C19: 85-89 anni | E19: SM40 | F19: M04
... B21: SM/SF95 | C21: 95-100 anni | E21: SM50 | F21: M06
E22: SM55 | F22: M07
E23: SM60 | F23: M08
E24: SM65 | F24: M09
E25: SM70 | F25: M10
E26: SM75 | F26: M11

Sheet DB_ATLETI
A1: POS_ASS | B1: POS | C1: TESSERA | D1: CAT | F1: COGNOME | G1: NOME | H1: ANNO_NASC | I1: COD_SQ | J1: SQUADRA | K1: N. GARE | L1: 1°TAPPA | M1: 2°TAPPA | N1: 3°TAPPA | O1: 4°TAPPA | P1: 5°TAPPA | Q1: 6°TAPPA | R1: 7°TAPPA | S1: 8°TAPPA | T1: TOTALE | U1: PEGGIOR PUNTEGGIO | V1: TOT. PUNTEGGIO AL MEGLIO DI 7 GARE
A2: 1 | B2: =CONCATENATE(F2,"_",G2,"_",E2) -> PERONE_GIACOMO_M03 | C2: EPS15939 | D2: SM35 | E2: =VLOOKUP(D2,CAT!$E$2:$F$26,2) -> M03 | F2: PERONE | G2: GIACOMO | H2: 30157 | I2: EPSRT | J2: TABURNO RUNNERS | K2: =COUNT(L2:S2) -> 8 | L2: =IF(SUMIF(I_TAPPA!A:A,B2,I_TAPPA!O:O)=0,"",SUMIF(I_TAPPA!A:A,B2,I_TAPPA!O:O)) -> 260 | M2: =IF(SUMIF(II_TAPPA!A:A,B2,II_TAPPA!O:O)=0,"",SUMIF(II_TAPPA!A:A,B2,II_TAPPA!O:O)) -> 240 | N2: =IF(SUMIF(III_TAPPA!A:A,B2,III_TAPPA!O:O)=0,"",SUMIF(III_TAPPA!A:A,B2,III_TAPPA!O:O)) -> 240 | O2: =IF(SUMIF(IV_TAPPA!A:A,B2,IV_TAPPA!S:S)=0,"",SUMIF(IV_TAPPA!A:A,B2,IV_TAPPA!S:S)) -> 235 | P2: =IF(SUMIF(V_TAPPA!A:A,B2,V_TAPPA!O:O)=0,"",SUMIF(V_TAPPA!A:A,B2,V_TAPPA!O:O)) -> 250 | Q2: =IF(SUMIF(VI_TAPPA!A:A,B2,VI_TAPPA!O:O)=0,"",SUMIF(VI_TAPPA!A:A,B2,VI_TAPPA!O:O)) -> 250 | R2: =IF(SUMIF(VII_TAPPA!A:A,B2,VII_TAPPA!O:O)=0,"",SUMIF(VII_TAPPA!A:A,B2,VII_TAPPA!O:O)) -> 250 | S2: =IF(SUMIF(VIII_TAPPA!A:A,B2,VIII_TAPPA!O:O)=0,"",SUMIF(VIII_TAPPA!A:A,B2,VIII_TAPPA!O:O)) -> 260 | T2: =SUM(L2:S2) -> 1985 | U2: =IF(K2=8,MINA(L2:S2),0) -> 235 | V2: =T2-U2 -> 1750 | W2: p
A3: =A2+1 -> 2 | B3: =CONCATENATE(F3,"_",G3,"_",E3) -> GORRASI_MICHELE_M02 | C3: MC001219 | D3: SM | E3: =VLOOKUP(D3,CAT!$E$2:$F$26,2) -> M02 | F3: GORRASI | G3: MICHELE | H3: 34636 | I3: EPSSA | J3: SANNIO RUNNERS | K3: =COUNT(L3:S3) -> 8 | L3: =IF(SUMIF(I_TAPPA!A:A,B3,I_TAPPA!O:O)=0,"",SUMIF(I_TAPPA!A:A,B3,I_TAPPA!O:O)) -> 250 | M3: =IF(SUMIF(II_TAPPA!A:A,B3,II_TAPPA!O:O)=0,"",SUMIF(II_TAPPA!A:A,B3,II_TAPPA!O:O)) -> 260 | N3: =IF(SUMIF(III_TAPPA!A:A,B3,III_TAPPA!O:O)=0,"",SUMIF(III_TAPPA!A:A,B3,III_TAPPA!O:O)) -> 260 | O3: =IF(SUMIF(IV_TAPPA!A:A,B3,IV_TAPPA!S:S)=0,"",SUMIF(IV_TAPPA!A:A,B3,IV_TAPPA!S:S)) -> 228 | P3: =IF(SUMIF(V_TAPPA!A:A,B3,V_TAPPA!O:O)=0,"",SUMIF(V_TAPPA!A:A,B3,V_TAPPA!O:O)) -> 260 | Q3: =IF(SUMIF(VI_TAPPA!A:A,B3,VI_TAPPA!O:O)=0,"",SUMIF(VI_TAPPA!A:A,B3,VI_TAPPA!O:O)) -> 240 | R3: =IF(SUMIF(VII_TAPPA!A:A,B3,VII_TAPPA!O:O)=0,"",SUMIF(VII_TAPPA!A:A,B3,VII_TAPPA!O:O)) -> 240 | S3: =IF(SUMIF(VIII_TAPPA!A:A,B3,VIII_TAPPA!O:O)=0,"",SUMIF(VIII_TAPPA!A:A,B3,VIII_TAPPA!O:O)) -> 240 | T3: =SUM(L3:S3) -> 1978 | U3: =IF(K3=8,MINA(L3:S3),0) -> 228 | V3: =T3-U3 -> 1750 | W3: p
A4: =A3+1 -> 3 | B4: =CONCATENATE(F4,"_",G4,"_",E4) -> COLESANTO_MASSIMILIANO_M04 | C4: MC000034 | D4: SM40 | E4: =VLOOKUP(D4,CAT!$E$2:$F$26,2) -> M04 | F4: COLESANTO | G4: MASSIMILIANO | H4: 28657 | I4: EPSSA | J4: SANNIO RUNNERS | K4: =COUNT(L4:S4) -> 8 | L4: =IF(SUMIF(I_TAPPA!A:A,B4,I_TAPPA!O:O)=0,"",SUMIF(I_TAPPA!A:A,B4,I_TAPPA!O:O)) -> 230 | M4: =IF(SUMIF(II_TAPPA!A:A,B4,II_TAPPA!O:O)=0,"",SUMIF(II_TAPPA!A:A,B4,II_TAPPA!O:O)) -> 224 | N4: =IF(SUMIF(III_TAPPA!A:A,B4,III_TAPPA!O:O)=0,"",SUMIF(III_TAPPA!A:A,B4,III_TAPPA!O:O)) -> 226 | O4: =IF(SUMIF(IV_TAPPA!A:A,B4,IV_TAPPA!S:S)=0,"",SUMIF(IV_TAPPA!A:A,B4,IV_TAPPA!S:S)) -> 230 | P4: =IF(SUMIF(V_TAPPA!A:A,B4,V_TAPPA!O:O)=0,"",SUMIF(V_TAPPA!A:A,B4,V_TAPPA!O:O)) -> 235 | Q4: =IF(SUMIF(VI_TAPPA!A:A,B4,VI_TAPPA!O:O)=0,"",SUMIF(VI_TAPPA!A:A,B4,VI_TAPPA!O:O)) -> 235 | R4: =IF(SUMIF(VII_TAPPA!A:A,B4,VII_TAPPA!O:O)=0,"",SUMIF(VII_TAPPA!A:A,B4,VII_TAPPA!O:O)) -> 228 | S4: =IF(SUMIF(VIII_TAPPA!A:A,B4,VIII_TAPPA!O:O)=0,"",SUMIF(VIII_TAPPA!A:A,B4,VIII_TAPPA!O:O)) -> 228 | T4: =SUM(L4:S4) -> 1836 | U4: =IF(K4=8,MINA(L4:S4),0) -> 224 | V4: =T4-U4 -> 1612 | W4: p
A5: =A4+1 -> 4 | B5: =CONCATENATE(F5,"_",G5,"_",E5) -> CAPONE_ANGELO_RAFFAELE_M02 | C5: MC001181 | D5: SM | E5: =VLOOKUP(D5,CAT!$E$2:$F$26,2) -> M02 | F5: CAPONE | G5: ANGELO_RAFFAELE | H5: 31495 | I5: BN460 | J5: TELESIA RUNNING TEAM | K5: =COUNT(L5:S5) -> 7 | L5: =IF(SUMIF(I_TAPPA!A:A,B5,I_TAPPA!O:O)=0,"",SUMIF(I_TAPPA!A:A,B5,I_TAPPA!O:O)) -> 235 | M5: =IF(SUMIF(II_TAPPA!A:A,B5,II_TAPPA!O:O)=0,"",SUMIF(II_TAPPA!A:A,B5,II_TAPPA!O:O)) -> 226 | N5: =IF(SUMIF(III_TAPPA!A:A,B5,III_TAPPA!O:O)=0,"",SUMIF(III_TAPPA!A:A,B5,III_TAPPA!O:O)) -> 220 | O5: =IF(SUMIF(IV_TAPPA!A:A,B5,IV_TAPPA!S:S)=0,"",SUMIF(IV_TAPPA!A:A,B5,IV_TAPPA!S:S)) -> 226 | P5: =IF(SUMIF(V_TAPPA!A:A,B5,V_TAPPA!O:O)=0,"",SUMIF(V_TAPPA!A:A,B5,V_TAPPA!O:O)) -> 224 | Q5: =IF(SUMIF(VI_TAPPA!A:A,B5,VI_TAPPA!O:O)=0,"",SUMIF(VI_TAPPA!A:A,B5,VI_TAPPA!O:O)) -> 222 | R5: =IF(SUMIF(VII_TAPPA!A:A,B5,VII_TAPPA!O:O)=0,"",SUMIF(VII_TAPPA!A:A,B5,VII_TAPPA!O:O)) -> 230 | S5: =IF(SUMIF(VIII_TAPPA!A:A,B5,VIII_TAPPA!O:O)=0,"",SUMIF(VIII_TAPPA!A:A,B5,VIII_TAPPA!O:O)) | T5: =SUM(L5:S5) -> 1583 | U5: =IF(K5=8,MINA(L5:S5),0) -> 0 | V5: =T5-U5 -> 1583 | W5: p
A6: =A5+1 -> 5 | B6: =CONCATENATE(F6,"_",G6,"_",E6) -> SINISCALCHI_LODOVICO_M04 | C6: EPS15001 | D6: SM40 | E6: =VLOOKUP(D6,CAT!$E$2:$F$26,2) -> M04 | F6: SINISCALCHI | G6: LODOVICO | H6: 27916 | I6: EPS851 | J6: PODISTI ALTO SANNIO | K6: =COUNT(L6:S6) -> 8 | L6: =IF(SUMIF(I_TAPPA!A:A,B6,I_TAPPA!O:O)=0,"",SUMIF(I_TAPPA!A:A,B6,I_TAPPA!O:O)) -> 226 | M6: =IF(SUMIF(II_TAPPA!A:A,B6,II_TAPPA!O:O)=0,"",SUMIF(II_TAPPA!A:A,B6,II_TAPPA!O:O)) -> 214 | N6: =IF(SUMIF(III_TAPPA!A:A,B6,III_TAPPA!O:O)=0,"",SUMIF(III_TAPPA!A:A,B6,III_TAPPA!O:O)) -> 217 | O6: =IF(SUMIF(IV_TAPPA!A:A,B6,IV_TAPPA!S:S)=0,"",SUMIF(IV_TAPPA!A:A,B6,IV_TAPPA!S:S)) -> 217 | P6: =IF(SUMIF(V_TAPPA!A:A,B6,V_TAPPA!O:O)=0,"",SUMIF(V_TAPPA!A:A,B6,V_TAPPA!O:O)) -> 222 | Q6: =IF(SUMIF(VI_TAPPA!A:A,B6,VI_TAPPA!O:O)=0,"",SUMIF(VI_TAPPA!A:A,B6,VI_TAPPA!O:O)) -> 224 | R6: =IF(SUMIF(VII_TAPPA!A:A,B6,VII_TAPPA!O:O)=0,"",SUMIF(VII_TAPPA!A:A,B6,VII_TAPPA!O:O)) -> 220 | S6: =IF(SUMIF(VIII_TAPPA!A:A,B6,VIII_TAPPA!O:O)=0,"",SUMIF(VIII_TAPPA!A:A,B6,VIII_TAPPA!O:O)) -> 219 | T6: =SUM(L6:S6) -> 1759 | U6: =IF(K6=8,MINA(L6:S6),0) -> 214 | V6: =T6-U6 -> 1545 | W6: p
A7: =A6+1 -> 6 | B7: =CONCATENATE(F7,"_",G7,"_",E7) -> PILLA_EMILIANO_M03 | C7: EPS16847 | D7: SM35 | E7: =VLOOKUP(D7,CAT!$E$2:$F$26,2) -> M03 | F7: PILLA | G7: EMILIANO | H7: 30180 | I7: EPS851 | J7: PODISTI ALTO SANNIO | K7: =COUNT(L7:S7) -> 8 | L7: =IF(SUMIF(I_TAPPA!A:A,B7,I_TAPPA!O:O)=0,"",SUMIF(I_TAPPA!A:A,B7,I_TAPPA!O:O)) -> 222 | M7: =IF(SUMIF(II_TAPPA!A:A,B7,II_TAPPA!O:O)=0,"",SUMIF(II_TAPPA!A:A,B7,II_TAPPA!O:O)) -> 215 | N7: =IF(SUMIF(III_TAPPA!A:A,B7,III_TAPPA!O:O)=0,"",SUMIF(III_TAPPA!A:A,B7,III_TAPPA!O:O)) -> 222 | O7: =IF(SUMIF(IV_TAPPA!A:A,B7,IV_TAPPA!S:S)=0,"",SUMIF(IV_TAPPA!A:A,B7,IV_TAPPA!S:S)) -> 219 | P7: =IF(SUMIF(V_TAPPA!A:A,B7,V_TAPPA!O:O)=0,"",SUMIF(V_TAPPA!A:A,B7,V_TAPPA!O:O)) -> 218 | Q7: =IF(SUMIF(VI_TAPPA!A:A,B7,VI_TAPPA!O:O)=0,"",SUMIF(VI_TAPPA!A:A,B7,VI_TAPPA!O:O)) -> 217 | R7: =IF(SUMIF(VII_TAPPA!A:A,B7,VII_TAPPA!O:O)=0,"",SUMIF(VII_TAPPA!A:A,B7,VII_TAPPA!O:O)) -> 219 | S7: =IF(SUMIF(VIII_TAPPA!A:A,B7,VIII_TAPPA!O:O)=0,"",SUMIF(VIII_TAPPA!A:A,B7,VIII_TAPPA!O:O)) -> 224 | T7: =SUM(L7:S7) -> 1756 | U7: =IF(K7=8,MINA(L7:S7),0) -> 215 | V7: =T7-U7 -> 1541 | W7: p
A8: =A7+1 -> 7 | B8: =CONCATENATE(F8,"_",G8,"_",E8) -> IANNUCCI_PASQUALE_M04 | C8: MC001523 | D8: SM40 | E8: =VLOOKUP(D8,CAT!$E$2:$F$26,2) -> M04 | F8: IANNUCCI | G8: PASQUALE | H8: 29139 | I8: BN460 | J8: TELESIA RUNNING TEAM | K8: =COUNT(L8:S8) -> 8 | L8: =IF(SUMIF(I_TAPPA!A:A,B8,I_TAPPA!O:O)=0,"",SUMIF(I_TAPPA!A:A,B8,I_TAPPA!O:O)) -> 219 | M8: =IF(SUMIF(II_TAPPA!A:A,B8,II_TAPPA!O:O)=0,"",SUMIF(II_TAPPA!A:A,B8,II_TAPPA!O:O)) -> 159 | N8: =IF(SUMIF(III_TAPPA!A:A,B8,III_TAPPA!O:O)=0,"",SUMIF(III_TAPPA!A:A,B8,III_TAPPA!O:O)) -> 219 | O8: =IF(SUMIF(IV_TAPPA!A:A,B8,IV_TAPPA!S:S)=0,"",SUMIF(IV_TAPPA!A:A,B8,IV_TAPPA!S:S)) -> 218 | P8: =IF(SUMIF(V_TAPPA!A:A,B8,V_TAPPA!O:O)=0,"",SUMIF(V_TAPPA!A:A,B8,V_TAPPA!O:O)) -> 216 | Q8: =IF(SUMIF(VI_TAPPA!A:A,B8,VI_TAPPA!O:O)=0,"",SUMIF(VI_TAPPA!A:A,B8,VI_TAPPA!O:O)) -> 214 | R8: =IF(SUMIF(VII_TAPPA!A:A,B8,VII_TAPPA!O:O)=0,"",SUMIF(VII_TAPPA!A:A,B8,VII_TAPPA!O:O)) -> 217 | S8: =IF(SUMIF(VIII_TAPPA!A:A,B8,VIII_TAPPA!O:O)=0,"",SUMIF(VIII_TAPPA!A:A,B8,VIII_TAPPA!O:O)) -> 220 | T8: =SUM(L8:S8) -> 1682 | U8: =IF(K8=8,MINA(L8:S8),0) -> 159 | V8: =T8-U8 -> 1523
A9: =A8+1 -> 8 | B9: =CONCATENATE(F9,"_",G9,"_",E9) -> DI_CERBO_LUCIANO_M07 | C9: MA041383 | D9: SM55 | E9: =VLOOKUP(D9,CAT!$E$2:$F$26,2) -> M07 | F9: DI_CERBO | G9: LUCIANO | H9: 23724 | I9: BN300 | J9: ATLETICA DUGENTA | K9: =COUNT(L9:S9) -> 8 | L9: =IF(SUMIF(I_TAPPA!A:A,B9,I_TAPPA!O:O)=0,"",SUMIF(I_TAPPA!A:A,B9,I_TAPPA!O:O)) -> 224 | M9: =IF(SUMIF(II_TAPPA!A:A,B9,II_TAPPA!O:O)=0,"",SUMIF(II_TAPPA!A:A,B9,II_TAPPA!O:O)) -> 218 | N9: =IF(SUMIF(III_TAPPA!A:A,B9,III_TAPPA!O:O)=0,"",SUMIF(III_TAPPA!A:A,B9,III_TAPPA!O:O)) -> 213 | O9: =IF(SUMIF(IV_TAPPA!A:A,B9,IV_TAPPA!S:S)=0,"",SUMIF(IV_TAPPA!A:A,B9,IV_TAPPA!S:S)) -> 207 | P9: =IF(SUMIF(V_TAPPA!A:A,B9,V_TAPPA!O:O)=0,"",SUMIF(V_TAPPA!A:A,B9,V_TAPPA!O:O)) -> 215 | Q9: =IF(SUMIF(VI_TAPPA!A:A,B9,VI_TAPPA!O:O)=0,"",SUMIF(VI_TAPPA!A:A,B9,VI_TAPPA!O:O)) -> 216 | R9: =IF(SUMIF(VII_TAPPA!A:A,B9,VII_TAPPA!O:O)=0,"",SUMIF(VII_TAPPA!A:A,B9,VII_TAPPA!O:O)) -> 216 | S9: =IF(SUMIF(VIII_TAPPA!A:A,B9,VIII_TAPPA!O:O)=0,"",SUMIF(VIII_TAPPA!A:A,B9,VIII_TAPPA!O:O)) -> 216 | T9: =SUM(L9:S9) -> 1725 | U9: =IF(K9=8,MINA(L9:S9),0) -> 207 | V9: =T9-U9 -> 1518
A10: =A9+1 -> 9 | B10: =CONCATENATE(F10,"_",G10,"_",E10) -> LOMBARDI_DOMENICO_M04 | C10: 190688571 | D10: SM40 | E10: =VLOOKUP(D10,CAT!$E$2:$F$26,2) -> M04 | F10: LOMBARDI | G10: DOMENICO | H10: 28157 | I10: CB032 | J10: PODISTICA AVIS CAMPOBASSO | K10: =COUNT(L10:S10) -> 8 | L10: =IF(SUMIF(I_TAPPA!A:A,B10,I_TAPPA!O:O)=0,"",SUMIF(I_TAPPA!A:A,B10,I_TAPPA!O:O)) -> 212 | M10: =IF(SUMIF(II_TAPPA!A:A,B10,II_TAPPA!O:O)=0,"",SUMIF(II_TAPPA!A:A,B10,II_TAPPA!O:O)) -> 212 | N10: =IF(SUMIF(III_TAPPA!A:A,B10,III_TAPPA!O:O)=0,"",SUMIF(III_TAPPA!A:A,B10,III_TAPPA!O:O)) -> 218 | O10: =IF(SUMIF(IV_TAPPA!A:A,B10,IV_TAPPA!S:S)=0,"",SUMIF(IV_TAPPA!A:A,B10,IV_TAPPA!S:S)) -> 214 | P10: =IF(SUMIF(V_TAPPA!A:A,B10,V_TAPPA!O:O)=0,"",SUMIF(V_TAPPA!A:A,B10,V_TAPPA!O:O)) -> 213 | Q10: =IF(SUMIF(VI_TAPPA!A:A,B10,VI_TAPPA!O:O)=0,"",SUMIF(VI_TAPPA!A:A,B10,VI_TAPPA!O:O)) -> 208 | R10: =IF(SUMIF(VII_TAPPA!A:A,B10,VII_TAPPA!O:O)=0,"",SUMIF(VII_TAPPA!A:A,B10,VII_TAPPA!O:O)) -> 212 | S10: =IF(SUMIF(VIII_TAPPA!A:A,B10,VIII_TAPPA!O:O)=0,"",SUMIF(VIII_TAPPA!A:A,B10,VIII_TAPPA!O:O)) -> 214 | T10: =SUM(L10:S10) -> 1703 | U10: =IF(K10=8,MINA(L10:S10),0) -> 208 | V10: =T10-U10 -> 1495
A11: =A10+1 -> 10 | B11: =CONCATENATE(F11,"_",G11,"_",E11) -> SPELTRA_AMELIO_M02 | C11: EPS07174 | D11: SM | E11: =VLOOKUP(D11,CAT!$E$2:$F$26,2) -> M02 | F11: SPELTRA | G11: AMELIO | H11: 31081 | I11: EPS851 | J11: PODISTI ALTO SANNIO | K11: =COUNT(L11:S11) -> 7 | L11: =IF(SUMIF(I_TAPPA!A:A,B11,I_TAPPA!O:O)=0,"",SUMIF(I_TAPPA!A:A,B11,I_TAPPA!O:O)) -> 218 | M11: =IF(SUMIF(II_TAPPA!A:A,B11,II_TAPPA!O:O)=0,"",SUMIF(II_TAPPA!A:A,B11,II_TAPPA!O:O)) -> 210 | N11: =IF(SUMIF(III_TAPPA!A:A,B11,III_TAPPA!O:O)=0,"",SUMIF(III_TAPPA!A:A,B11,III_TAPPA!O:O)) -> 214 | O11: =IF(SUMIF(IV_TAPPA!A:A,B11,IV_TAPPA!S:S)=0,"",SUMIF(IV_TAPPA!A:A,B11,IV_TAPPA!S:S)) -> 209 | P11: =IF(SUMIF(V_TAPPA!A:A,B11,V_TAPPA!O:O)=0,"",SUMIF(V_TAPPA!A:A,B11,V_TAPPA!O:O)) | Q11: =IF(SUMIF(VI_TAPPA!A:A,B11,VI_TAPPA!O:O)=0,"",SUMIF(VI_TAPPA!A:A,B11,VI_TAPPA!O:O)) -> 213 | R11: =IF(SUMIF(VII_TAPPA!A:A,B11,VII_TAPPA!O:O)=0,"",SUMIF(VII_TAPPA!A:A,B11,VII_TAPPA!O:O)) -> 214 | S11: =IF(SUMIF(VIII_TAPPA!A:A,B11,VIII_TAPPA!O:O)=0,"",SUMIF(VIII_TAPPA!A:A,B11,VIII_TAPPA!O:O)) -> 213 | T11: =SUM(L11:S11) -> 1491 | U11: =IF(K11=8,MINA(L11:S11),0) -> 0 | V11: =T11-U11 -> 1491
A12: =A11+1 -> 11 | B12: =CONCATENATE(F12,"_",G12,"_",E12) -> RICCIARDI_ALESSANDRO_M04 | C12: MA040861 | D12: SM40 | E12: =VLOOKUP(D12,CAT!$E$2:$F$26,2) -> M04 | F12: RICCIARDI | G12: ALESSANDRO | H12: 28651 | I12: BN702 | J12: PODISMO BENEVENTO | K12: =COUNT(L12:S12) -> 8 | L12: =IF(SUMIF(I_TAPPA!A:A,B12,I_TAPPA!O:O)=0,"",SUMIF(I_TAPPA!A:A,B12,I_TAPPA!O:O)) -> 216 | M12: =IF(SUMIF(II_TAPPA!A:A,B12,II_TAPPA!O:O)=0,"",SUMIF(II_TAPPA!A:A,B12,II_TAPPA!O:O)) -> 208 | N12: =IF(SUMIF(III_TAPPA!A:A,B12,III_TAPPA!O:O)=0,"",SUMIF(III_TAPPA!A:A,B12,III_TAPPA!O:O)) -> 210 | O12: =IF(SUMIF(IV_TAPPA!A:A,B12,IV_TAPPA!S:S)=0,"",SUMIF(IV_TAPPA!A:A,B12,IV_TAPPA!S:S)) -> 206 | P12: =IF(SUMIF(V_TAPPA!A:A,B12,V_TAPPA!O:O)=0,"",SUMIF(V_TAPPA!A:A,B12,V_TAPPA!O:O)) -> 212 | Q12: =IF(SUMIF(VI_TAPPA!A:A,B12,VI_TAPPA!O:O)=0,"",SUMIF(VI_TAPPA!A:A,B12,VI_TAPPA!O:O)) -> 210 | R12: =IF(SUMIF(VII_TAPPA!A:A,B12,VII_TAPPA!O:O)=0,"",SUMIF(VII_TAPPA!A:A,B12,VII_TAPPA!O:O)) -> 215 | S12: =IF(SUMIF(VIII_TAPPA!A:A,B12,VIII_TAPPA!O:O)=0,"",SUMIF(VIII_TAPPA!A:A,B12,VIII_TAPPA!O:O)) -> 212 | T12: =SUM(L12:S12) -> 1689 | U12: =IF(K12=8,MINA(L12:S12),0) -> 206 | V12: =T12-U12 -> 1483
A13: =A12+1 -> 12 | B13: =CONCATENATE(F13,"_",G13,"_",E13) -> DE_MARCO_DOMENICO_M05 | C13: PB000990 | D13: SM45 | E13: =VLOOKUP(D13,CAT!$E$2:$F$26,2) -> M05 | F13: DE_MARCO | G13: DOMENICO | H13: 27140 | I13: CB032 | J13: PODISTICA AVIS CAMPOBASSO | K13: =COUNT(L13:S13) -> 7 | L13: =IF(SUMIF(I_TAPPA!A:A,B13,I_TAPPA!O:O)=0,"",SUMIF(I_TAPPA!A:A,B13,I_TAPPA!O:O)) -> 217 | M13: =IF(SUMIF(II_TAPPA!A:A,B13,II_TAPPA!O:O)=0,"",SUMIF(II_TAPPA!A:A,B13,II_TAPPA!O:O)) -> 209 | N13: =IF(SUMIF(III_TAPPA!A:A,B13,III_TAPPA!O:O)=0,"",SUMIF(III_TAPPA!A:A,B13,III_TAPPA!O:O)) -> 215 | O13: =IF(SUMIF(IV_TAPPA!A:A,B13,IV_TAPPA!S:S)=0,"",SUMIF(IV_TAPPA!A:A,B13,IV_TAPPA!S:S)) -> 208 | P13: =IF(SUMIF(V_TAPPA!A:A,B13,V_TAPPA!O:O)=0,"",SUMIF(V_TAPPA!A:A,B13,V_TAPPA!O:O)) -> 208 | Q13: =IF(SUMIF(VI_TAPPA!A:A,B13,VI_TAPPA!O:O)=0,"",SUMIF(VI_TAPPA!A:A,B13,VI_TAPPA!O:O)) -> 212 | R13: =IF(SUMIF(VII_TAPPA!A:A,B13,VII_TAPPA!O:O)=0,"",SUMIF(VII_TAPPA!A:A,B13,VII_TAPPA!O:O)) -> 210 | S13: =IF(SUMIF(VIII_TAPPA!A:A,B13,VIII_TAPPA!O:O)=0,"",SUMIF(VIII_TAPPA!A:A,B13,VIII_TAPPA!O:O)) | T13: =SUM(L13:S13) -> 1479 | U13: =IF(K13=8,MINA(L13:S13),0) -> 0 | V13: =T13-U13 -> 1479
A14: =A13+1 -> 13 | B14: =CONCATENATE(F14,"_",G14,"_",E14) -> PRINCIPE_MICHELE_M07 | C14: MA032799 | D14: SM55 | E14: =VLOOKUP(D14,CAT!$E$2:$F$26,2) -> M07 | F14: PRINCIPE | G14: MICHELE | H14: 22430 | I14: BN460 | J14: TELESIA RUNNING TEAM | K14: =COUNT(L14:S14) -> 7 | L14: =IF(SUMIF(I_TAPPA!A:A,B14,I_TAPPA!O:O)=0,"",SUMIF(I_TAPPA!A:A,B14,I_TAPPA!O:O)) -> 207 | M14: =IF(SUMIF(II_TAPPA!A:A,B14,II_TAPPA!O:O)=0,"",SUMIF(II_TAPPA!A:A,B14,II_TAPPA!O:O)) -> 205 | N14: =IF(SUMIF(III_TAPPA!A:A,B14,III_TAPPA!O:O)=0,"",SUMIF(III_TAPPA!A:A,B14,III_TAPPA!O:O)) -> 207 | O14: =IF(SUMIF(IV_TAPPA!A:A,B14,IV_TAPPA!S:S)=0,"",SUMIF(IV_TAPPA!A:A,B14,IV_TAPPA!S:S)) -> 197 | P14: =IF(SUMIF(V_TAPPA!A:A,B14,V_TAPPA!O:O)=0,"",SUMIF(V_TAPPA!A:A,B14,V_TAPPA!O:O)) | Q14: =IF(SUMIF(VI_TAPPA!A:A,B14,VI_TAPPA!O:O)=0,"",SUMIF(VI_TAPPA!A:A,B14,VI_TAPPA!O:O)) -> 203 | R14: =IF(SUMIF(VII_TAPPA!A:A,B14,VII_TAPPA!O:O)=0,"",SUMIF(VII_TAPPA!A:A,B14,VII_TAPPA!O:O)) -> 202 | S14: =IF(SUMIF(VIII_TAPPA!A:A,B14,VIII_TAPPA!O:O)=0,"",SUMIF(VIII_TAPPA!A:A,B14,VIII_TAPPA!O:O)) -> 203 | T14: =SUM(L14:S14) -> 1424 | U14: =IF(K14=8,MINA(L14:S14),0) -> 0 | V14: =T14-U14 -> 1424
A15: =A14+1 -> 14 | B15: =CONCATENATE(F15,"_",G15,"_",E15) -> COLESANTI_ROBERTA_F2 | C15: EPS05681 | D15: SF | E15: =VLOOKUP(D15,CAT!$E$2:$F$26,2) -> F2 | F15: COLESANTI | G15: ROBERTA | H15: 31979 | I15: EPS851 | J15: PODISTI ALTO SANNIO | K15: =COUNT(L15:S15) -> 8 | L15: =IF(SUMIF(I_TAPPA!A:A,B15,I_TAPPA!O:O)=0,"",SUMIF(I_TAPPA!A:A,B15,I_TAPPA!O:O)) -> 204 | M15: =IF(SUMIF(II_TAPPA!A:A,B15,II_TAPPA!O:O)=0,"",SUMIF(II_TAPPA!A:A,B15,II_TAPPA!O:O)) -> 200 | N15: =IF(SUMIF(III_TAPPA!A:A,B15,III_TAPPA!O:O)=0,"",SUMIF(III_TAPPA!A:A,B15,III_TAPPA!O:O)) -> 202 | O15: =IF(SUMIF(IV_TAPPA!A:A,B15,IV_TAPPA!S:S)=0,"",SUMIF(IV_TAPPA!A:A,B15,IV_TAPPA!S:S)) -> 188 | P15: =IF(SUMIF(V_TAPPA!A:A,B15,V_TAPPA!O:O)=0,"",SUMIF(V_TAPPA!A:A,B15,V_TAPPA!O:O)) -> 204 | Q15: =IF(SUMIF(VI_TAPPA!A:A,B15,VI_TAPPA!O:O)=0,"",SUMIF(VI_TAPPA!A:A,B15,VI_TAPPA!O:O)) -> 204 | R15: =IF(SUMIF(VII_TAPPA!A:A,B15,VII_TAPPA!O:O)=0,"",SUMIF(VII_TAPPA!A:A,B15,VII_TAPPA!O:O)) -> 204 | S15: =IF(SUMIF(VIII_TAPPA!A:A,B15,VIII_TAPPA!O:O)=0,"",SUMIF(VIII_TAPPA!A:A,B15,VIII_TAPPA!O:O)) -> 194 | T15: =SUM(L15:S15) -> 1600 | U15: =IF(K15=8,MINA(L15:S15),0) -> 188 | V15: =T15-U15 -> 1412 | W15: p
A16: =A15+1 -> 15 | B16: =CONCATENATE(F16,"_",G16,"_",E16) -> FERRI_LEUCIO_M06 | C16: EPS17640 | D16: SM50 | E16: =VLOOKUP(D16,CAT!$E$2:$F$26,2) -> M06 | F16: FERRI | G16: LEUCIO | H16: 24597 | I16: EPS851 | J16: PODISTI ALTO SANNIO | K16: =COUNT(L16:S16) -> 7 | L16: =IF(SUMIF(I_TAPPA!A:A,B16,I_TAPPA!O:O)=0,"",SUMIF(I_TAPPA!A:A,B16,I_TAPPA!O:O)) -> 210 | M16: =IF(SUMIF(II_TAPPA!A:A,B16,II_TAPPA!O:O)=0,"",SUMIF(II_TAPPA!A:A,B16,II_TAPPA!O:O)) -> 199 | N16: =IF(SUMIF(III_TAPPA!A:A,B16,III_TAPPA!O:O)=0,"",SUMIF(III_TAPPA!A:A,B16,III_TAPPA!O:O)) -> 201 | O16: =IF(SUMIF(IV_TAPPA!A:A,B16,IV_TAPPA!S:S)=0,"",SUMIF(IV_TAPPA!A:A,B16,IV_TAPPA!S:S)) -> 189 | P16: =IF(SUMIF(V_TAPPA!A:A,B16,V_TAPPA!O:O)=0,"",SUMIF(V_TAPPA!A:A,B16,V_TAPPA!O:O)) -> 194 | Q16: =IF(SUMIF(VI_TAPPA!A:A,B16,VI_TAPPA!O:O)=0,"",SUMIF(VI_TAPPA!A:A,B16,VI_TAPPA!O:O)) | R16: =IF(SUMIF(VII_TAPPA!A:A,B16,VII_TAPPA!O:O)=0,"",SUMIF(VII_TAPPA!A:A,B16,VII_TAPPA!O:O)) -> 207 | S16: =IF(SUMIF(VIII_TAPPA!A:A,B16,VIII_TAPPA!O:O)=0,"",SUMIF(VIII_TAPPA!A:A,B16,VIII_TAPPA!O:O)) -> 204 | T16: =SUM(L16:S16) -> 1404 | U16: =IF(K16=8,MINA(L16:S16),0) -> 0 | V16: =T16-U16 -> 1404
A17: =A16+1 -> 16 | B17: =CONCATENATE(F17,"_",G17,"_",E17) -> LAVORGNA_ANTONIO_M03 | C17: EPS14585 | D17: SM35 | E17: =VLOOKUP(D17,CAT!$E$2:$F$26,2) -> M03 | F17: LAVORGNA | G17: ANTONIO | H17: 29834 | I17: EPS851 | J17: PODISTI ALTO SANNIO | K17: =COUNT(L17:S17) -> 8 | L17: =IF(SUMIF(I_TAPPA!A:A,B17,I_TAPPA!O:O)=0,"",SUMIF(I_TAPPA!A:A,B17,I_TAPPA!O:O)) -> 205 | M17: =IF(SUMIF(II_TAPPA!A:A,B17,II_TAPPA!O:O)=0,"",SUMIF(II_TAPPA!A:A,B17,II_TAPPA!O:O)) -> 193 | N17: =IF(SUMIF(III_TAPPA!A:A,B17,III_TAPPA!O:O)=0,"",SUMIF(III_TAPPA!A:A,B17,III_TAPPA!O:O)) -> 191 | O17: =IF(SUMIF(IV_TAPPA!A:A,B17,IV_TAPPA!S:S)=0,"",SUMIF(IV_TAPPA!A:A,B17,IV_TAPPA!S:S)) -> 190 | P17: =IF(SUMIF(V_TAPPA!A:A,B17,V_TAPPA!O:O)=0,"",SUMIF(V_TAPPA!A:A,B17,V_TAPPA!O:O)) -> 159 | Q17: =IF(SUMIF(VI_TAPPA!A:A,B17,VI_TAPPA!O:O)=0,"",SUMIF(VI_TAPPA!A:A,B17,VI_TAPPA!O:O)) -> 200 | R17: =IF(SUMIF(VII_TAPPA!A:A,B17,VII_TAPPA!O:O)=0,"",SUMIF(VII_TAPPA!A:A,B17,VII_TAPPA!O:O)) -> 201 | S17: =IF(SUMIF(VIII_TAPPA!A:A,B17,VIII_TAPPA!O:O)=0,"",SUMIF(VIII_TAPPA!A:A,B17,VIII_TAPPA!O:O)) -> 202 | T17: =SUM(L17:S17) -> 1541 | U17: =IF(K17=8,MINA(L17:S17),0) -> 159 | V17: =T17-U17 -> 1382
A18: =A17+1 -> 17 | B18: =CONCATENATE(F18,"_",G18,"_",E18) -> BOTTICELLA_MAURIZIO_M06 | C18: MA018599 | D18: SM50 | E18: =VLOOKUP(D18,CAT!$E$2:$F$26,2) -> M06 | F18: BOTTICELLA | G18: MAURIZIO | H18: 24077 | I18: EPSSA | J18: SANNIO RUNNERS | K18: =COUNT(L18:S18) -> 8 | L18: =IF(SUMIF(I_TAPPA!A:A,B18,I_TAPPA!O:O)=0,"",SUMIF(I_TAPPA!A:A,B18,I_TAPPA!O:O)) -> 201 | M18: =IF(SUMIF(II_TAPPA!A:A,B18,II_TAPPA!O:O)=0,"",SUMIF(II_TAPPA!A:A,B18,II_TAPPA!O:O)) -> 180 | N18: =IF(SUMIF(III_TAPPA!A:A,B18,III_TAPPA!O:O)=0,"",SUMIF(III_TAPPA!A:A,B18,III_TAPPA!O:O)) -> 185 | O18: =IF(SUMIF(IV_TAPPA!A:A,B18,IV_TAPPA!S:S)=0,"",SUMIF(IV_TAPPA!A:A,B18,IV_TAPPA!S:S)) -> 159 | P18: =IF(SUMIF(V_TAPPA!A:A,B18,V_TAPPA!O:O)=0,"",SUMIF(V_TAPPA!A:A,B18,V_TAPPA!O:O)) -> 200 | Q18: =IF(SUMIF(VI_TAPPA!A:A,B18,VI_TAPPA!O:O)=0,"",SUMIF(VI_TAPPA!A:A,B18,VI_TAPPA!O:O)) -> 193 | R18: =IF(SUMIF(VII_TAPPA!A:A,B18,VII_TAPPA!O:O)=0,"",SUMIF(VII_TAPPA!A:A,B18,VII_TAPPA!O:O)) -> 197 | S18: =IF(SUMIF(VIII_TAPPA!A:A,B18,VIII_TAPPA!O:O)=0,"",SUMIF(VIII_TAPPA!A:A,B18,VIII_TAPPA!O:O)) -> 201 | T18: =SUM(L18:S18) -> 1516 | U18: =IF(K18=8,MINA(L18:S18),0) -> 159 | V18: =T18-U18 -> 1357
A19: =A18+1 -> 18 | B19: =CONCATENATE(F19,"_",G19,"_",E19) -> GRASSO_ANGELO_M02 | C19: MA034920 | D19: SM | E19: =VLOOKUP(D19,CAT!$E$2:$F$26,2) -> M02 | F19: GRASSO | G19: ANGELO | H19: 31712 | I19: EPSSA | J19: SANNIO RUNNERS | K19: =COUNT(L19:S19) -> 6 | L19: =IF(SUMIF(I_TAPPA!A:A,B19,I_TAPPA!O:O)=0,"",SUMIF(I_TAPPA!A:A,B19,I_TAPPA!O:O)) -> 213 | M19: =IF(SUMIF(II_TAPPA!A:A,B19,II_TAPPA!O:O)=0,"",SUMIF(II_TAPPA!A:A,B19,II_TAPPA!O:O)) -> 222 | N19: =IF(SUMIF(III_TAPPA!A:A,B19,III_TAPPA!O:O)=0,"",SUMIF(III_TAPPA!A:A,B19,III_TAPPA!O:O)) -> 228 | O19: =IF(SUMIF(IV_TAPPA!A:A,B19,IV_TAPPA!S:S)=0,"",SUMIF(IV_TAPPA!A:A,B19,IV_TAPPA!S:S)) -> 222 | P19: =IF(SUMIF(V_TAPPA!A:A,B19,V_TAPPA!O:O)=0,"",SUMIF(V_TAPPA!A:A,B19,V_TAPPA!O:O)) | Q19: =IF(SUMIF(VI_TAPPA!A:A,B19,VI_TAPPA!O:O)=0,"",SUMIF(VI_TAPPA!A:A,B19,VI_TAPPA!O:O)) -> 230 | R19: =IF(SUMIF(VII_TAPPA!A:A,B19,VII_TAPPA!O:O)=0,"",SUMIF(VII_TAPPA!A:A,B19,VII_TAPPA!O:O)) -> 235 | S19: =IF(SUMIF(VIII_TAPPA!A:A,B19,VIII_TAPPA!O:O)=0,"",SUMIF(VIII_TAPPA!A:A,B19,VIII_TAPPA!O:O)) | T19: =SUM(L19:S19) -> 1350 | U19: =IF(K19=8,MINA(L19:S19),0) -> 0 | V19: =T19-U19 -> 1350
A20: =A19+1 -> 19 | B20: =CONCATENATE(F20,"_",G20,"_",E20) -> SORIANO_ANTONIO_M06 | C20: EPS13555 | D20: SM50 | E20: =VLOOKUP(D20,CAT!$E$2:$F$26,2) -> M06 | F20: SORIANO | G20: ANTONIO | H20: 25541 | I20: EPS851 | J20: PODISTI ALTO SANNIO | K20: =COUNT(L20:S20) -> 8 | L20: =IF(SUMIF(I_TAPPA!A:A,B20,I_TAPPA!O:O)=0,"",SUMIF(I_TAPPA!A:A,B20,I_TAPPA!O:O)) -> 194 | M20: =IF(SUMIF(II_TAPPA!A:A,B20,II_TAPPA!O:O)=0,"",SUMIF(II_TAPPA!A:A,B20,II_TAPPA!O:O)) -> 184 | N20: =IF(SUMIF(III_TAPPA!A:A,B20,III_TAPPA!O:O)=0,"",SUMIF(III_TAPPA!A:A,B20,III_TAPPA!O:O)) -> 187 | O20: =IF(SUMIF(IV_TAPPA!A:A,B20,IV_TAPPA!S:S)=0,"",SUMIF(IV_TAPPA!A:A,B20,IV_TAPPA!S:S)) -> 174 | P20: =IF(SUMIF(V_TAPPA!A:A,B20,V_TAPPA!O:O)=0,"",SUMIF(V_TAPPA!A:A,B20,V_TAPPA!O:O)) -> 198 | Q20: =IF(SUMIF(VI_TAPPA!A:A,B20,VI_TAPPA!O:O)=0,"",SUMIF(VI_TAPPA!A:A,B20,VI_TAPPA!O:O)) -> 192 | R20: =IF(SUMIF(VII_TAPPA!A:A,B20,VII_TAPPA!O:O)=0,"",SUMIF(VII_TAPPA!A:A,B20,VII_TAPPA!O:O)) -> 192 | S20: =IF(SUMIF(VIII_TAPPA!A:A,B20,VIII_TAPPA!O:O)=0,"",SUMIF(VIII_TAPPA!A:A,B20,VIII_TAPPA!O:O)) -> 199 | T20: =SUM(L20:S20) -> 1520 | U20: =IF(K20=8,MINA(L20:S20),0) -> 174 | V20: =T20-U20 -> 1346
A21: =A20+1 -> 20 | B21: =CONCATENATE(F21,"_",G21,"_",E21) -> CANU_GIANFRANCO_M09 | C21: PA001841 | D21: SM65 | E21: =VLOOKUP(D21,CAT!$E$2:$F$26,2) -> M09 | F21: CANU | G21: GIANFRANCO | H21: 19208 | I21: CB032 | J21: PODISTICA AVIS CAMPOBASSO | K21: =COUNT(L21:S21) -> 8 | L21: =IF(SUMIF(I_TAPPA!A:A,B21,I_TAPPA!O:O)=0,"",SUMIF(I_TAPPA!A:A,B21,I_TAPPA!O:O)) -> 198 | M21: =IF(SUMIF(II_TAPPA!A:A,B21,II_TAPPA!O:O)=0,"",SUMIF(II_TAPPA!A:A,B21,II_TAPPA!O:O)) -> 181 | N21: =IF(SUMIF(III_TAPPA!A:A,B21,III_TAPPA!O:O)=0,"",SUMIF(III_TAPPA!A:A,B21,III_TAPPA!O:O)) -> 183 | O21: =IF(SUMIF(IV_TAPPA!A:A,B21,IV_TAPPA!S:S)=0,"",SUMIF(IV_TAPPA!A:A,B21,IV_TAPPA!S:S)) -> 170 | P21: =IF(SUMIF(V_TAPPA!A:A,B21,V_TAPPA!O:O)=0,"",SUMIF(V_TAPPA!A:A,B21,V_TAPPA!O:O)) -> 201 | Q21: =IF(SUMIF(VI_TAPPA!A:A,B21,VI_TAPPA!O:O)=0,"",SUMIF(VI_TAPPA!A:A,B21,VI_TAPPA!O:O)) -> 194 | R21: =IF(SUMIF(VII_TAPPA!A:A,B21,VII_TAPPA!O:O)=0,"",SUMIF(VII_TAPPA!A:A,B21,VII_TAPPA!O:O)) -> 186 | S21: =IF(SUMIF(VIII_TAPPA!A:A,B21,VIII_TAPPA!O:O)=0,"",SUMIF(VIII_TAPPA!A:A,B21,VIII_TAPPA!O:O)) -> 181 | T21: =SUM(L21:S21) -> 1494 | U21: =IF(K21=8,MINA(L21:S21),0) -> 170 | V21: =T21-U21 -> 1324
A22: =A21+1 -> 21 | B22: =CONCATENATE(F22,"_",G22,"_",E22) -> DE_CICCO_ALESSANDRO_M02 | C22: MC001645 | D22: SM | E22: =VLOOKUP(D22,CAT!$E$2:$F$26,2) -> M02 | F22: DE_CICCO | G22: ALESSANDRO | H22: 32417 | I22: BN460 | J22: TELESIA RUNNING TEAM | K22: =COUNT(L22:S22) -> 6 | L22: =IF(SUMIF(I_TAPPA!A:A,B22,I_TAPPA!O:O)=0,"",SUMIF(I_TAPPA!A:A,B22,I_TAPPA!O:O)) | M22: =IF(SUMIF(II_TAPPA!A:A,B22,II_TAPPA!O:O)=0,"",SUMIF(II_TAPPA!A:A,B22,II_TAPPA!O:O)) -> 216 | N22: =IF(SUMIF(III_TAPPA!A:A,B22,III_TAPPA!O:O)=0,"",SUMIF(III_TAPPA!A:A,B22,III_TAPPA!O:O)) -> 211 | O22: =IF(SUMIF(IV_TAPPA!A:A,B22,IV_TAPPA!S:S)=0,"",SUMIF(IV_TAPPA!A:A,B22,IV_TAPPA!S:S)) -> 224 | P22: =IF(SUMIF(V_TAPPA!A:A,B22,V_TAPPA!O:O)=0,"",SUMIF(V_TAPPA!A:A,B22,V_TAPPA!O:O)) -> 226 | Q22: =IF(SUMIF(VI_TAPPA!A:A,B22,VI_TAPPA!O:O)=0,"",SUMIF(VI_TAPPA!A:A,B22,VI_TAPPA!O:O)) -> 218 | R22: =IF(SUMIF(VII_TAPPA!A:A,B22,VII_TAPPA!O:O)=0,"",SUMIF(VII_TAPPA!A:A,B22,VII_TAPPA!O:O)) -> 226 | S22: =IF(SUMIF(VIII_TAPPA!A:A,B22,VIII_TAPPA!O:O)=0,"",SUMIF(VIII_TAPPA!A:A,B22,VIII_TAPPA!O:O)) | T22: =SUM(L22:S22) -> 1321 | U22: =IF(K22=8,MINA(L22:S22),0) -> 0 | V22: =T22-U22 -> 1321
A23: =A22+1 -> 22 | B23: =CONCATENATE(F23,"_",G23,"_",E23) -> SABATINO_ANTONIO_M05 | C23: EPS17166 | D23: SM45 | E23: =VLOOKUP(D23,CAT!$E$2:$F$26,2) -> M05 | F23: SABATINO | G23: ANTONIO | H23: 26426 | I23: EPSRT | J23: TABURNO RUNNERS | K23: =COUNT(L23:S23) -> 6 | L23: =IF(SUMIF(I_TAPPA!A:A,B23,I_TAPPA!O:O)=0,"",SUMIF(I_TAPPA!A:A,B23,I_TAPPA!O:O)) | M23: =IF(SUMIF(II_TAPPA!A:A,B23,II_TAPPA!O:O)=0,"",SUMIF(II_TAPPA!A:A,B23,II_TAPPA!O:O)) -> 220 | N23: =IF(SUMIF(III_TAPPA!A:A,B23,III_TAPPA!O:O)=0,"",SUMIF(III_TAPPA!A:A,B23,III_TAPPA!O:O)) | O23: =IF(SUMIF(IV_TAPPA!A:A,B23,IV_TAPPA!S:S)=0,"",SUMIF(IV_TAPPA!A:A,B23,IV_TAPPA!S:S)) -> 215 | P23: =IF(SUMIF(V_TAPPA!A:A,B23,V_TAPPA!O:O)=0,"",SUMIF(V_TAPPA!A:A,B23,V_TAPPA!O:O)) -> 219 | Q23: =IF(SUMIF(VI_TAPPA!A:A,B23,VI_TAPPA!O:O)=0,"",SUMIF(VI_TAPPA!A:A,B23,VI_TAPPA!O:O)) -> 215 | R23: =IF(SUMIF(VII_TAPPA!A:A,B23,VII_TAPPA!O:O)=0,"",SUMIF(VII_TAPPA!A:A,B23,VII_TAPPA!O:O)) -> 218 | S23: =IF(SUMIF(VIII_TAPPA!A:A,B23,VIII_TAPPA!O:O)=0,"",SUMIF(VIII_TAPPA!A:A,B23,VIII_TAPPA!O:O)) -> 218 | T23: =SUM(L23:S23) -> 1305 | U23: =IF(K23=8,MINA(L23:S23),0) -> 0 | V23: =T23-U23 -> 1305
A24: =A23+1 -> 23 | B24: =CONCATENATE(F24,"_",G24,"_",E24) -> CERULO_ETTORE_M03 | C24: EPS11533 | D24: SM35 | E24: =VLOOKUP(D24,CAT!$E$2:$F$26,2) -> M03 | F24: CERULO | G24: ETTORE | H24: 29619 | I24: EPS851 | J24: PODISTI ALTO SANNIO | K24: =COUNT(L24:S24) -> 6 | L24: =IF(SUMIF(I_TAPPA!A:A,B24,I_TAPPA!O:O)=0,"",SUMIF(I_TAPPA!A:A,B24,I_TAPPA!O:O)) -> 220 | M24: =IF(SUMIF(II_TAPPA!A:A,B24,II_TAPPA!O:O)=0,"",SUMIF(II_TAPPA!A:A,B24,II_TAPPA!O:O)) -> 211 | N24: =IF(SUMIF(III_TAPPA!A:A,B24,III_TAPPA!O:O)=0,"",SUMIF(III_TAPPA!A:A,B24,III_TAPPA!O:O)) -> 216 | O24: =IF(SUMIF(IV_TAPPA!A:A,B24,IV_TAPPA!S:S)=0,"",SUMIF(IV_TAPPA!A:A,B24,IV_TAPPA!S:S)) -> 212 | P24: =IF(SUMIF(V_TAPPA!A:A,B24,V_TAPPA!O:O)=0,"",SUMIF(V_TAPPA!A:A,B24,V_TAPPA!O:O)) -> 210 | Q24: =IF(SUMIF(VI_TAPPA!A:A,B24,VI_TAPPA!O:O)=0,"",SUMIF(VI_TAPPA!A:A,B24,VI_TAPPA!O:O)) | R24: =IF(SUMIF(VII_TAPPA!A:A,B24,VII_TAPPA!O:O)=0,"",SUMIF(VII_TAPPA!A:A,B24,VII_TAPPA!O:O)) | S24: =IF(SUMIF(VIII_TAPPA!A:A,B24,VIII_TAPPA!O:O)=0,"",SUMIF(VIII_TAPPA!A:A,B24,VIII_TAPPA!O:O)) -> 210 | T24: =SUM(L24:S24) -> 1279 | U24: =IF(K24=8,MINA(L24:S24),0) -> 0 | V24: =T24-U24 -> 1279
A25: =A24+1 -> 24 | B25: =CONCATENATE(F25,"_",G25,"_",E25) -> GIORGIONE_GERARDO_M06 | C25: MC001096 | D25: SM50 | E25: =VLOOKUP(D25,CAT!$E$2:$F$26,2) -> M06 | F25: GIORGIONE | G25: GERARDO | H25: 25171 | I25: BN460 | J25: TELESIA RUNNING TEAM | K25: =COUNT(L25:S25) -> 8 | L25: =IF(SUMIF(I_TAPPA!A:A,B25,I_TAPPA!O:O)=0,"",SUMIF(I_TAPPA!A:A,B25,I_TAPPA!O:O)) -> 151 | M25: =IF(SUMIF(II_TAPPA!A:A,B25,II_TAPPA!O:O)=0,"",SUMIF(II_TAPPA!A:A,B25,II_TAPPA!O:O)) -> 175 | N25: =IF(SUMIF(III_TAPPA!A:A,B25,III_TAPPA!O:O)=0,"",SUMIF(III_TAPPA!A:A,B25,III_TAPPA!O:O)) -> 181 | O25: =IF(SUMIF(IV_TAPPA!A:A,B25,IV_TAPPA!S:S)=0,"",SUMIF(IV_TAPPA!A:A,B25,IV_TAPPA!S:S)) -> 175 | P25: =IF(SUMIF(V_TAPPA!A:A,B25,V_TAPPA!O:O)=0,"",SUMIF(V_TAPPA!A:A,B25,V_TAPPA!O:O)) -> 197 | Q25: =IF(SUMIF(VI_TAPPA!A:A,B25,VI_TAPPA!O:O)=0,"",SUMIF(VI_TAPPA!A:A,B25,VI_TAPPA!O:O)) -> 189 | R25: =IF(SUMIF(VII_TAPPA!A:A,B25,VII_TAPPA!O:O)=0,"",SUMIF(VII_TAPPA!A:A,B25,VII_TAPPA!O:O)) -> 181 | S25: =IF(SUMIF(VIII_TAPPA!A:A,B25,VIII_TAPPA!O:O)=0,"",SUMIF(VIII_TAPPA!A:A,B25,VIII_TAPPA!O:O)) -> 177 | T25: =SUM(L25:S25) -> 1426 | U25: =IF(K25=8,MINA(L25:S25),0) -> 151 | V25: =T25-U25 -> 1275
A26: =A25+1 -> 25 | B26: =CONCATENATE(F26,"_",G26,"_",E26) -> PIROZZOLO_DANILO_M02 | C26: MA023327 | D26: SM | E26: =VLOOKUP(D26,CAT!$E$2:$F$26,2) -> M02 | F26: PIROZZOLO | G26: DANILO | H26: 32056 | I26: BN702 | J26: PODISMO BENEVENTO | K26: =COUNT(L26:S26) -> 6 | L26: =IF(SUMIF(I_TAPPA!A:A,B26,I_TAPPA!O:O)=0,"",SUMIF(I_TAPPA!A:A,B26,I_TAPPA!O:O)) -> 215 | M26: =IF(SUMIF(II_TAPPA!A:A,B26,II_TAPPA!O:O)=0,"",SUMIF(II_TAPPA!A:A,B26,II_TAPPA!O:O)) | N26: =IF(SUMIF(III_TAPPA!A:A,B26,III_TAPPA!O:O)=0,"",SUMIF(III_TAPPA!A:A,B26,III_TAPPA!O:O)) -> 212 | O26: =IF(SUMIF(IV_TAPPA!A:A,B26,IV_TAPPA!S:S)=0,"",SUMIF(IV_TAPPA!A:A,B26,IV_TAPPA!S:S)) -> 211 | P26: =IF(SUMIF(V_TAPPA!A:A,B26,V_TAPPA!O:O)=0,"",SUMIF(V_TAPPA!A:A,B26,V_TAPPA!O:O)) -> 211 | Q26: =IF(SUMIF(VI_TAPPA!A:A,B26,VI_TAPPA!O:O)=0,"",SUMIF(VI_TAPPA!A:A,B26,VI_TAPPA!O:O)) -> 209 | R26: =IF(SUMIF(VII_TAPPA!A:A,B26,VII_TAPPA!O:O)=0,"",SUMIF(VII_TAPPA!A:A,B26,VII_TAPPA!O:O)) -> 209 | S26: =IF(SUMIF(VIII_TAPPA!A:A,B26,VIII_TAPPA!O:O)=0,"",SUMIF(VIII_TAPPA!A:A,B26,VIII_TAPPA!O:O)) | T26: =SUM(L26:S26) -> 1267 | U26: =IF(K26=8,MINA(L26:S26),0) -> 0 | V26: =T26-U26 -> 1267
A27: =A26+1 -> 26 | B27: =CONCATENATE(F27,"_",G27,"_",E27) -> VICARIO_MARIO_ANTONIO_M08 | C27: EPS05731 | D27: SM60 | E27: =VLOOKUP(D27,CAT!$E$2:$F$26,2) -> M08 | F27: VICARIO | G27: MARIO_ANTONIO | H27: 21673 | I27: EPS851 | J27: PODISTI ALTO SANNIO | K27: =COUNT(L27:S27) -> 7 | L27: =IF(SUMIF(I_TAPPA!A:A,B27,I_TAPPA!O:O)=0,"",SUMIF(I_TAPPA!A:A,B27,I_TAPPA!O:O)) -> 181 | M27: =IF(SUMIF(II_TAPPA!A:A,B27,II_TAPPA!O:O)=0,"",SUMIF(II_TAPPA!A:A,B27,II_TAPPA!O:O)) -> 170 | N27: =IF(SUMIF(III_TAPPA!A:A,B27,III_TAPPA!O:O)=0,"",SUMIF(III_TAPPA!A:A,B27,III_TAPPA!O:O)) | O27: =IF(SUMIF(IV_TAPPA!A:A,B27,IV_TAPPA!S:S)=0,"",SUMIF(IV_TAPPA!A:A,B27,IV_TAPPA!S:S)) -> 160 | P27: =IF(SUMIF(V_TAPPA!A:A,B27,V_TAPPA!O:O)=0,"",SUMIF(V_TAPPA!A:A,B27,V_TAPPA!O:O)) -> 184 | Q27: =IF(SUMIF(VI_TAPPA!A:A,B27,VI_TAPPA!O:O)=0,"",SUMIF(VI_TAPPA!A:A,B27,VI_TAPPA!O:O)) -> 187 | R27: =IF(SUMIF(VII_TAPPA!A:A,B27,VII_TAPPA!O:O)=0,"",SUMIF(VII_TAPPA!A:A,B27,VII_TAPPA!O:O)) -> 177 | S27: =IF(SUMIF(VIII_TAPPA!A:A,B27,VIII_TAPPA!O:O)=0,"",SUMIF(VIII_TAPPA!A:A,B27,VIII_TAPPA!O:O)) -> 169 | T27: =SUM(L27:S27) -> 1228 | U27: =IF(K27=8,MINA(L27:S27),0) -> 0 | V27: =T27-U27 -> 1228
... A29: =A28+1 -> 28 | B29: =CONCATENATE(F29,"_",G29,"_",E29) -> TARANTINO_GIANLUIGI_M05 | C29: MA033747 | D29: SM45 | E29: =VLOOKUP(D29,CAT!$E$2:$F$26,2) -> M05 | F29: TARANTINO | G29: GIANLUIGI | H29: 26145 | I29: EPSSA | J29: SANNIO RUNNERS | K29: =COUNT(L29:S29) -> 6 | L29: =IF(SUMIF(I_TAPPA!A:A,B29,I_TAPPA!O:O)=0,"",SUMIF(I_TAPPA!A:A,B29,I_TAPPA!O:O)) -> 211 | M29: =IF(SUMIF(II_TAPPA!A:A,B29,II_TAPPA!O:O)=0,"",SUMIF(II_TAPPA!A:A,B29,II_TAPPA!O:O)) | N29: =IF(SUMIF(III_TAPPA!A:A,B29,III_TAPPA!O:O)=0,"",SUMIF(III_TAPPA!A:A,B29,III_TAPPA!O:O)) | O29: =IF(SUMIF(IV_TAPPA!A:A,B29,IV_TAPPA!S:S)=0,"",SUMIF(IV_TAPPA!A:A,B29,IV_TAPPA!S:S)) -> 195 | P29: =IF(SUMIF(V_TAPPA!A:A,B29,V_TAPPA!O:O)=0,"",SUMIF(V_TAPPA!A:A,B29,V_TAPPA!O:O)) -> 207 | Q29: =IF(SUMIF(VI_TAPPA!A:A,B29,VI_TAPPA!O:O)=0,"",SUMIF(VI_TAPPA!A:A,B29,VI_TAPPA!O:O)) -> 202 | R29: =IF(SUMIF(VII_TAPPA!A:A,B29,VII_TAPPA!O:O)=0,"",SUMIF(VII_TAPPA!A:A,B29,VII_TAPPA!O:O)) -> 203 | S29: =IF(SUMIF(VIII_TAPPA!A:A,B29,VIII_TAPPA!O:O)=0,"",SUMIF(VIII_TAPPA!A:A,B29,VIII_TAPPA!O:O)) -> 196 | T29: =SUM(L29:S29) -> 1214 | U29: =IF(K29=8,MINA(L29:S29),0) -> 0 | V29: =T29-U29 -> 1214
A30: =A29+1 -> 29 | B30: =CONCATENATE(F30,"_",G30,"_",E30) -> CENICCOLA_VERA_F2 | C30: MC001673 | D30: SF | E30: =VLOOKUP(D30,CAT!$E$2:$F$26,2) -> F2 | F30: CENICCOLA | G30: VERA | H30: 33626 | I30: BN460 | J30: TELESIA RUNNING TEAM | K30: =COUNT(L30:S30) -> 8 | L30: =IF(SUMIF(I_TAPPA!A:A,B30,I_TAPPA!O:O)=0,"",SUMIF(I_TAPPA!A:A,B30,I_TAPPA!O:O)) -> 184 | M30: =IF(SUMIF(II_TAPPA!A:A,B30,II_TAPPA!O:O)=0,"",SUMIF(II_TAPPA!A:A,B30,II_TAPPA!O:O)) -> 158 | N30: =IF(SUMIF(III_TAPPA!A:A,B30,III_TAPPA!O:O)=0,"",SUMIF(III_TAPPA!A:A,B30,III_TAPPA!O:O)) -> 153 | O30: =IF(SUMIF(IV_TAPPA!A:A,B30,IV_TAPPA!S:S)=0,"",SUMIF(IV_TAPPA!A:A,B30,IV_TAPPA!S:S)) -> 148 | P30: =IF(SUMIF(V_TAPPA!A:A,B30,V_TAPPA!O:O)=0,"",SUMIF(V_TAPPA!A:A,B30,V_TAPPA!O:O)) -> 183 | Q30: =IF(SUMIF(VI_TAPPA!A:A,B30,VI_TAPPA!O:O)=0,"",SUMIF(VI_TAPPA!A:A,B30,VI_TAPPA!O:O)) -> 177 | R30: =IF(SUMIF(VII_TAPPA!A:A,B30,VII_TAPPA!O:O)=0,"",SUMIF(VII_TAPPA!A:A,B30,VII_TAPPA!O:O)) -> 171 | S30: =IF(SUMIF(VIII_TAPPA!A:A,B30,VIII_TAPPA!O:O)=0,"",SUMIF(VIII_TAPPA!A:A,B30,VIII_TAPPA!O:O)) -> 139 | T30: =SUM(L30:S30) -> 1313 | U30: =IF(K30=8,MINA(L30:S30),0) -> 139 | V30: =T30-U30 -> 1174 | W30: p
A31: =A30+1 -> 30 | B31: =CONCATENATE(F31,"_",G31,"_",E31) -> MAFFEI_ALBERTO_M07 | C31: MC001128 | D31: SM55 | E31: =VLOOKUP(D31,CAT!$E$2:$F$26,2) -> M07 | F31: MAFFEI | G31: ALBERTO | H31: 23648 | I31: BN702 | J31: PODISMO BENEVENTO | K31: =COUNT(L31:S31) -> 6 | L31: =IF(SUMIF(I_TAPPA!A:A,B31,I_TAPPA!O:O)=0,"",SUMIF(I_TAPPA!A:A,B31,I_TAPPA!O:O)) -> 202 | M31: =IF(SUMIF(II_TAPPA!A:A,B31,II_TAPPA!O:O)=0,"",SUMIF(II_TAPPA!A:A,B31,II_TAPPA!O:O)) -> 196 | N31: =IF(SUMIF(III_TAPPA!A:A,B31,III_TAPPA!O:O)=0,"",SUMIF(III_TAPPA!A:A,B31,III_TAPPA!O:O)) -> 200 | O31: =IF(SUMIF(IV_TAPPA!A:A,B31,IV_TAPPA!S:S)=0,"",SUMIF(IV_TAPPA!A:A,B31,IV_TAPPA!S:S)) -> 187 | P31: =IF(SUMIF(V_TAPPA!A:A,B31,V_TAPPA!O:O)=0,"",SUMIF(V_TAPPA!A:A,B31,V_TAPPA!O:O)) | Q31: =IF(SUMIF(VI_TAPPA!A:A,B31,VI_TAPPA!O:O)=0,"",SUMIF(VI_TAPPA!A:A,B31,VI_TAPPA!O:O)) -> 198 | R31: =IF(SUMIF(VII_TAPPA!A:A,B31,VII_TAPPA!O:O)=0,"",SUMIF(VII_TAPPA!A:A,B31,VII_TAPPA!O:O)) -> 190 | S31: =IF(SUMIF(VIII_TAPPA!A:A,B31,VIII_TAPPA!O:O)=0,"",SUMIF(VIII_TAPPA!A:A,B31,VIII_TAPPA!O:O)) | T31: =SUM(L31:S31) -> 1173 | U31: =IF(K31=8,MINA(L31:S31),0) -> 0 | V31: =T31-U31 -> 1173
A32: =A31+1 -> 31 | B32: =CONCATENATE(F32,"_",G32,"_",E32) -> RAPUANO_GIUSEPPE_M08 | C32: MC000298 | D32: SM60 | E32: =VLOOKUP(D32,CAT!$E$2:$F$26,2) -> M08 | F32: RAPUANO | G32: GIUSEPPE | H32: 21553 | I32: BN460 | J32: TELESIA RUNNING TEAM | K32: =COUNT(L32:S32) -> 7 | L32: =IF(SUMIF(I_TAPPA!A:A,B32,I_TAPPA!O:O)=0,"",SUMIF(I_TAPPA!A:A,B32,I_TAPPA!O:O)) -> 189 | M32: =IF(SUMIF(II_TAPPA!A:A,B32,II_TAPPA!O:O)=0,"",SUMIF(II_TAPPA!A:A,B32,II_TAPPA!O:O)) -> 160 | N32: =IF(SUMIF(III_TAPPA!A:A,B32,III_TAPPA!O:O)=0,"",SUMIF(III_TAPPA!A:A,B32,III_TAPPA!O:O)) -> 147 | O32: =IF(SUMIF(IV_TAPPA!A:A,B32,IV_TAPPA!S:S)=0,"",SUMIF(IV_TAPPA!A:A,B32,IV_TAPPA!S:S)) | P32: =IF(SUMIF(V_TAPPA!A:A,B32,V_TAPPA!O:O)=0,"",SUMIF(V_TAPPA!A:A,B32,V_TAPPA!O:O)) -> 178 | Q32: =IF(SUMIF(VI_TAPPA!A:A,B32,VI_TAPPA!O:O)=0,"",SUMIF(VI_TAPPA!A:A,B32,VI_TAPPA!O:O)) -> 164 | R32: =IF(SUMIF(VII_TAPPA!A:A,B32,VII_TAPPA!O:O)=0,"",SUMIF(VII_TAPPA!A:A,B32,VII_TAPPA!O:O)) -> 170 | S32: =IF(SUMIF(VIII_TAPPA!A:A,B32,VIII_TAPPA!O:O)=0,"",SUMIF(VIII_TAPPA!A:A,B32,VIII_TAPPA!O:O)) -> 153 | T32: =SUM(L32:S32) -> 1161 | U32: =IF(K32=8,MINA(L32:S32),0) -> 0 | V32: =T32-U32 -> 1161
A33: =A32+1 -> 32 | B33: =CONCATENATE(F33,"_",G33,"_",E33) -> TOZZI_GIUSEPPE_M09 | C33: EPS05727 | D33: SM65 | E33: =VLOOKUP(D33,CAT!$E$2:$F$26,2) -> M09 | F33: TOZZI | G33: GIUSEPPE | H33: 19026 | I33: EPS851 | J33: PODISTI ALTO SANNIO | K33: =COUNT(L33:S33) -> 8 | L33: =IF(SUMIF(I_TAPPA!A:A,B33,I_TAPPA!O:O)=0,"",SUMIF(I_TAPPA!A:A,B33,I_TAPPA!O:O)) -> 180 | M33: =IF(SUMIF(II_TAPPA!A:A,B33,II_TAPPA!O:O)=0,"",SUMIF(II_TAPPA!A:A,B33,II_TAPPA!O:O)) -> 157 | N33: =IF(SUMIF(III_TAPPA!A:A,B33,III_TAPPA!O:O)=0,"",SUMIF(III_TAPPA!A:A,B33,III_TAPPA!O:O)) -> 160 | O33: =IF(SUMIF(IV_TAPPA!A:A,B33,IV_TAPPA!S:S)=0,"",SUMIF(IV_TAPPA!A:A,B33,IV_TAPPA!S:S)) -> 137 | P33: =IF(SUMIF(V_TAPPA!A:A,B33,V_TAPPA!O:O)=0,"",SUMIF(V_TAPPA!A:A,B33,V_TAPPA!O:O)) -> 180 | Q33: =IF(SUMIF(VI_TAPPA!A:A,B33,VI_TAPPA!O:O)=0,"",SUMIF(VI_TAPPA!A:A,B33,VI_TAPPA!O:O)) -> 168 | R33: =IF(SUMIF(VII_TAPPA!A:A,B33,VII_TAPPA!O:O)=0,"",SUMIF(VII_TAPPA!A:A,B33,VII_TAPPA!O:O)) -> 165 | S33: =IF(SUMIF(VIII_TAPPA!A:A,B33,VIII_TAPPA!O:O)=0,"",SUMIF(VIII_TAPPA!A:A,B33,VIII_TAPPA!O:O)) -> 148 | T33: =SUM(L33:S33) -> 1295 | U33: =IF(K33=8,MINA(L33:S33),0) -> 137 | V33: =T33-U33 -> 1158
A34: =A33+1 -> 33 | B34: =CONCATENATE(F34,"_",G34,"_",E34) -> MAURO_TOMMASO_M05 | C34: MC000399 | D34: SM45 | E34: =VLOOKUP(D34,CAT!$E$2:$F$26,2) -> M05 | F34: MAURO | G34: TOMMASO | H34: 26204 | I34: BN300 | J34: ATLETICA DUGENTA | K34: =COUNT(L34:S34) -> 7 | L34: =IF(SUMIF(I_TAPPA!A:A,B34,I_TAPPA!O:O)=0,"",SUMIF(I_TAPPA!A:A,B34,I_TAPPA!O:O)) -> 182 | M34: =IF(SUMIF(II_TAPPA!A:A,B34,II_TAPPA!O:O)=0,"",SUMIF(II_TAPPA!A:A,B34,II_TAPPA!O:O)) -> 154 | N34: =IF(SUMIF(III_TAPPA!A:A,B34,III_TAPPA!O:O)=0,"",SUMIF(III_TAPPA!A:A,B34,III_TAPPA!O:O)) -> 164 | O34: =IF(SUMIF(IV_TAPPA!A:A,B34,IV_TAPPA!S:S)=0,"",SUMIF(IV_TAPPA!A:A,B34,IV_TAPPA!S:S)) -> 144 | P34: =IF(SUMIF(V_TAPPA!A:A,B34,V_TAPPA!O:O)=0,"",SUMIF(V_TAPPA!A:A,B34,V_TAPPA!O:O)) -> 176 | Q34: =IF(SUMIF(VI_TAPPA!A:A,B34,VI_TAPPA!O:O)=0,"",SUMIF(VI_TAPPA!A:A,B34,VI_TAPPA!O:O)) -> 181 | R34: =IF(SUMIF(VII_TAPPA!A:A,B34,VII_TAPPA!O:O)=0,"",SUMIF(VII_TAPPA!A:A,B34,VII_TAPPA!O:O)) | S34: =IF(SUMIF(VIII_TAPPA!A:A,B34,VIII_TAPPA!O:O)=0,"",SUMIF(VIII_TAPPA!A:A,B34,VIII_TAPPA!O:O)) -> 156 | T34: =SUM(L34:S34) -> 1157 | U34: =IF(K34=8,MINA(L34:S34),0) -> 0 | V34: =T34-U34 -> 1157
A35: =A34+1 -> 34 | B35: =CONCATENATE(F35,"_",G35,"_",E35) -> TREMONTE_PATRIZIO_M04 | C35: EPS15726 | D35: SM40 | E35: =VLOOKUP(D35,CAT!$E$2:$F$26,2) -> M04 | F35: TREMONTE | G35: PATRIZIO | H35: 27973 | I35: EPS851 | J35: PODISTI ALTO SANNIO | K35: =COUNT(L35:S35) -> 6 | L35: =IF(SUMIF(I_TAPPA!A:A,B35,I_TAPPA!O:O)=0,"",SUMIF(I_TAPPA!A:A,B35,I_TAPPA!O:O)) | M35: =IF(SUMIF(II_TAPPA!A:A,B35,II_TAPPA!O:O)=0,"",SUMIF(II_TAPPA!A:A,B35,II_TAPPA!O:O)) -> 197 | N35: =IF(SUMIF(III_TAPPA!A:A,B35,III_TAPPA!O:O)=0,"",SUMIF(III_TAPPA!A:A,B35,III_TAPPA!O:O)) -> 203 | O35: =IF(SUMIF(IV_TAPPA!A:A,B35,IV_TAPPA!S:S)=0,"",SUMIF(IV_TAPPA!A:A,B35,IV_TAPPA!S:S)) -> 200 | P35: =IF(SUMIF(V_TAPPA!A:A,B35,V_TAPPA!O:O)=0,"",SUMIF(V_TAPPA!A:A,B35,V_TAPPA!O:O)) -> 171 | Q35: =IF(SUMIF(VI_TAPPA!A:A,B35,VI_TAPPA!O:O)=0,"",SUMIF(VI_TAPPA!A:A,B35,VI_TAPPA!O:O)) -> 195 | R35: =IF(SUMIF(VII_TAPPA!A:A,B35,VII_TAPPA!O:O)=0,"",SUMIF(VII_TAPPA!A:A,B35,VII_TAPPA!O:O)) | S35: =IF(SUMIF(VIII_TAPPA!A:A,B35,VIII_TAPPA!O:O)=0,"",SUMIF(VIII_TAPPA!A:A,B35,VIII_TAPPA!O:O)) -> 187 | T35: =SUM(L35:S35) -> 1153 | U35: =IF(K35=8,MINA(L35:S35),0) -> 0 | V35: =T35-U35 -> 1153
A36: =A35+1 -> 35 | B36: =CONCATENATE(F36,"_",G36,"_",E36) -> PIETROVITO_SERGIO_M06 | C36: MC000601 | D36: SM50 | E36: =VLOOKUP(D36,CAT!$E$2:$F$26,2) -> M06 | F36: PIETROVITO | G36: SERGIO | H36: 25222 | I36: BN300 | J36: ATLETICA DUGENTA | K36: =COUNT(L36:S36) -> 6 | L36: =IF(SUMIF(I_TAPPA!A:A,B36,I_TAPPA!O:O)=0,"",SUMIF(I_TAPPA!A:A,B36,I_TAPPA!O:O)) -> 203 | M36: =IF(SUMIF(II_TAPPA!A:A,B36,II_TAPPA!O:O)=0,"",SUMIF(II_TAPPA!A:A,B36,II_TAPPA!O:O)) | N36: =IF(SUMIF(III_TAPPA!A:A,B36,III_TAPPA!O:O)=0,"",SUMIF(III_TAPPA!A:A,B36,III_TAPPA!O:O)) -> 193 | O36: =IF(SUMIF(IV_TAPPA!A:A,B36,IV_TAPPA!S:S)=0,"",SUMIF(IV_TAPPA!A:A,B36,IV_TAPPA!S:S)) -> 177 | P36: =IF(SUMIF(V_TAPPA!A:A,B36,V_TAPPA!O:O)=0,"",SUMIF(V_TAPPA!A:A,B36,V_TAPPA!O:O)) -> 196 | Q36: =IF(SUMIF(VI_TAPPA!A:A,B36,VI_TAPPA!O:O)=0,"",SUMIF(VI_TAPPA!A:A,B36,VI_TAPPA!O:O)) | R36: =IF(SUMIF(VII_TAPPA!A:A,B36,VII_TAPPA!O:O)=0,"",SUMIF(VII_TAPPA!A:A,B36,VII_TAPPA!O:O)) -> 191 | S36: =IF(SUMIF(VIII_TAPPA!A:A,B36,VIII_TAPPA!O:O)=0,"",SUMIF(VIII_TAPPA!A:A,B36,VIII_TAPPA!O:O)) -> 186 | T36: =SUM(L36:S36) -> 1146 | U36: =IF(K36=8,MINA(L36:S36),0) -> 0 | V36: =T36-U36 -> 1146
A37: =A36+1 -> 36 | B37: =CONCATENATE(F37,"_",G37,"_",E37) -> SIMPATICO_DOMENICO_M04 | C37: EPS05063 | D37: SM40 | E37: =VLOOKUP(D37,CAT!$E$2:$F$26,2) -> M04 | F37: SIMPATICO | G37: DOMENICO | H37: 27434 | I37: EPS851 | J37: PODISTI ALTO SANNIO | K37: =COUNT(L37:S37) -> 5 | L37: =IF(SUMIF(I_TAPPA!A:A,B37,I_TAPPA!O:O)=0,"",SUMIF(I_TAPPA!A:A,B37,I_TAPPA!O:O)) -> 228 | M37: =IF(SUMIF(II_TAPPA!A:A,B37,II_TAPPA!O:O)=0,"",SUMIF(II_TAPPA!A:A,B37,II_TAPPA!O:O)) -> 228 | N37: =IF(SUMIF(III_TAPPA!A:A,B37,III_TAPPA!O:O)=0,"",SUMIF(III_TAPPA!A:A,B37,III_TAPPA!O:O)) | O37: =IF(SUMIF(IV_TAPPA!A:A,B37,IV_TAPPA!S:S)=0,"",SUMIF(IV_TAPPA!A:A,B37,IV_TAPPA!S:S)) -> 220 | P37: =IF(SUMIF(V_TAPPA!A:A,B37,V_TAPPA!O:O)=0,"",SUMIF(V_TAPPA!A:A,B37,V_TAPPA!O:O)) | Q37: =IF(SUMIF(VI_TAPPA!A:A,B37,VI_TAPPA!O:O)=0,"",SUMIF(VI_TAPPA!A:A,B37,VI_TAPPA!O:O)) -> 220 | R37: =IF(SUMIF(VII_TAPPA!A:A,B37,VII_TAPPA!O:O)=0,"",SUMIF(VII_TAPPA!A:A,B37,VII_TAPPA!O:O)) | S37: =IF(SUMIF(VIII_TAPPA!A:A,B37,VIII_TAPPA!O:O)=0,"",SUMIF(VIII_TAPPA!A:A,B37,VIII_TAPPA!O:O)) -> 235 | T37: =SUM(L37:S37) -> 1131 | U37: =IF(K37=8,MINA(L37:S37),0) -> 0 | V37: =T37-U37 -> 1131
A38: =A37+1 -> 37 | B38: =CONCATENATE(F38,"_",G38,"_",E38) -> COSTANZO_GIUSEPPE_M02 | C38: EPS11350 | D38: SM | E38: =VLOOKUP(D38,CAT!$E$2:$F$26,2) -> M02 | F38: COSTANZO | G38: GIUSEPPE | H38: 31051 | I38: EPS851 | J38: PODISTI ALTO SANNIO | K38: =COUNT(L38:S38) -> 6 | L38: =IF(SUMIF(I_TAPPA!A:A,B38,I_TAPPA!O:O)=0,"",SUMIF(I_TAPPA!A:A,B38,I_TAPPA!O:O)) -> 199 | M38: =IF(SUMIF(II_TAPPA!A:A,B38,II_TAPPA!O:O)=0,"",SUMIF(II_TAPPA!A:A,B38,II_TAPPA!O:O)) -> 178 | N38: =IF(SUMIF(III_TAPPA!A:A,B38,III_TAPPA!O:O)=0,"",SUMIF(III_TAPPA!A:A,B38,III_TAPPA!O:O)) -> 189 | O38: =IF(SUMIF(IV_TAPPA!A:A,B38,IV_TAPPA!S:S)=0,"",SUMIF(IV_TAPPA!A:A,B38,IV_TAPPA!S:S)) -> 171 | P38: =IF(SUMIF(V_TAPPA!A:A,B38,V_TAPPA!O:O)=0,"",SUMIF(V_TAPPA!A:A,B38,V_TAPPA!O:O)) | Q38: =IF(SUMIF(VI_TAPPA!A:A,B38,VI_TAPPA!O:O)=0,"",SUMIF(VI_TAPPA!A:A,B38,VI_TAPPA!O:O)) | R38: =IF(SUMIF(VII_TAPPA!A:A,B38,VII_TAPPA!O:O)=0,"",SUMIF(VII_TAPPA!A:A,B38,VII_TAPPA!O:O)) -> 167 | S38: =IF(SUMIF(VIII_TAPPA!A:A,B38,VIII_TAPPA!O:O)=0,"",SUMIF(VIII_TAPPA!A:A,B38,VIII_TAPPA!O:O)) -> 188 | T38: =SUM(L38:S38) -> 1092 | U38: =IF(K38=8,MINA(L38:S38),0) -> 0 | V38: =T38-U38 -> 1092
A39: =A38+1 -> 38 | B39: =CONCATENATE(F39,"_",G39,"_",E39) -> DI_CAPRIO_ANTONIO_M08 | C39: MA039499 | D39: SM60 | E39: =VLOOKUP(D39,CAT!$E$2:$F$26,2) -> M08 | F39: DI_CAPRIO | G39: ANTONIO | H39: 20124 | I39: BN460 | J39: TELESIA RUNNING TEAM | K39: =COUNT(L39:S39) -> 7 | L39: =IF(SUMIF(I_TAPPA!A:A,B39,I_TAPPA!O:O)=0,"",SUMIF(I_TAPPA!A:A,B39,I_TAPPA!O:O)) -> 178 | M39: =IF(SUMIF(II_TAPPA!A:A,B39,II_TAPPA!O:O)=0,"",SUMIF(II_TAPPA!A:A,B39,II_TAPPA!O:O)) -> 133 | N39: =IF(SUMIF(III_TAPPA!A:A,B39,III_TAPPA!O:O)=0,"",SUMIF(III_TAPPA!A:A,B39,III_TAPPA!O:O)) -> 137 | O39: =IF(SUMIF(IV_TAPPA!A:A,B39,IV_TAPPA!S:S)=0,"",SUMIF(IV_TAPPA!A:A,B39,IV_TAPPA!S:S)) | P39: =IF(SUMIF(V_TAPPA!A:A,B39,V_TAPPA!O:O)=0,"",SUMIF(V_TAPPA!A:A,B39,V_TAPPA!O:O)) -> 173 | Q39: =IF(SUMIF(VI_TAPPA!A:A,B39,VI_TAPPA!O:O)=0,"",SUMIF(VI_TAPPA!A:A,B39,VI_TAPPA!O:O)) -> 158 | R39: =IF(SUMIF(VII_TAPPA!A:A,B39,VII_TAPPA!O:O)=0,"",SUMIF(VII_TAPPA!A:A,B39,VII_TAPPA!O:O)) -> 166 | S39: =IF(SUMIF(VIII_TAPPA!A:A,B39,VIII_TAPPA!O:O)=0,"",SUMIF(VIII_TAPPA!A:A,B39,VIII_TAPPA!O:O)) -> 145 | T39: =SUM(L39:S39) -> 1090 | U39: =IF(K39=8,MINA(L39:S39),0) -> 0 | V39: =T39-U39 -> 1090
A40: =A39+1 -> 39 | B40: =CONCATENATE(F40,"_",G40,"_",E40) -> D'ALESSIO_EMILIO_M07 | C40: MC001203 | D40: SM55 | E40: =VLOOKUP(D40,CAT!$E$2:$F$26,2) -> M07 | F40: D'ALESSIO | G40: EMILIO | H40: 23163 | I40: BN702 | J40: PODISMO BENEVENTO | K40: =COUNT(L40:S40) -> 7 | L40: =IF(SUMIF(I_TAPPA!A:A,B40,I_TAPPA!O:O)=0,"",SUMIF(I_TAPPA!A:A,B40,I_TAPPA!O:O)) -> 174 | M40: =IF(SUMIF(II_TAPPA!A:A,B40,II_TAPPA!O:O)=0,"",SUMIF(II_TAPPA!A:A,B40,II_TAPPA!O:O)) -> 134 | N40: =IF(SUMIF(III_TAPPA!A:A,B40,III_TAPPA!O:O)=0,"",SUMIF(III_TAPPA!A:A,B40,III_TAPPA!O:O)) -> 139 | O40: =IF(SUMIF(IV_TAPPA!A:A,B40,IV_TAPPA!S:S)=0,"",SUMIF(IV_TAPPA!A:A,B40,IV_TAPPA!S:S)) -> 124 | P40: =IF(SUMIF(V_TAPPA!A:A,B40,V_TAPPA!O:O)=0,"",SUMIF(V_TAPPA!A:A,B40,V_TAPPA!O:O)) -> 177 | Q40: =IF(SUMIF(VI_TAPPA!A:A,B40,VI_TAPPA!O:O)=0,"",SUMIF(VI_TAPPA!A:A,B40,VI_TAPPA!O:O)) -> 173 | R40: =IF(SUMIF(VII_TAPPA!A:A,B40,VII_TAPPA!O:O)=0,"",SUMIF(VII_TAPPA!A:A,B40,VII_TAPPA!O:O)) -> 163 | S40: =IF(SUMIF(VIII_TAPPA!A:A,B40,VIII_TAPPA!O:O)=0,"",SUMIF(VIII_TAPPA!A:A,B40,VIII_TAPPA!O:O)) | T40: =SUM(L40:S40) -> 1084 | U40: =IF(K40=8,MINA(L40:S40),0) -> 0 | V40: =T40-U40 -> 1084
A41: =A40+1 -> 40 | B41: =CONCATENATE(F41,"_",G41,"_",E41) -> TOZZI_ANTONIO_M02 | C41: EPS14132 | D41: SM | E41: =VLOOKUP(D41,CAT!$E$2:$F$26,2) -> M02 | F41: TOZZI | G41: ANTONIO | H41: 31490 | I41: EPS851 | J41: PODISTI ALTO SANNIO | K41: =COUNT(L41:S41) -> 5 | L41: =IF(SUMIF(I_TAPPA!A:A,B41,I_TAPPA!O:O)=0,"",SUMIF(I_TAPPA!A:A,B41,I_TAPPA!O:O)) -> 214 | M41: =IF(SUMIF(II_TAPPA!A:A,B41,II_TAPPA!O:O)=0,"",SUMIF(II_TAPPA!A:A,B41,II_TAPPA!O:O)) | N41: =IF(SUMIF(III_TAPPA!A:A,B41,III_TAPPA!O:O)=0,"",SUMIF(III_TAPPA!A:A,B41,III_TAPPA!O:O)) | O41: =IF(SUMIF(IV_TAPPA!A:A,B41,IV_TAPPA!S:S)=0,"",SUMIF(IV_TAPPA!A:A,B41,IV_TAPPA!S:S)) | P41: =IF(SUMIF(V_TAPPA!A:A,B41,V_TAPPA!O:O)=0,"",SUMIF(V_TAPPA!A:A,B41,V_TAPPA!O:O)) -> 209 | Q41: =IF(SUMIF(VI_TAPPA!A:A,B41,VI_TAPPA!O:O)=0,"",SUMIF(VI_TAPPA!A:A,B41,VI_TAPPA!O:O)) -> 211 | R41: =IF(SUMIF(VII_TAPPA!A:A,B41,VII_TAPPA!O:O)=0,"",SUMIF(VII_TAPPA!A:A,B41,VII_TAPPA!O:O)) -> 213 | S41: =IF(SUMIF(VIII_TAPPA!A:A,B41,VIII_TAPPA!O:O)=0,"",SUMIF(VIII_TAPPA!A:A,B41,VIII_TAPPA!O:O)) -> 211 | T41: =SUM(L41:S41) -> 1058 | U41: =IF(K41=8,MINA(L41:S41),0) -> 0 | V41: =T41-U41 -> 1058
A42: =A41+1 -> 41 | B42: =CONCATENATE(F42,"_",G42,"_",E42) -> PETROCCIA_DONATO_M05 | C42: EPS05717 | D42: SM45 | E42: =VLOOKUP(D42,CAT!$E$2:$F$26,2) -> M05 | F42: PETROCCIA | G42: DONATO | H42: 25833 | I42: EPS851 | J42: PODISTI ALTO SANNIO | K42: =COUNT(L42:S42) -> 6 | L42: =IF(SUMIF(I_TAPPA!A:A,B42,I_TAPPA!O:O)=0,"",SUMIF(I_TAPPA!A:A,B42,I_TAPPA!O:O)) -> 186 | M42: =IF(SUMIF(II_TAPPA!A:A,B42,II_TAPPA!O:O)=0,"",SUMIF(II_TAPPA!A:A,B42,II_TAPPA!O:O)) -> 171 | N42: =IF(SUMIF(III_TAPPA!A:A,B42,III_TAPPA!O:O)=0,"",SUMIF(III_TAPPA!A:A,B42,III_TAPPA!O:O)) -> 172 | O42: =IF(SUMIF(IV_TAPPA!A:A,B42,IV_TAPPA!S:S)=0,"",SUMIF(IV_TAPPA!A:A,B42,IV_TAPPA!S:S)) -> 167 | P42: =IF(SUMIF(V_TAPPA!A:A,B42,V_TAPPA!O:O)=0,"",SUMIF(V_TAPPA!A:A,B42,V_TAPPA!O:O)) -> 190 | Q42: =IF(SUMIF(VI_TAPPA!A:A,B42,VI_TAPPA!O:O)=0,"",SUMIF(VI_TAPPA!A:A,B42,VI_TAPPA!O:O)) | R42: =IF(SUMIF(VII_TAPPA!A:A,B42,VII_TAPPA!O:O)=0,"",SUMIF(VII_TAPPA!A:A,B42,VII_TAPPA!O:O)) | S42: =IF(SUMIF(VIII_TAPPA!A:A,B42,VIII_TAPPA!O:O)=0,"",SUMIF(VIII_TAPPA!A:A,B42,VIII_TAPPA!O:O)) -> 167 | T42: =SUM(L42:S42) -> 1053 | U42: =IF(K42=8,MINA(L42:S42),0) -> 0 | V42: =T42-U42 -> 1053
... A53: =A52+1 -> 52 | B53: =CONCATENATE(F53,"_",G53,"_",E53) -> CIVITILLO_MICHELE_ANGELO_M08 | C53: EPS05679 | D53: SM60 | E53: =VLOOKUP(D53,CAT!$E$2:$F$26,2) -> M08 | F53: CIVITILLO | G53: MICHELE_ANGELO | H53: 20736 | I53: EPS851 | J53: PODISTI ALTO SANNIO | K53: =COUNT(L53:S53) -> 6 | L53: =IF(SUMIF(I_TAPPA!A:A,B53,I_TAPPA!O:O)=0,"",SUMIF(I_TAPPA!A:A,B53,I_TAPPA!O:O)) | M53: =IF(SUMIF(II_TAPPA!A:A,B53,II_TAPPA!O:O)=0,"",SUMIF(II_TAPPA!A:A,B53,II_TAPPA!O:O)) -> 161 | N53: =IF(SUMIF(III_TAPPA!A:A,B53,III_TAPPA!O:O)=0,"",SUMIF(III_TAPPA!A:A,B53,III_TAPPA!O:O)) -> 159 | O53: =IF(SUMIF(IV_TAPPA!A:A,B53,IV_TAPPA!S:S)=0,"",SUMIF(IV_TAPPA!A:A,B53,IV_TAPPA!S:S)) -> 140 | P53: =IF(SUMIF(V_TAPPA!A:A,B53,V_TAPPA!O:O)=0,"",SUMIF(V_TAPPA!A:A,B53,V_TAPPA!O:O)) -> 169 | Q53: =IF(SUMIF(VI_TAPPA!A:A,B53,VI_TAPPA!O:O)=0,"",SUMIF(VI_TAPPA!A:A,B53,VI_TAPPA!O:O)) -> 178 | R53: =IF(SUMIF(VII_TAPPA!A:A,B53,VII_TAPPA!O:O)=0,"",SUMIF(VII_TAPPA!A:A,B53,VII_TAPPA!O:O)) | S53: =IF(SUMIF(VIII_TAPPA!A:A,B53,VIII_TAPPA!O:O)=0,"",SUMIF(VIII_TAPPA!A:A,B53,VIII_TAPPA!O:O)) -> 176 | T53: =SUM(L53:S53) -> 983 | U53: =IF(K53=8,MINA(L53:S53),0) -> 0 | V53: =T53-U53 -> 983
A54: =A53+1 -> 53 | B54: =CONCATENATE(F54,"_",G54,"_",E54) -> DI_CERBO_TIZIANA_F6 | C54: MC001359 | D54: SF50 | E54: =VLOOKUP(D54,CAT!$E$2:$F$26,2) -> F6 | F54: DI_CERBO | G54: TIZIANA | H54: 25204 | I54: BN300 | J54: ATLETICA DUGENTA | K54: =COUNT(L54:S54) -> 7 | L54: =IF(SUMIF(I_TAPPA!A:A,B54,I_TAPPA!O:O)=0,"",SUMIF(I_TAPPA!A:A,B54,I_TAPPA!O:O)) -> 164 | M54: =IF(SUMIF(II_TAPPA!A:A,B54,II_TAPPA!O:O)=0,"",SUMIF(II_TAPPA!A:A,B54,II_TAPPA!O:O)) -> 126 | N54: =IF(SUMIF(III_TAPPA!A:A,B54,III_TAPPA!O:O)=0,"",SUMIF(III_TAPPA!A:A,B54,III_TAPPA!O:O)) -> 128 | O54: =IF(SUMIF(IV_TAPPA!A:A,B54,IV_TAPPA!S:S)=0,"",SUMIF(IV_TAPPA!A:A,B54,IV_TAPPA!S:S)) -> 114 | P54: =IF(SUMIF(V_TAPPA!A:A,B54,V_TAPPA!O:O)=0,"",SUMIF(V_TAPPA!A:A,B54,V_TAPPA!O:O)) -> 158 | Q54: =IF(SUMIF(VI_TAPPA!A:A,B54,VI_TAPPA!O:O)=0,"",SUMIF(VI_TAPPA!A:A,B54,VI_TAPPA!O:O)) -> 151 | R54: =IF(SUMIF(VII_TAPPA!A:A,B54,VII_TAPPA!O:O)=0,"",SUMIF(VII_TAPPA!A:A,B54,VII_TAPPA!O:O)) | S54: =IF(SUMIF(VIII_TAPPA!A:A,B54,VIII_TAPPA!O:O)=0,"",SUMIF(VIII_TAPPA!A:A,B54,VIII_TAPPA!O:O)) -> 135 | T54: =SUM(L54:S54) -> 976 | U54: =IF(K54=8,MINA(L54:S54),0) -> 0 | V54: =T54-U54 -> 976 | W54: p
A55: =A54+1 -> 54 | B55: =CONCATENATE(F55,"_",G55,"_",E55) -> MECCARIELLO_PIETRO_M08 | C55: EPS15527 | D55: SM60 | E55: =VLOOKUP(D55,CAT!$E$2:$F$26,2) -> M08 | F55: MECCARIELLO | G55: PIETRO | H55: 21866 | I55: EPSRT | J55: TABURNO RUNNERS | K55: =COUNT(L55:S55) -> 6 | L55: =IF(SUMIF(I_TAPPA!A:A,B55,I_TAPPA!O:O)=0,"",SUMIF(I_TAPPA!A:A,B55,I_TAPPA!O:O)) -> 173 | M55: =IF(SUMIF(II_TAPPA!A:A,B55,II_TAPPA!O:O)=0,"",SUMIF(II_TAPPA!A:A,B55,II_TAPPA!O:O)) -> 153 | N55: =IF(SUMIF(III_TAPPA!A:A,B55,III_TAPPA!O:O)=0,"",SUMIF(III_TAPPA!A:A,B55,III_TAPPA!O:O)) -> 158 | O55: =IF(SUMIF(IV_TAPPA!A:A,B55,IV_TAPPA!S:S)=0,"",SUMIF(IV_TAPPA!A:A,B55,IV_TAPPA!S:S)) -> 134 | P55: =IF(SUMIF(V_TAPPA!A:A,B55,V_TAPPA!O:O)=0,"",SUMIF(V_TAPPA!A:A,B55,V_TAPPA!O:O)) -> 179 | Q55: =IF(SUMIF(VI_TAPPA!A:A,B55,VI_TAPPA!O:O)=0,"",SUMIF(VI_TAPPA!A:A,B55,VI_TAPPA!O:O)) -> 169 | R55: =IF(SUMIF(VII_TAPPA!A:A,B55,VII_TAPPA!O:O)=0,"",SUMIF(VII_TAPPA!A:A,B55,VII_TAPPA!O:O)) | S55: =IF(SUMIF(VIII_TAPPA!A:A,B55,VIII_TAPPA!O:O)=0,"",SUMIF(VIII_TAPPA!A:A,B55,VIII_TAPPA!O:O)) | T55: =SUM(L55:S55) -> 966 | U55: =IF(K55=8,MINA(L55:S55),0) -> 0 | V55: =T55-U55 -> 966
A56: =A55+1 -> 55 | B56: =CONCATENATE(F56,"_",G56,"_",E56) -> PASCALE_ANTONIA_F6 | C56: MC000297 | D56: SF50 | E56: =VLOOKUP(D56,CAT!$E$2:$F$26,2) -> F6 | F56: PASCALE | G56: ANTONIA | H56: 24500 | I56: BN460 | J56: TELESIA RUNNING TEAM | K56: =COUNT(L56:S56) -> 7 | L56: =IF(SUMIF(I_TAPPA!A:A,B56,I_TAPPA!O:O)=0,"",SUMIF(I_TAPPA!A:A,B56,I_TAPPA!O:O)) -> 158 | M56: =IF(SUMIF(II_TAPPA!A:A,B56,II_TAPPA!O:O)=0,"",SUMIF(II_TAPPA!A:A,B56,II_TAPPA!O:O)) -> 129 | N56: =IF(SUMIF(III_TAPPA!A:A,B56,III_TAPPA!O:O)=0,"",SUMIF(III_TAPPA!A:A,B56,III_TAPPA!O:O)) -> 123 | O56: =IF(SUMIF(IV_TAPPA!A:A,B56,IV_TAPPA!S:S)=0,"",SUMIF(IV_TAPPA!A:A,B56,IV_TAPPA!S:S)) | P56: =IF(SUMIF(V_TAPPA!A:A,B56,V_TAPPA!O:O)=0,"",SUMIF(V_TAPPA!A:A,B56,V_TAPPA!O:O)) -> 145 | Q56: =IF(SUMIF(VI_TAPPA!A:A,B56,VI_TAPPA!O:O)=0,"",SUMIF(VI_TAPPA!A:A,B56,VI_TAPPA!O:O)) -> 145 | R56: =IF(SUMIF(VII_TAPPA!A:A,B56,VII_TAPPA!O:O)=0,"",SUMIF(VII_TAPPA!A:A,B56,VII_TAPPA!O:O)) -> 135 | S56: =IF(SUMIF(VIII_TAPPA!A:A,B56,VIII_TAPPA!O:O)=0,"",SUMIF(VIII_TAPPA!A:A,B56,VIII_TAPPA!O:O)) -> 126 | T56: =SUM(L56:S56) -> 961 | U56: =IF(K56=8,MINA(L56:S56),0) -> 0 | V56: =T56-U56 -> 961 | W56: p
A57: =A56+1 -> 56 | B57: =CONCATENATE(F57,"_",G57,"_",E57) -> PUZIO_MASSIMO_M07 | C57: MC001020 | D57: SM55 | E57: =VLOOKUP(D57,CAT!$E$2:$F$26,2) -> M07 | F57: PUZIO | G57: MASSIMO | H57: 22710 | I57: BN702 | J57: PODISMO BENEVENTO | K57: =COUNT(L57:S57) -> 5 | L57: =IF(SUMIF(I_TAPPA!A:A,B57,I_TAPPA!O:O)=0,"",SUMIF(I_TAPPA!A:A,B57,I_TAPPA!O:O)) -> 200 | M57: =IF(SUMIF(II_TAPPA!A:A,B57,II_TAPPA!O:O)=0,"",SUMIF(II_TAPPA!A:A,B57,II_TAPPA!O:O)) -> 186 | N57: =IF(SUMIF(III_TAPPA!A:A,B57,III_TAPPA!O:O)=0,"",SUMIF(III_TAPPA!A:A,B57,III_TAPPA!O:O)) -> 190 | O57: =IF(SUMIF(IV_TAPPA!A:A,B57,IV_TAPPA!S:S)=0,"",SUMIF(IV_TAPPA!A:A,B57,IV_TAPPA!S:S)) -> 176 | P57: =IF(SUMIF(V_TAPPA!A:A,B57,V_TAPPA!O:O)=0,"",SUMIF(V_TAPPA!A:A,B57,V_TAPPA!O:O)) | Q57: =IF(SUMIF(VI_TAPPA!A:A,B57,VI_TAPPA!O:O)=0,"",SUMIF(VI_TAPPA!A:A,B57,VI_TAPPA!O:O)) -> 190 | R57: =IF(SUMIF(VII_TAPPA!A:A,B57,VII_TAPPA!O:O)=0,"",SUMIF(VII_TAPPA!A:A,B57,VII_TAPPA!O:O)) | S57: =IF(SUMIF(VIII_TAPPA!A:A,B57,VIII_TAPPA!O:O)=0,"",SUMIF(VIII_TAPPA!A:A,B57,VIII_TAPPA!O:O)) | T57: =SUM(L57:S57) -> 942 | U57: =IF(K57=8,MINA(L57:S57),0) -> 0 | V57: =T57-U57 -> 942
A58: =A57+1 -> 57 | B58: =CONCATENATE(F58,"_",G58,"_",E58) -> CIERVO_AURELIANO_M05 | C58: MC001170 | D58: SM45 | E58: =VLOOKUP(D58,CAT!$E$2:$F$26,2) -> M05 | F58: CIERVO | G58: AURELIANO | H58: 26946 | I58: BN460 | J58: TELESIA RUNNING TEAM | K58: =COUNT(L58:S58) -> 6 | L58: =IF(SUMIF(I_TAPPA!A:A,B58,I_TAPPA!O:O)=0,"",SUMIF(I_TAPPA!A:A,B58,I_TAPPA!O:O)) | M58: =IF(SUMIF(II_TAPPA!A:A,B58,II_TAPPA!O:O)=0,"",SUMIF(II_TAPPA!A:A,B58,II_TAPPA!O:O)) -> 146 | N58: =IF(SUMIF(III_TAPPA!A:A,B58,III_TAPPA!O:O)=0,"",SUMIF(III_TAPPA!A:A,B58,III_TAPPA!O:O)) | O58: =IF(SUMIF(IV_TAPPA!A:A,B58,IV_TAPPA!S:S)=0,"",SUMIF(IV_TAPPA!A:A,B58,IV_TAPPA!S:S)) -> 136 | P58: =IF(SUMIF(V_TAPPA!A:A,B58,V_TAPPA!O:O)=0,"",SUMIF(V_TAPPA!A:A,B58,V_TAPPA!O:O)) -> 175 | Q58: =IF(SUMIF(VI_TAPPA!A:A,B58,VI_TAPPA!O:O)=0,"",SUMIF(VI_TAPPA!A:A,B58,VI_TAPPA!O:O)) -> 166 | R58: =IF(SUMIF(VII_TAPPA!A:A,B58,VII_TAPPA!O:O)=0,"",SUMIF(VII_TAPPA!A:A,B58,VII_TAPPA!O:O)) -> 157 | S58: =IF(SUMIF(VIII_TAPPA!A:A,B58,VIII_TAPPA!O:O)=0,"",SUMIF(VIII_TAPPA!A:A,B58,VIII_TAPPA!O:O)) -> 154 | T58: =SUM(L58:S58) -> 934 | U58: =IF(K58=8,MINA(L58:S58),0) -> 0 | V58: =T58-U58 -> 934
A59: =A58+1 -> 58 | B59: =CONCATENATE(F59,"_",G59,"_",E59) -> MOLINARO_NICOLA_M06 | C59: EPS05712 | D59: SM50 | E59: =VLOOKUP(D59,CAT!$E$2:$F$26,2) -> M06 | F59: MOLINARO | G59: NICOLA | H59: 24407 | I59: EPS851 | J59: PODISTI ALTO SANNIO | K59: =COUNT(L59:S59) -> 4 | L59: =IF(SUMIF(I_TAPPA!A:A,B59,I_TAPPA!O:O)=0,"",SUMIF(I_TAPPA!A:A,B59,I_TAPPA!O:O)) | M59: =IF(SUMIF(II_TAPPA!A:A,B59,II_TAPPA!O:O)=0,"",SUMIF(II_TAPPA!A:A,B59,II_TAPPA!O:O)) -> 230 | N59: =IF(SUMIF(III_TAPPA!A:A,B59,III_TAPPA!O:O)=0,"",SUMIF(III_TAPPA!A:A,B59,III_TAPPA!O:O)) | O59: =IF(SUMIF(IV_TAPPA!A:A,B59,IV_TAPPA!S:S)=0,"",SUMIF(IV_TAPPA!A:A,B59,IV_TAPPA!S:S)) | P59: =IF(SUMIF(V_TAPPA!A:A,B59,V_TAPPA!O:O)=0,"",SUMIF(V_TAPPA!A:A,B59,V_TAPPA!O:O)) -> 240 | Q59: =IF(SUMIF(VI_TAPPA!A:A,B59,VI_TAPPA!O:O)=0,"",SUMIF(VI_TAPPA!A:A,B59,VI_TAPPA!O:O)) -> 228 | R59: =IF(SUMIF(VII_TAPPA!A:A,B59,VII_TAPPA!O:O)=0,"",SUMIF(VII_TAPPA!A:A,B59,VII_TAPPA!O:O)) | S59: =IF(SUMIF(VIII_TAPPA!A:A,B59,VIII_TAPPA!O:O)=0,"",SUMIF(VIII_TAPPA!A:A,B59,VIII_TAPPA!O:O)) -> 226 | T59: =SUM(L59:S59) -> 924 | U59: =IF(K59=8,MINA(L59:S59),0) -> 0 | V59: =T59-U59 -> 924
A60: =A59+1 -> 59 | B60: =CONCATENATE(F60,"_",G60,"_",E60) -> SELLAROLI_ORESTE_M05 | C60: MC001366 | D60: SM45 | E60: =VLOOKUP(D60,CAT!$E$2:$F$26,2) -> M05 | F60: SELLAROLI | G60: ORESTE | H60: 26819 | I60: BN460 | J60: TELESIA RUNNING TEAM | K60: =COUNT(L60:S60) -> 5 | L60: =IF(SUMIF(I_TAPPA!A:A,B60,I_TAPPA!O:O)=0,"",SUMIF(I_TAPPA!A:A,B60,I_TAPPA!O:O)) -> 196 | M60: =IF(SUMIF(II_TAPPA!A:A,B60,II_TAPPA!O:O)=0,"",SUMIF(II_TAPPA!A:A,B60,II_TAPPA!O:O)) -> 192 | N60: =IF(SUMIF(III_TAPPA!A:A,B60,III_TAPPA!O:O)=0,"",SUMIF(III_TAPPA!A:A,B60,III_TAPPA!O:O)) | O60: =IF(SUMIF(IV_TAPPA!A:A,B60,IV_TAPPA!S:S)=0,"",SUMIF(IV_TAPPA!A:A,B60,IV_TAPPA!S:S)) -> 183 | P60: =IF(SUMIF(V_TAPPA!A:A,B60,V_TAPPA!O:O)=0,"",SUMIF(V_TAPPA!A:A,B60,V_TAPPA!O:O)) | Q60: =IF(SUMIF(VI_TAPPA!A:A,B60,VI_TAPPA!O:O)=0,"",SUMIF(VI_TAPPA!A:A,B60,VI_TAPPA!O:O)) | R60: =IF(SUMIF(VII_TAPPA!A:A,B60,VII_TAPPA!O:O)=0,"",SUMIF(VII_TAPPA!A:A,B60,VII_TAPPA!O:O)) -> 193 | S60: =IF(SUMIF(VIII_TAPPA!A:A,B60,VIII_TAPPA!O:O)=0,"",SUMIF(VIII_TAPPA!A:A,B60,VIII_TAPPA!O:O)) -> 158 | T60: =SUM(L60:S60) -> 922 | U60: =IF(K60=8,MINA(L60:S60),0) -> 0 | V60: =T60-U60 -> 922
A61: =A60+1 -> 60 | B61: =CONCATENATE(F61,"_",G61,"_",E61) -> OLIVETO_PATRIZIA_F5 | C61: EPS11825 | D61: SF45 | E61: =VLOOKUP(D61,CAT!$E$2:$F$26,2) -> F5 | F61: OLIVETO | G61: PATRIZIA | H61: 25619 | I61: EPS851 | J61: PODISTI ALTO SANNIO | K61: =COUNT(L61:S61) -> 8 | L61: =IF(SUMIF(I_TAPPA!A:A,B61,I_TAPPA!O:O)=0,"",SUMIF(I_TAPPA!A:A,B61,I_TAPPA!O:O)) -> 150 | M61: =IF(SUMIF(II_TAPPA!A:A,B61,II_TAPPA!O:O)=0,"",SUMIF(II_TAPPA!A:A,B61,II_TAPPA!O:O)) -> 111 | N61: =IF(SUMIF(III_TAPPA!A:A,B61,III_TAPPA!O:O)=0,"",SUMIF(III_TAPPA!A:A,B61,III_TAPPA!O:O)) -> 117 | O61: =IF(SUMIF(IV_TAPPA!A:A,B61,IV_TAPPA!S:S)=0,"",SUMIF(IV_TAPPA!A:A,B61,IV_TAPPA!S:S)) -> 72 | P61: =IF(SUMIF(V_TAPPA!A:A,B61,V_TAPPA!O:O)=0,"",SUMIF(V_TAPPA!A:A,B61,V_TAPPA!O:O)) -> 139 | Q61: =IF(SUMIF(VI_TAPPA!A:A,B61,VI_TAPPA!O:O)=0,"",SUMIF(VI_TAPPA!A:A,B61,VI_TAPPA!O:O)) -> 143 | R61: =IF(SUMIF(VII_TAPPA!A:A,B61,VII_TAPPA!O:O)=0,"",SUMIF(VII_TAPPA!A:A,B61,VII_TAPPA!O:O)) -> 124 | S61: =IF(SUMIF(VIII_TAPPA!A:A,B61,VIII_TAPPA!O:O)=0,"",SUMIF(VIII_TAPPA!A:A,B61,VIII_TAPPA!O:O)) -> 129 | T61: =SUM(L61:S61) -> 985 | U61: =IF(K61=8,MINA(L61:S61),0) -> 72 | V61: =T61-U61 -> 913 | W61: p
A62: =A61+1 -> 61 | B62: =CONCATENATE(F62,"_",G62,"_",E62) -> IANNIELLO_CARMINE_M07 | C62: MC001498 | D62: SM55 | E62: =VLOOKUP(D62,CAT!$E$2:$F$26,2) -> M07 | F62: IANNIELLO | G62: CARMINE | H62: 23156 | I62: BN460 | J62: TELESIA RUNNING TEAM | K62: =COUNT(L62:S62) -> 5 | L62: =IF(SUMIF(I_TAPPA!A:A,B62,I_TAPPA!O:O)=0,"",SUMIF(I_TAPPA!A:A,B62,I_TAPPA!O:O)) | M62: =IF(SUMIF(II_TAPPA!A:A,B62,II_TAPPA!O:O)=0,"",SUMIF(II_TAPPA!A:A,B62,II_TAPPA!O:O)) -> 182 | N62: =IF(SUMIF(III_TAPPA!A:A,B62,III_TAPPA!O:O)=0,"",SUMIF(III_TAPPA!A:A,B62,III_TAPPA!O:O)) -> 178 | O62: =IF(SUMIF(IV_TAPPA!A:A,B62,IV_TAPPA!S:S)=0,"",SUMIF(IV_TAPPA!A:A,B62,IV_TAPPA!S:S)) -> 169 | P62: =IF(SUMIF(V_TAPPA!A:A,B62,V_TAPPA!O:O)=0,"",SUMIF(V_TAPPA!A:A,B62,V_TAPPA!O:O)) -> 193 | Q62: =IF(SUMIF(VI_TAPPA!A:A,B62,VI_TAPPA!O:O)=0,"",SUMIF(VI_TAPPA!A:A,B62,VI_TAPPA!O:O)) -> 185 | R62: =IF(SUMIF(VII_TAPPA!A:A,B62,VII_TAPPA!O:O)=0,"",SUMIF(VII_TAPPA!A:A,B62,VII_TAPPA!O:O)) | S62: =IF(SUMIF(VIII_TAPPA!A:A,B62,VIII_TAPPA!O:O)=0,"",SUMIF(VIII_TAPPA!A:A,B62,VIII_TAPPA!O:O)) | T62: =SUM(L62:S62) -> 907 | U62: =IF(K62=8,MINA(L62:S62),0) -> 0 | V62: =T62-U62 -> 907
A63: =A62+1 -> 62 | B63: =CONCATENATE(F63,"_",G63,"_",E63) -> BOFFA_LUIGI_M06 | C63: EPS16791 | D63: SM50 | E63: =VLOOKUP(D63,CAT!$E$2:$F$26,2) -> M06 | F63: BOFFA | G63: LUIGI | H63: 23765 | I63: EPS851 | J63: PODISTI ALTO SANNIO | K63: =COUNT(L63:S63) -> 6 | L63: =IF(SUMIF(I_TAPPA!A:A,B63,I_TAPPA!O:O)=0,"",SUMIF(I_TAPPA!A:A,B63,I_TAPPA!O:O)) | M63: =IF(SUMIF(II_TAPPA!A:A,B63,II_TAPPA!O:O)=0,"",SUMIF(II_TAPPA!A:A,B63,II_TAPPA!O:O)) -> 144 | N63: =IF(SUMIF(III_TAPPA!A:A,B63,III_TAPPA!O:O)=0,"",SUMIF(III_TAPPA!A:A,B63,III_TAPPA!O:O)) | O63: =IF(SUMIF(IV_TAPPA!A:A,B63,IV_TAPPA!S:S)=0,"",SUMIF(IV_TAPPA!A:A,B63,IV_TAPPA!S:S)) -> 127 | P63: =IF(SUMIF(V_TAPPA!A:A,B63,V_TAPPA!O:O)=0,"",SUMIF(V_TAPPA!A:A,B63,V_TAPPA!O:O)) -> 164 | Q63: =IF(SUMIF(VI_TAPPA!A:A,B63,VI_TAPPA!O:O)=0,"",SUMIF(VI_TAPPA!A:A,B63,VI_TAPPA!O:O)) -> 161 | R63: =IF(SUMIF(VII_TAPPA!A:A,B63,VII_TAPPA!O:O)=0,"",SUMIF(VII_TAPPA!A:A,B63,VII_TAPPA!O:O)) -> 155 | S63: =IF(SUMIF(VIII_TAPPA!A:A,B63,VIII_TAPPA!O:O)=0,"",SUMIF(VIII_TAPPA!A:A,B63,VIII_TAPPA!O:O)) -> 151 | T63: =SUM(L63:S63) -> 902 | U63: =IF(K63=8,MINA(L63:S63),0) -> 0 | V63: =T63-U63 -> 902
A64: =A63+1 -> 63 | B64: =CONCATENATE(F64,"_",G64,"_",E64) -> NYGAARD_SOREN_M06 | C64: EPS08543 | D64: SM50 | E64: =VLOOKUP(D64,CAT!$E$2:$F$26,2) -> M06 | F64: NYGAARD | G64: SOREN | H64: 24924 | I64: EPS851 | J64: PODISTI ALTO SANNIO | K64: =COUNT(L64:S64) -> 5 | L64: =IF(SUMIF(I_TAPPA!A:A,B64,I_TAPPA!O:O)=0,"",SUMIF(I_TAPPA!A:A,B64,I_TAPPA!O:O)) | M64: =IF(SUMIF(II_TAPPA!A:A,B64,II_TAPPA!O:O)=0,"",SUMIF(II_TAPPA!A:A,B64,II_TAPPA!O:O)) -> 166 | N64: =IF(SUMIF(III_TAPPA!A:A,B64,III_TAPPA!O:O)=0,"",SUMIF(III_TAPPA!A:A,B64,III_TAPPA!O:O)) -> 167 | O64: =IF(SUMIF(IV_TAPPA!A:A,B64,IV_TAPPA!S:S)=0,"",SUMIF(IV_TAPPA!A:A,B64,IV_TAPPA!S:S)) | P64: =IF(SUMIF(V_TAPPA!A:A,B64,V_TAPPA!O:O)=0,"",SUMIF(V_TAPPA!A:A,B64,V_TAPPA!O:O)) -> 189 | Q64: =IF(SUMIF(VI_TAPPA!A:A,B64,VI_TAPPA!O:O)=0,"",SUMIF(VI_TAPPA!A:A,B64,VI_TAPPA!O:O)) -> 188 | R64: =IF(SUMIF(VII_TAPPA!A:A,B64,VII_TAPPA!O:O)=0,"",SUMIF(VII_TAPPA!A:A,B64,VII_TAPPA!O:O)) -> 185 | S64: =IF(SUMIF(VIII_TAPPA!A:A,B64,VIII_TAPPA!O:O)=0,"",SUMIF(VIII_TAPPA!A:A,B64,VIII_TAPPA!O:O)) | T64: =SUM(L64:S64) -> 895 | U64: =IF(K64=8,MINA(L64:S64),0) -> 0 | V64: =T64-U64 -> 895
A65: =A64+1 -> 64 | B65: =CONCATENATE(F65,"_",G65,"_",E65) -> SCETTA_ALDO_M05 | C65: EPS15116 | D65: SM45 | E65: =VLOOKUP(D65,CAT!$E$2:$F$26,2) -> M05 | F65: SCETTA | G65: ALDO | H65: 27041 | I65: EPS851 | J65: PODISTI ALTO SANNIO | K65: =COUNT(L65:S65) -> 8 | L65: =IF(SUMIF(I_TAPPA!A:A,B65,I_TAPPA!O:O)=0,"",SUMIF(I_TAPPA!A:A,B65,I_TAPPA!O:O)) -> 147 | M65: =IF(SUMIF(II_TAPPA!A:A,B65,II_TAPPA!O:O)=0,"",SUMIF(II_TAPPA!A:A,B65,II_TAPPA!O:O)) -> 117 | N65: =IF(SUMIF(III_TAPPA!A:A,B65,III_TAPPA!O:O)=0,"",SUMIF(III_TAPPA!A:A,B65,III_TAPPA!O:O)) -> 119 | O65: =IF(SUMIF(IV_TAPPA!A:A,B65,IV_TAPPA!S:S)=0,"",SUMIF(IV_TAPPA!A:A,B65,IV_TAPPA!S:S)) -> 79 | P65: =IF(SUMIF(V_TAPPA!A:A,B65,V_TAPPA!O:O)=0,"",SUMIF(V_TAPPA!A:A,B65,V_TAPPA!O:O)) -> 140 | Q65: =IF(SUMIF(VI_TAPPA!A:A,B65,VI_TAPPA!O:O)=0,"",SUMIF(VI_TAPPA!A:A,B65,VI_TAPPA!O:O)) -> 135 | R65: =IF(SUMIF(VII_TAPPA!A:A,B65,VII_TAPPA!O:O)=0,"",SUMIF(VII_TAPPA!A:A,B65,VII_TAPPA!O:O)) -> 119 | S65: =IF(SUMIF(VIII_TAPPA!A:A,B65,VIII_TAPPA!O:O)=0,"",SUMIF(VIII_TAPPA!A:A,B65,VIII_TAPPA!O:O)) -> 117 | T65: =SUM(L65:S65) -> 973 | U65: =IF(K65=8,MINA(L65:S65),0) -> 79 | V65: =T65-U65 -> 894
A66: =A65+1 -> 65 | B66: =CONCATENATE(F66,"_",G66,"_",E66) -> CIPOLLA_AGOSTINO_M09 | C66: PA001058 | D66: SM65 | E66: =VLOOKUP(D66,CAT!$E$2:$F$26,2) -> M09 | F66: CIPOLLA | G66: AGOSTINO | H66: 18823 | I66: CB032 | J66: PODISTICA AVIS CAMPOBASSO | K66: =COUNT(L66:S66) -> 5 | L66: =IF(SUMIF(I_TAPPA!A:A,B66,I_TAPPA!O:O)=0,"",SUMIF(I_TAPPA!A:A,B66,I_TAPPA!O:O)) -> 191 | M66: =IF(SUMIF(II_TAPPA!A:A,B66,II_TAPPA!O:O)=0,"",SUMIF(II_TAPPA!A:A,B66,II_TAPPA!O:O)) -> 167 | N66: =IF(SUMIF(III_TAPPA!A:A,B66,III_TAPPA!O:O)=0,"",SUMIF(III_TAPPA!A:A,B66,III_TAPPA!O:O)) -> 176 | O66: =IF(SUMIF(IV_TAPPA!A:A,B66,IV_TAPPA!S:S)=0,"",SUMIF(IV_TAPPA!A:A,B66,IV_TAPPA!S:S)) | P66: =IF(SUMIF(V_TAPPA!A:A,B66,V_TAPPA!O:O)=0,"",SUMIF(V_TAPPA!A:A,B66,V_TAPPA!O:O)) -> 188 | Q66: =IF(SUMIF(VI_TAPPA!A:A,B66,VI_TAPPA!O:O)=0,"",SUMIF(VI_TAPPA!A:A,B66,VI_TAPPA!O:O)) | R66: =IF(SUMIF(VII_TAPPA!A:A,B66,VII_TAPPA!O:O)=0,"",SUMIF(VII_TAPPA!A:A,B66,VII_TAPPA!O:O)) | S66: =IF(SUMIF(VIII_TAPPA!A:A,B66,VIII_TAPPA!O:O)=0,"",SUMIF(VIII_TAPPA!A:A,B66,VIII_TAPPA!O:O)) -> 168 | T66: =SUM(L66:S66) -> 890 | U66: =IF(K66=8,MINA(L66:S66),0) -> 0 | V66: =T66-U66 -> 890
A67: =A66+1 -> 66 | B67: =CONCATENATE(F67,"_",G67,"_",E67) -> CAVUOTO_PELLEGRINO_M05 | C67: MC001605 | D67: SM45 | E67: =VLOOKUP(D67,CAT!$E$2:$F$26,2) -> M05 | F67: CAVUOTO | G67: PELLEGRINO | H67: 26111 | I67: EPSSA | J67: SANNIO RUNNERS | K67: =COUNT(L67:S67) -> 8 | L67: =IF(SUMIF(I_TAPPA!A:A,B67,I_TAPPA!O:O)=0,"",SUMIF(I_TAPPA!A:A,B67,I_TAPPA!O:O)) -> 155 | M67: =IF(SUMIF(II_TAPPA!A:A,B67,II_TAPPA!O:O)=0,"",SUMIF(II_TAPPA!A:A,B67,II_TAPPA!O:O)) -> 108 | N67: =IF(SUMIF(III_TAPPA!A:A,B67,III_TAPPA!O:O)=0,"",SUMIF(III_TAPPA!A:A,B67,III_TAPPA!O:O)) -> 113 | O67: =IF(SUMIF(IV_TAPPA!A:A,B67,IV_TAPPA!S:S)=0,"",SUMIF(IV_TAPPA!A:A,B67,IV_TAPPA!S:S)) -> 86 | P67: =IF(SUMIF(V_TAPPA!A:A,B67,V_TAPPA!O:O)=0,"",SUMIF(V_TAPPA!A:A,B67,V_TAPPA!O:O)) -> 144 | Q67: =IF(SUMIF(VI_TAPPA!A:A,B67,VI_TAPPA!O:O)=0,"",SUMIF(VI_TAPPA!A:A,B67,VI_TAPPA!O:O)) -> 138 | R67: =IF(SUMIF(VII_TAPPA!A:A,B67,VII_TAPPA!O:O)=0,"",SUMIF(VII_TAPPA!A:A,B67,VII_TAPPA!O:O)) -> 122 | S67: =IF(SUMIF(VIII_TAPPA!A:A,B67,VIII_TAPPA!O:O)=0,"",SUMIF(VIII_TAPPA!A:A,B67,VIII_TAPPA!O:O)) -> 105 | T67: =SUM(L67:S67) -> 971 | U67: =IF(K67=8,MINA(L67:S67),0) -> 86 | V67: =T67-U67 -> 885
A68: =A67+1 -> 67 | B68: =CONCATENATE(F68,"_",G68,"_",E68) -> GORGONIO_FRANCESCO_M07 | C68: MC000178 | D68: SM55 | E68: =VLOOKUP(D68,CAT!$E$2:$F$26,2) -> M07 | F68: GORGONIO | G68: FRANCESCO | H68: 22135 | I68: BN460 | J68: TELESIA RUNNING TEAM | K68: =COUNT(L68:S68) -> 5 | L68: =IF(SUMIF(I_TAPPA!A:A,B68,I_TAPPA!O:O)=0,"",SUMIF(I_TAPPA!A:A,B68,I_TAPPA!O:O)) -> 197 | M68: =IF(SUMIF(II_TAPPA!A:A,B68,II_TAPPA!O:O)=0,"",SUMIF(II_TAPPA!A:A,B68,II_TAPPA!O:O)) | N68: =IF(SUMIF(III_TAPPA!A:A,B68,III_TAPPA!O:O)=0,"",SUMIF(III_TAPPA!A:A,B68,III_TAPPA!O:O)) -> 161 | O68: =IF(SUMIF(IV_TAPPA!A:A,B68,IV_TAPPA!S:S)=0,"",SUMIF(IV_TAPPA!A:A,B68,IV_TAPPA!S:S)) -> 162 | P68: =IF(SUMIF(V_TAPPA!A:A,B68,V_TAPPA!O:O)=0,"",SUMIF(V_TAPPA!A:A,B68,V_TAPPA!O:O)) | Q68: =IF(SUMIF(VI_TAPPA!A:A,B68,VI_TAPPA!O:O)=0,"",SUMIF(VI_TAPPA!A:A,B68,VI_TAPPA!O:O)) -> 182 | R68: =IF(SUMIF(VII_TAPPA!A:A,B68,VII_TAPPA!O:O)=0,"",SUMIF(VII_TAPPA!A:A,B68,VII_TAPPA!O:O)) | S68: =IF(SUMIF(VIII_TAPPA!A:A,B68,VIII_TAPPA!O:O)=0,"",SUMIF(VIII_TAPPA!A:A,B68,VIII_TAPPA!O:O)) -> 161 | T68: =SUM(L68:S68) -> 863 | U68: =IF(K68=8,MINA(L68:S68),0) -> 0 | V68: =T68-U68 -> 863
A69: =A68+1 -> 68 | B69: =CONCATENATE(F69,"_",G69,"_",E69) -> FESTA_ANGELO_MICHELE_M07 | C69: EPS05691 | D69: SM55 | E69: =VLOOKUP(D69,CAT!$E$2:$F$26,2) -> M07 | F69: FESTA | G69: ANGELO_MICHELE | H69: 22283 | I69: EPS851 | J69: PODISTI ALTO SANNIO | K69: =COUNT(L69:S69) -> 5 | L69: =IF(SUMIF(I_TAPPA!A:A,B69,I_TAPPA!O:O)=0,"",SUMIF(I_TAPPA!A:A,B69,I_TAPPA!O:O)) | M69: =IF(SUMIF(II_TAPPA!A:A,B69,II_TAPPA!O:O)=0,"",SUMIF(II_TAPPA!A:A,B69,II_TAPPA!O:O)) -> 185 | N69: =IF(SUMIF(III_TAPPA!A:A,B69,III_TAPPA!O:O)=0,"",SUMIF(III_TAPPA!A:A,B69,III_TAPPA!O:O)) | O69: =IF(SUMIF(IV_TAPPA!A:A,B69,IV_TAPPA!S:S)=0,"",SUMIF(IV_TAPPA!A:A,B69,IV_TAPPA!S:S)) -> 166 | P69: =IF(SUMIF(V_TAPPA!A:A,B69,V_TAPPA!O:O)=0,"",SUMIF(V_TAPPA!A:A,B69,V_TAPPA!O:O)) -> 161 | Q69: =IF(SUMIF(VI_TAPPA!A:A,B69,VI_TAPPA!O:O)=0,"",SUMIF(VI_TAPPA!A:A,B69,VI_TAPPA!O:O)) | R69: =IF(SUMIF(VII_TAPPA!A:A,B69,VII_TAPPA!O:O)=0,"",SUMIF(VII_TAPPA!A:A,B69,VII_TAPPA!O:O)) -> 178 | S69: =IF(SUMIF(VIII_TAPPA!A:A,B69,VIII_TAPPA!O:O)=0,"",SUMIF(VIII_TAPPA!A:A,B69,VIII_TAPPA!O:O)) -> 165 | T69: =SUM(L69:S69) -> 855 | U69: =IF(K69=8,MINA(L69:S69),0) -> 0 | V69: =T69-U69 -> 855
A70: =A69+1 -> 69 | B70: =CONCATENATE(F70,"_",G70,"_",E70) -> NOVELLI_CLAUDIO_M08 | C70: PA003521 | D70: SM60 | E70: =VLOOKUP(D70,CAT!$E$2:$F$26,2) -> M08 | F70: NOVELLI | G70: CLAUDIO | H70: 21003 | I70: CB032 | J70: PODISTICA AVIS CAMPOBASSO | K70: =COUNT(L70:S70) -> 6 | L70: =IF(SUMIF(I_TAPPA!A:A,B70,I_TAPPA!O:O)=0,"",SUMIF(I_TAPPA!A:A,B70,I_TAPPA!O:O)) -> 160 | M70: =IF(SUMIF(II_TAPPA!A:A,B70,II_TAPPA!O:O)=0,"",SUMIF(II_TAPPA!A:A,B70,II_TAPPA!O:O)) | N70: =IF(SUMIF(III_TAPPA!A:A,B70,III_TAPPA!O:O)=0,"",SUMIF(III_TAPPA!A:A,B70,III_TAPPA!O:O)) -> 118 | O70: =IF(SUMIF(IV_TAPPA!A:A,B70,IV_TAPPA!S:S)=0,"",SUMIF(IV_TAPPA!A:A,B70,IV_TAPPA!S:S)) -> 109 | P70: =IF(SUMIF(V_TAPPA!A:A,B70,V_TAPPA!O:O)=0,"",SUMIF(V_TAPPA!A:A,B70,V_TAPPA!O:O)) -> 156 | Q70: =IF(SUMIF(VI_TAPPA!A:A,B70,VI_TAPPA!O:O)=0,"",SUMIF(VI_TAPPA!A:A,B70,VI_TAPPA!O:O)) -> 159 | R70: =IF(SUMIF(VII_TAPPA!A:A,B70,VII_TAPPA!O:O)=0,"",SUMIF(VII_TAPPA!A:A,B70,VII_TAPPA!O:O)) -> 151 | S70: =IF(SUMIF(VIII_TAPPA!A:A,B70,VIII_TAPPA!O:O)=0,"",SUMIF(VIII_TAPPA!A:A,B70,VIII_TAPPA!O:O)) | T70: =SUM(L70:S70) -> 853 | U70: =IF(K70=8,MINA(L70:S70),0) -> 0 | V70: =T70-U70 -> 853
A71: =A70+1 -> 70 | B71: =CONCATENATE(F71,"_",G71,"_",E71) -> AMBROSINO_ALBERTO_M04 | C71: 39918 | D71: SM40 | E71: =VLOOKUP(D71,CAT!$E$2:$F$26,2) -> M04 | F71: AMBROSINO | G71: ALBERTO | H71: 27720 | I71: EPSQ4 | J71: PODISTI SAN GIORGIO DEL SANNIO | K71: =COUNT(L71:S71) -> 4 | L71: =IF(SUMIF(I_TAPPA!A:A,B71,I_TAPPA!O:O)=0,"",SUMIF(I_TAPPA!A:A,B71,I_TAPPA!O:O)) | M71: =IF(SUMIF(II_TAPPA!A:A,B71,II_TAPPA!O:O)=0,"",SUMIF(II_TAPPA!A:A,B71,II_TAPPA!O:O)) -> 213 | N71: =IF(SUMIF(III_TAPPA!A:A,B71,III_TAPPA!O:O)=0,"",SUMIF(III_TAPPA!A:A,B71,III_TAPPA!O:O)) | O71: =IF(SUMIF(IV_TAPPA!A:A,B71,IV_TAPPA!S:S)=0,"",SUMIF(IV_TAPPA!A:A,B71,IV_TAPPA!S:S)) | P71: =IF(SUMIF(V_TAPPA!A:A,B71,V_TAPPA!O:O)=0,"",SUMIF(V_TAPPA!A:A,B71,V_TAPPA!O:O)) | Q71: =IF(SUMIF(VI_TAPPA!A:A,B71,VI_TAPPA!O:O)=0,"",SUMIF(VI_TAPPA!A:A,B71,VI_TAPPA!O:O)) -> 206 | R71: =IF(SUMIF(VII_TAPPA!A:A,B71,VII_TAPPA!O:O)=0,"",SUMIF(VII_TAPPA!A:A,B71,VII_TAPPA!O:O)) -> 211 | S71: =IF(SUMIF(VIII_TAPPA!A:A,B71,VIII_TAPPA!O:O)=0,"",SUMIF(VIII_TAPPA!A:A,B71,VIII_TAPPA!O:O)) -> 209 | T71: =SUM(L71:S71) -> 839 | U71: =IF(K71=8,MINA(L71:S71),0) -> 0 | V71: =T71-U71 -> 839
A72: =A71+1 -> 71 | B72: =CONCATENATE(F72,"_",G72,"_",E72) -> COSTABILE_UGO_M08 | C72: EPS05683 | D72: SM60 | E72: =VLOOKUP(D72,CAT!$E$2:$F$26,2) -> M08 | F72: COSTABILE | G72: UGO | H72: 21449 | I72: EPS851 | J72: PODISTI ALTO SANNIO | K72: =COUNT(L72:S72) -> 6 | L72: =IF(SUMIF(I_TAPPA!A:A,B72,I_TAPPA!O:O)=0,"",SUMIF(I_TAPPA!A:A,B72,I_TAPPA!O:O)) -> 169 | M72: =IF(SUMIF(II_TAPPA!A:A,B72,II_TAPPA!O:O)=0,"",SUMIF(II_TAPPA!A:A,B72,II_TAPPA!O:O)) -> 155 | N72: =IF(SUMIF(III_TAPPA!A:A,B72,III_TAPPA!O:O)=0,"",SUMIF(III_TAPPA!A:A,B72,III_TAPPA!O:O)) | O72: =IF(SUMIF(IV_TAPPA!A:A,B72,IV_TAPPA!S:S)=0,"",SUMIF(IV_TAPPA!A:A,B72,IV_TAPPA!S:S)) -> 64 | P72: =IF(SUMIF(V_TAPPA!A:A,B72,V_TAPPA!O:O)=0,"",SUMIF(V_TAPPA!A:A,B72,V_TAPPA!O:O)) -> 162 | Q72: =IF(SUMIF(VI_TAPPA!A:A,B72,VI_TAPPA!O:O)=0,"",SUMIF(VI_TAPPA!A:A,B72,VI_TAPPA!O:O)) | R72: =IF(SUMIF(VII_TAPPA!A:A,B72,VII_TAPPA!O:O)=0,"",SUMIF(VII_TAPPA!A:A,B72,VII_TAPPA!O:O)) -> 153 | S72: =IF(SUMIF(VIII_TAPPA!A:A,B72,VIII_TAPPA!O:O)=0,"",SUMIF(VIII_TAPPA!A:A,B72,VIII_TAPPA!O:O)) -> 132 | T72: =SUM(L72:S72) -> 835 | U72: =IF(K72=8,MINA(L72:S72),0) -> 0 | V72: =T72-U72 -> 835
A73: =A72+1 -> 72 | B73: =CONCATENATE(F73,"_",G73,"_",E73) -> NAPOLITANO_LUIGI_M05 | C73: EPS17161 | D73: SM45 | E73: =VLOOKUP(D73,CAT!$E$2:$F$26,2) -> M05 | F73: NAPOLITANO | G73: LUIGI | H73: 25729 | I73: EPSRT | J73: TABURNO RUNNERS | K73: =COUNT(L73:S73) -> 4 | L73: =IF(SUMIF(I_TAPPA!A:A,B73,I_TAPPA!O:O)=0,"",SUMIF(I_TAPPA!A:A,B73,I_TAPPA!O:O)) | M73: =IF(SUMIF(II_TAPPA!A:A,B73,II_TAPPA!O:O)=0,"",SUMIF(II_TAPPA!A:A,B73,II_TAPPA!O:O)) -> 207 | N73: =IF(SUMIF(III_TAPPA!A:A,B73,III_TAPPA!O:O)=0,"",SUMIF(III_TAPPA!A:A,B73,III_TAPPA!O:O)) | O73: =IF(SUMIF(IV_TAPPA!A:A,B73,IV_TAPPA!S:S)=0,"",SUMIF(IV_TAPPA!A:A,B73,IV_TAPPA!S:S)) -> 210 | P73: =IF(SUMIF(V_TAPPA!A:A,B73,V_TAPPA!O:O)=0,"",SUMIF(V_TAPPA!A:A,B73,V_TAPPA!O:O)) | Q73: =IF(SUMIF(VI_TAPPA!A:A,B73,VI_TAPPA!O:O)=0,"",SUMIF(VI_TAPPA!A:A,B73,VI_TAPPA!O:O)) | R73: =IF(SUMIF(VII_TAPPA!A:A,B73,VII_TAPPA!O:O)=0,"",SUMIF(VII_TAPPA!A:A,B73,VII_TAPPA!O:O)) -> 208 | S73: =IF(SUMIF(VIII_TAPPA!A:A,B73,VIII_TAPPA!O:O)=0,"",SUMIF(VIII_TAPPA!A:A,B73,VIII_TAPPA!O:O)) -> 207 | T73: =SUM(L73:S73) -> 832 | U73: =IF(K73=8,MINA(L73:S73),0) -> 0 | V73: =T73-U73 -> 832
A74: =A73+1 -> 73 | B74: =CONCATENATE(F74,"_",G74,"_",E74) -> INGLESE_LUCA_M03 | C74: EPS16900 | D74: SM35 | E74: =VLOOKUP(D74,CAT!$E$2:$F$26,2) -> M03 | F74: INGLESE | G74: LUCA | H74: 30214 | I74: EPS851 | J74: PODISTI ALTO SANNIO | K74: =COUNT(L74:S74) -> 4 | L74: =IF(SUMIF(I_TAPPA!A:A,B74,I_TAPPA!O:O)=0,"",SUMIF(I_TAPPA!A:A,B74,I_TAPPA!O:O)) -> 209 | M74: =IF(SUMIF(II_TAPPA!A:A,B74,II_TAPPA!O:O)=0,"",SUMIF(II_TAPPA!A:A,B74,II_TAPPA!O:O)) | N74: =IF(SUMIF(III_TAPPA!A:A,B74,III_TAPPA!O:O)=0,"",SUMIF(III_TAPPA!A:A,B74,III_TAPPA!O:O)) -> 204 | O74: =IF(SUMIF(IV_TAPPA!A:A,B74,IV_TAPPA!S:S)=0,"",SUMIF(IV_TAPPA!A:A,B74,IV_TAPPA!S:S)) -> 202 | P74: =IF(SUMIF(V_TAPPA!A:A,B74,V_TAPPA!O:O)=0,"",SUMIF(V_TAPPA!A:A,B74,V_TAPPA!O:O)) | Q74: =IF(SUMIF(VI_TAPPA!A:A,B74,VI_TAPPA!O:O)=0,"",SUMIF(VI_TAPPA!A:A,B74,VI_TAPPA!O:O)) | R74: =IF(SUMIF(VII_TAPPA!A:A,B74,VII_TAPPA!O:O)=0,"",SUMIF(VII_TAPPA!A:A,B74,VII_TAPPA!O:O)) | S74: =IF(SUMIF(VIII_TAPPA!A:A,B74,VIII_TAPPA!O:O)=0,"",SUMIF(VIII_TAPPA!A:A,B74,VIII_TAPPA!O:O)) -> 208 | T74: =SUM(L74:S74) -> 823 | U74: =IF(K74=8,MINA(L74:S74),0) -> 0 | V74: =T74-U74 -> 823
A75: =A74+1 -> 74 | B75: =CONCATENATE(F75,"_",G75,"_",E75) -> INTORCIA_FABRIZIO_M07 | C75: MA033244 | D75: SM55 | E75: =VLOOKUP(D75,CAT!$E$2:$F$26,2) -> M07 | F75: INTORCIA | G75: FABRIZIO | H75: 23070 | I75: BN702 | J75: PODISMO BENEVENTO | K75: =COUNT(L75:S75) -> 6 | L75: =IF(SUMIF(I_TAPPA!A:A,B75,I_TAPPA!O:O)=0,"",SUMIF(I_TAPPA!A:A,B75,I_TAPPA!O:O)) -> 163 | M75: =IF(SUMIF(II_TAPPA!A:A,B75,II_TAPPA!O:O)=0,"",SUMIF(II_TAPPA!A:A,B75,II_TAPPA!O:O)) | N75: =IF(SUMIF(III_TAPPA!A:A,B75,III_TAPPA!O:O)=0,"",SUMIF(III_TAPPA!A:A,B75,III_TAPPA!O:O)) -> 126 | O75: =IF(SUMIF(IV_TAPPA!A:A,B75,IV_TAPPA!S:S)=0,"",SUMIF(IV_TAPPA!A:A,B75,IV_TAPPA!S:S)) -> 108 | P75: =IF(SUMIF(V_TAPPA!A:A,B75,V_TAPPA!O:O)=0,"",SUMIF(V_TAPPA!A:A,B75,V_TAPPA!O:O)) | Q75: =IF(SUMIF(VI_TAPPA!A:A,B75,VI_TAPPA!O:O)=0,"",SUMIF(VI_TAPPA!A:A,B75,VI_TAPPA!O:O)) -> 155 | R75: =IF(SUMIF(VII_TAPPA!A:A,B75,VII_TAPPA!O:O)=0,"",SUMIF(VII_TAPPA!A:A,B75,VII_TAPPA!O:O)) -> 137 | S75: =IF(SUMIF(VIII_TAPPA!A:A,B75,VIII_TAPPA!O:O)=0,"",SUMIF(VIII_TAPPA!A:A,B75,VIII_TAPPA!O:O)) -> 133 | T75: =SUM(L75:S75) -> 822 | U75: =IF(K75=8,MINA(L75:S75),0) -> 0 | V75: =T75-U75 -> 822
A76: =A75+1 -> 75 | B76: =CONCATENATE(F76,"_",G76,"_",E76) -> MARTINO_GIUSEPPE_M09 | C76: EPS05704 | D76: SM65 | E76: =VLOOKUP(D76,CAT!$E$2:$F$26,2) -> M09 | F76: MARTINO | G76: GIUSEPPE | H76: 19540 | I76: EPS851 | J76: PODISTI ALTO SANNIO | K76: =COUNT(L76:S76) -> 7 | L76: =IF(SUMIF(I_TAPPA!A:A,B76,I_TAPPA!O:O)=0,"",SUMIF(I_TAPPA!A:A,B76,I_TAPPA!O:O)) -> 154 | M76: =IF(SUMIF(II_TAPPA!A:A,B76,II_TAPPA!O:O)=0,"",SUMIF(II_TAPPA!A:A,B76,II_TAPPA!O:O)) -> 107 | N76: =IF(SUMIF(III_TAPPA!A:A,B76,III_TAPPA!O:O)=0,"",SUMIF(III_TAPPA!A:A,B76,III_TAPPA!O:O)) -> 114 | O76: =IF(SUMIF(IV_TAPPA!A:A,B76,IV_TAPPA!S:S)=0,"",SUMIF(IV_TAPPA!A:A,B76,IV_TAPPA!S:S)) -> 71 | P76: =IF(SUMIF(V_TAPPA!A:A,B76,V_TAPPA!O:O)=0,"",SUMIF(V_TAPPA!A:A,B76,V_TAPPA!O:O)) -> 137 | Q76: =IF(SUMIF(VI_TAPPA!A:A,B76,VI_TAPPA!O:O)=0,"",SUMIF(VI_TAPPA!A:A,B76,VI_TAPPA!O:O)) | R76: =IF(SUMIF(VII_TAPPA!A:A,B76,VII_TAPPA!O:O)=0,"",SUMIF(VII_TAPPA!A:A,B76,VII_TAPPA!O:O)) -> 129 | S76: =IF(SUMIF(VIII_TAPPA!A:A,B76,VIII_TAPPA!O:O)=0,"",SUMIF(VIII_TAPPA!A:A,B76,VIII_TAPPA!O:O)) -> 106 | T76: =SUM(L76:S76) -> 818 | U76: =IF(K76=8,MINA(L76:S76),0) -> 0 | V76: =T76-U76 -> 818
A77: =A76+1 -> 76 | B77: =CONCATENATE(F77,"_",G77,"_",E77) -> IMPARATO_MARIA_TERESA_F7 | C77: EPS05701 | D77: SF55 | E77: =VLOOKUP(D77,CAT!$E$2:$F$26,2) -> F7 | F77: IMPARATO | G77: MARIA_TERESA | H77: 22957 | I77: EPS851 | J77: PODISTI ALTO SANNIO | K77: =COUNT(L77:S77) -> 7 | L77: =IF(SUMIF(I_TAPPA!A:A,B77,I_TAPPA!O:O)=0,"",SUMIF(I_TAPPA!A:A,B77,I_TAPPA!O:O)) -> 149 | M77: =IF(SUMIF(II_TAPPA!A:A,B77,II_TAPPA!O:O)=0,"",SUMIF(II_TAPPA!A:A,B77,II_TAPPA!O:O)) -> 110 | N77: =IF(SUMIF(III_TAPPA!A:A,B77,III_TAPPA!O:O)=0,"",SUMIF(III_TAPPA!A:A,B77,III_TAPPA!O:O)) -> 115 | O77: =IF(SUMIF(IV_TAPPA!A:A,B77,IV_TAPPA!S:S)=0,"",SUMIF(IV_TAPPA!A:A,B77,IV_TAPPA!S:S)) -> 65 | P77: =IF(SUMIF(V_TAPPA!A:A,B77,V_TAPPA!O:O)=0,"",SUMIF(V_TAPPA!A:A,B77,V_TAPPA!O:O)) -> 135 | Q77: =IF(SUMIF(VI_TAPPA!A:A,B77,VI_TAPPA!O:O)=0,"",SUMIF(VI_TAPPA!A:A,B77,VI_TAPPA!O:O)) | R77: =IF(SUMIF(VII_TAPPA!A:A,B77,VII_TAPPA!O:O)=0,"",SUMIF(VII_TAPPA!A:A,B77,VII_TAPPA!O:O)) -> 121 | S77: =IF(SUMIF(VIII_TAPPA!A:A,B77,VIII_TAPPA!O:O)=0,"",SUMIF(VIII_TAPPA!A:A,B77,VIII_TAPPA!O:O)) -> 112 | T77: =SUM(L77:S77) -> 807 | U77: =IF(K77=8,MINA(L77:S77),0) -> 0 | V77: =T77-U77 -> 807 | W77: p
A78: =A77+1 -> 77 | B78: =CONCATENATE(F78,"_",G78,"_",E78) -> BERNARDI_UGO_M09 | C78: MA030188 | D78: SM65 | E78: =VLOOKUP(D78,CAT!$E$2:$F$26,2) -> M09 | F78: BERNARDI | G78: UGO | H78: 18366 | I78: BN702 | J78: PODISMO BENEVENTO | K78: =COUNT(L78:S78) -> 5 | L78: =IF(SUMIF(I_TAPPA!A:A,B78,I_TAPPA!O:O)=0,"",SUMIF(I_TAPPA!A:A,B78,I_TAPPA!O:O)) -> 183 | M78: =IF(SUMIF(II_TAPPA!A:A,B78,II_TAPPA!O:O)=0,"",SUMIF(II_TAPPA!A:A,B78,II_TAPPA!O:O)) | N78: =IF(SUMIF(III_TAPPA!A:A,B78,III_TAPPA!O:O)=0,"",SUMIF(III_TAPPA!A:A,B78,III_TAPPA!O:O)) -> 152 | O78: =IF(SUMIF(IV_TAPPA!A:A,B78,IV_TAPPA!S:S)=0,"",SUMIF(IV_TAPPA!A:A,B78,IV_TAPPA!S:S)) -> 135 | P78: =IF(SUMIF(V_TAPPA!A:A,B78,V_TAPPA!O:O)=0,"",SUMIF(V_TAPPA!A:A,B78,V_TAPPA!O:O)) | Q78: =IF(SUMIF(VI_TAPPA!A:A,B78,VI_TAPPA!O:O)=0,"",SUMIF(VI_TAPPA!A:A,B78,VI_TAPPA!O:O)) -> 172 | R78: =IF(SUMIF(VII_TAPPA!A:A,B78,VII_TAPPA!O:O)=0,"",SUMIF(VII_TAPPA!A:A,B78,VII_TAPPA!O:O)) -> 164 | S78: =IF(SUMIF(VIII_TAPPA!A:A,B78,VIII_TAPPA!O:O)=0,"",SUMIF(VIII_TAPPA!A:A,B78,VIII_TAPPA!O:O)) | T78: =SUM(L78:S78) -> 806 | U78: =IF(K78=8,MINA(L78:S78),0) -> 0 | V78: =T78-U78 -> 806
A79: =A78+1 -> 78 | B79: =CONCATENATE(F79,"_",G79,"_",E79) -> DE_MATTEO_CARMINE_M04 | C79: MC000237 | D79: SM40 | E79: =VLOOKUP(D79,CAT!$E$2:$F$26,2) -> M04 | F79: DE_MATTEO | G79: CARMINE | H79: 27520 | I79: BN300 | J79: ATLETICA DUGENTA | K79: =COUNT(L79:S79) -> 5 | L79: =IF(SUMIF(I_TAPPA!A:A,B79,I_TAPPA!O:O)=0,"",SUMIF(I_TAPPA!A:A,B79,I_TAPPA!O:O)) -> 177 | M79: =IF(SUMIF(II_TAPPA!A:A,B79,II_TAPPA!O:O)=0,"",SUMIF(II_TAPPA!A:A,B79,II_TAPPA!O:O)) | N79: =IF(SUMIF(III_TAPPA!A:A,B79,III_TAPPA!O:O)=0,"",SUMIF(III_TAPPA!A:A,B79,III_TAPPA!O:O)) | O79: =IF(SUMIF(IV_TAPPA!A:A,B79,IV_TAPPA!S:S)=0,"",SUMIF(IV_TAPPA!A:A,B79,IV_TAPPA!S:S)) -> 121 | P79: =IF(SUMIF(V_TAPPA!A:A,B79,V_TAPPA!O:O)=0,"",SUMIF(V_TAPPA!A:A,B79,V_TAPPA!O:O)) -> 174 | Q79: =IF(SUMIF(VI_TAPPA!A:A,B79,VI_TAPPA!O:O)=0,"",SUMIF(VI_TAPPA!A:A,B79,VI_TAPPA!O:O)) -> 171 | R79: =IF(SUMIF(VII_TAPPA!A:A,B79,VII_TAPPA!O:O)=0,"",SUMIF(VII_TAPPA!A:A,B79,VII_TAPPA!O:O)) | S79: =IF(SUMIF(VIII_TAPPA!A:A,B79,VIII_TAPPA!O:O)=0,"",SUMIF(VIII_TAPPA!A:A,B79,VIII_TAPPA!O:O)) -> 144 | T79: =SUM(L79:S79) -> 787 | U79: =IF(K79=8,MINA(L79:S79),0) -> 0 | V79: =T79-U79 -> 787
A80: =A79+1 -> 79 | B80: =CONCATENATE(F80,"_",G80,"_",E80) -> RICCIARDI_EMILIO_M06 | C80: EPS05720 | D80: SM50 | E80: =VLOOKUP(D80,CAT!$E$2:$F$26,2) -> M06 | F80: RICCIARDI | G80: EMILIO | H80: 24554 | I80: EPS851 | J80: PODISTI ALTO SANNIO | K80: =COUNT(L80:S80) -> 6 | L80: =IF(SUMIF(I_TAPPA!A:A,B80,I_TAPPA!O:O)=0,"",SUMIF(I_TAPPA!A:A,B80,I_TAPPA!O:O)) -> 157 | M80: =IF(SUMIF(II_TAPPA!A:A,B80,II_TAPPA!O:O)=0,"",SUMIF(II_TAPPA!A:A,B80,II_TAPPA!O:O)) -> 120 | N80: =IF(SUMIF(III_TAPPA!A:A,B80,III_TAPPA!O:O)=0,"",SUMIF(III_TAPPA!A:A,B80,III_TAPPA!O:O)) | O80: =IF(SUMIF(IV_TAPPA!A:A,B80,IV_TAPPA!S:S)=0,"",SUMIF(IV_TAPPA!A:A,B80,IV_TAPPA!S:S)) -> 93 | P80: =IF(SUMIF(V_TAPPA!A:A,B80,V_TAPPA!O:O)=0,"",SUMIF(V_TAPPA!A:A,B80,V_TAPPA!O:O)) -> 146 | Q80: =IF(SUMIF(VI_TAPPA!A:A,B80,VI_TAPPA!O:O)=0,"",SUMIF(VI_TAPPA!A:A,B80,VI_TAPPA!O:O)) | R80: =IF(SUMIF(VII_TAPPA!A:A,B80,VII_TAPPA!O:O)=0,"",SUMIF(VII_TAPPA!A:A,B80,VII_TAPPA!O:O)) -> 139 | S80: =IF(SUMIF(VIII_TAPPA!A:A,B80,VIII_TAPPA!O:O)=0,"",SUMIF(VIII_TAPPA!A:A,B80,VIII_TAPPA!O:O)) -> 127 | T80: =SUM(L80:S80) -> 782 | U80: =IF(K80=8,MINA(L80:S80),0) -> 0 | V80: =T80-U80 -> 782
A81: =A80+1 -> 80 | B81: =CONCATENATE(F81,"_",G81,"_",E81) -> PUGLIA_VITO_M04 | C81: EPS14214 | D81: SM40 | E81: =VLOOKUP(D81,CAT!$E$2:$F$26,2) -> M04 | F81: PUGLIA | G81: VITO | H81: 27652 | I81: EPS851 | J81: PODISTI ALTO SANNIO | K81: =COUNT(L81:S81) -> 4 | L81: =IF(SUMIF(I_TAPPA!A:A,B81,I_TAPPA!O:O)=0,"",SUMIF(I_TAPPA!A:A,B81,I_TAPPA!O:O)) | M81: =IF(SUMIF(II_TAPPA!A:A,B81,II_TAPPA!O:O)=0,"",SUMIF(II_TAPPA!A:A,B81,II_TAPPA!O:O)) -> 203 | N81: =IF(SUMIF(III_TAPPA!A:A,B81,III_TAPPA!O:O)=0,"",SUMIF(III_TAPPA!A:A,B81,III_TAPPA!O:O)) | O81: =IF(SUMIF(IV_TAPPA!A:A,B81,IV_TAPPA!S:S)=0,"",SUMIF(IV_TAPPA!A:A,B81,IV_TAPPA!S:S)) -> 191 | P81: =IF(SUMIF(V_TAPPA!A:A,B81,V_TAPPA!O:O)=0,"",SUMIF(V_TAPPA!A:A,B81,V_TAPPA!O:O)) | Q81: =IF(SUMIF(VI_TAPPA!A:A,B81,VI_TAPPA!O:O)=0,"",SUMIF(VI_TAPPA!A:A,B81,VI_TAPPA!O:O)) -> 197 | R81: =IF(SUMIF(VII_TAPPA!A:A,B81,VII_TAPPA!O:O)=0,"",SUMIF(VII_TAPPA!A:A,B81,VII_TAPPA!O:O)) -> 189 | S81: =IF(SUMIF(VIII_TAPPA!A:A,B81,VIII_TAPPA!O:O)=0,"",SUMIF(VIII_TAPPA!A:A,B81,VIII_TAPPA!O:O)) | T81: =SUM(L81:S81) -> 780 | U81: =IF(K81=8,MINA(L81:S81),0) -> 0 | V81: =T81-U81 -> 780
A82: =A81+1 -> 81 | B82: =CONCATENATE(F82,"_",G82,"_",E82) -> EVANGELISTA_FRANCESCA_F4 | C82: PB001608 | D82: SF40 | E82: =VLOOKUP(D82,CAT!$E$2:$F$26,2) -> F4 | F82: EVANGELISTA | G82: FRANCESCA | H82: 27473 | I82: CB032 | J82: PODISTICA AVIS CAMPOBASSO | K82: =COUNT(L82:S82) -> 5 | L82: =IF(SUMIF(I_TAPPA!A:A,B82,I_TAPPA!O:O)=0,"",SUMIF(I_TAPPA!A:A,B82,I_TAPPA!O:O)) | M82: =IF(SUMIF(II_TAPPA!A:A,B82,II_TAPPA!O:O)=0,"",SUMIF(II_TAPPA!A:A,B82,II_TAPPA!O:O)) -> 156 | N82: =IF(SUMIF(III_TAPPA!A:A,B82,III_TAPPA!O:O)=0,"",SUMIF(III_TAPPA!A:A,B82,III_TAPPA!O:O)) -> 155 | O82: =IF(SUMIF(IV_TAPPA!A:A,B82,IV_TAPPA!S:S)=0,"",SUMIF(IV_TAPPA!A:A,B82,IV_TAPPA!S:S)) -> 145 | P82: =IF(SUMIF(V_TAPPA!A:A,B82,V_TAPPA!O:O)=0,"",SUMIF(V_TAPPA!A:A,B82,V_TAPPA!O:O)) -> 182 | Q82: =IF(SUMIF(VI_TAPPA!A:A,B82,VI_TAPPA!O:O)=0,"",SUMIF(VI_TAPPA!A:A,B82,VI_TAPPA!O:O)) | R82: =IF(SUMIF(VII_TAPPA!A:A,B82,VII_TAPPA!O:O)=0,"",SUMIF(VII_TAPPA!A:A,B82,VII_TAPPA!O:O)) | S82: =IF(SUMIF(VIII_TAPPA!A:A,B82,VIII_TAPPA!O:O)=0,"",SUMIF(VIII_TAPPA!A:A,B82,VIII_TAPPA!O:O)) -> 141 | T82: =SUM(L82:S82) -> 779 | U82: =IF(K82=8,MINA(L82:S82),0) -> 0 | V82: =T82-U82 -> 779
A83: =A82+1 -> 82 | B83: =CONCATENATE(F83,"_",G83,"_",E83) -> ZEOLLA_MARIO_M07 | C83: EPS05733 | D83: SM55 | E83: =VLOOKUP(D83,CAT!$E$2:$F$26,2) -> M07 | F83: ZEOLLA | G83: MARIO | H83: 23466 | I83: EPS851 | J83: PODISTI ALTO SANNIO | K83: =COUNT(L83:S83) -> 5 | L83: =IF(SUMIF(I_TAPPA!A:A,B83,I_TAPPA!O:O)=0,"",SUMIF(I_TAPPA!A:A,B83,I_TAPPA!O:O)) | M83: =IF(SUMIF(II_TAPPA!A:A,B83,II_TAPPA!O:O)=0,"",SUMIF(II_TAPPA!A:A,B83,II_TAPPA!O:O)) -> 151 | N83: =IF(SUMIF(III_TAPPA!A:A,B83,III_TAPPA!O:O)=0,"",SUMIF(III_TAPPA!A:A,B83,III_TAPPA!O:O)) -> 151 | O83: =IF(SUMIF(IV_TAPPA!A:A,B83,IV_TAPPA!S:S)=0,"",SUMIF(IV_TAPPA!A:A,B83,IV_TAPPA!S:S)) | P83: =IF(SUMIF(V_TAPPA!A:A,B83,V_TAPPA!O:O)=0,"",SUMIF(V_TAPPA!A:A,B83,V_TAPPA!O:O)) -> 166 | Q83: =IF(SUMIF(VI_TAPPA!A:A,B83,VI_TAPPA!O:O)=0,"",SUMIF(VI_TAPPA!A:A,B83,VI_TAPPA!O:O)) | R83: =IF(SUMIF(VII_TAPPA!A:A,B83,VII_TAPPA!O:O)=0,"",SUMIF(VII_TAPPA!A:A,B83,VII_TAPPA!O:O)) -> 158 | S83: =IF(SUMIF(VIII_TAPPA!A:A,B83,VIII_TAPPA!O:O)=0,"",SUMIF(VIII_TAPPA!A:A,B83,VIII_TAPPA!O:O)) -> 152 | T83: =SUM(L83:S83) -> 778 | U83: =IF(K83=8,MINA(L83:S83),0) -> 0 | V83: =T83-U83 -> 778
A84: =A83+1 -> 83 | B84: =CONCATENATE(F84,"_",G84,"_",E84) -> BOLOGNA_LORETTA_F5 | C84: IV_TAPPA_01 | D84: SF45 | E84: =VLOOKUP(D84,CAT!$E$2:$F$26,2) -> F5 | F84: BOLOGNA | G84: LORETTA | H84: 26629 | I84: EPS851 | J84: PODISTI ALTO SANNIO | K84: =COUNT(L84:S84) -> 6 | L84: =IF(SUMIF(I_TAPPA!A:A,B84,I_TAPPA!O:O)=0,"",SUMIF(I_TAPPA!A:A,B84,I_TAPPA!O:O)) -> 156 | M84: =IF(SUMIF(II_TAPPA!A:A,B84,II_TAPPA!O:O)=0,"",SUMIF(II_TAPPA!A:A,B84,II_TAPPA!O:O)) | N84: =IF(SUMIF(III_TAPPA!A:A,B84,III_TAPPA!O:O)=0,"",SUMIF(III_TAPPA!A:A,B84,III_TAPPA!O:O)) | O84: =IF(SUMIF(IV_TAPPA!A:A,B84,IV_TAPPA!S:S)=0,"",SUMIF(IV_TAPPA!A:A,B84,IV_TAPPA!S:S)) -> 75 | P84: =IF(SUMIF(V_TAPPA!A:A,B84,V_TAPPA!O:O)=0,"",SUMIF(V_TAPPA!A:A,B84,V_TAPPA!O:O)) -> 141 | Q84: =IF(SUMIF(VI_TAPPA!A:A,B84,VI_TAPPA!O:O)=0,"",SUMIF(VI_TAPPA!A:A,B84,VI_TAPPA!O:O)) -> 144 | R84: =IF(SUMIF(VII_TAPPA!A:A,B84,VII_TAPPA!O:O)=0,"",SUMIF(VII_TAPPA!A:A,B84,VII_TAPPA!O:O)) -> 140 | S84: =IF(SUMIF(VIII_TAPPA!A:A,B84,VIII_TAPPA!O:O)=0,"",SUMIF(VIII_TAPPA!A:A,B84,VIII_TAPPA!O:O)) -> 118 | T84: =SUM(L84:S84) -> 774 | U84: =IF(K84=8,MINA(L84:S84),0) -> 0 | V84: =T84-U84 -> 774
A85: =A84+1 -> 84 | B85: =CONCATENATE(F85,"_",G85,"_",E85) -> MEOLI_FABRIZIO_M03 | C85: MC001218 | D85: SM35 | E85: =VLOOKUP(D85,CAT!$E$2:$F$26,2) -> M03 | F85: MEOLI | G85: FABRIZIO | H85: 30685 | I85: BN460 | J85: TELESIA RUNNING TEAM | K85: =COUNT(L85:S85) -> 3 | L85: =IF(SUMIF(I_TAPPA!A:A,B85,I_TAPPA!O:O)=0,"",SUMIF(I_TAPPA!A:A,B85,I_TAPPA!O:O)) | M85: =IF(SUMIF(II_TAPPA!A:A,B85,II_TAPPA!O:O)=0,"",SUMIF(II_TAPPA!A:A,B85,II_TAPPA!O:O)) | N85: =IF(SUMIF(III_TAPPA!A:A,B85,III_TAPPA!O:O)=0,"",SUMIF(III_TAPPA!A:A,B85,III_TAPPA!O:O)) | O85: =IF(SUMIF(IV_TAPPA!A:A,B85,IV_TAPPA!S:S)=0,"",SUMIF(IV_TAPPA!A:A,B85,IV_TAPPA!S:S)) -> 250 | P85: =IF(SUMIF(V_TAPPA!A:A,B85,V_TAPPA!O:O)=0,"",SUMIF(V_TAPPA!A:A,B85,V_TAPPA!O:O)) | Q85: =IF(SUMIF(VI_TAPPA!A:A,B85,VI_TAPPA!O:O)=0,"",SUMIF(VI_TAPPA!A:A,B85,VI_TAPPA!O:O)) -> 260 | R85: =IF(SUMIF(VII_TAPPA!A:A,B85,VII_TAPPA!O:O)=0,"",SUMIF(VII_TAPPA!A:A,B85,VII_TAPPA!O:O)) -> 260 | S85: =IF(SUMIF(VIII_TAPPA!A:A,B85,VIII_TAPPA!O:O)=0,"",SUMIF(VIII_TAPPA!A:A,B85,VIII_TAPPA!O:O)) | T85: =SUM(L85:S85) -> 770 | U85: =IF(K85=8,MINA(L85:S85),0) -> 0 | V85: =T85-U85 -> 770
A86: =A85+1 -> 85 | B86: =CONCATENATE(F86,"_",G86,"_",E86) -> COSTANZO_ACHILLE_M08 | C86: EPS05684 | D86: SM60 | E86: =VLOOKUP(D86,CAT!$E$2:$F$26,2) -> M08 | F86: COSTANZO | G86: ACHILLE | H86: 20097 | I86: EPS851 | J86: PODISTI ALTO SANNIO | K86: =COUNT(L86:S86) -> 5 | L86: =IF(SUMIF(I_TAPPA!A:A,B86,I_TAPPA!O:O)=0,"",SUMIF(I_TAPPA!A:A,B86,I_TAPPA!O:O)) | M86: =IF(SUMIF(II_TAPPA!A:A,B86,II_TAPPA!O:O)=0,"",SUMIF(II_TAPPA!A:A,B86,II_TAPPA!O:O)) | N86: =IF(SUMIF(III_TAPPA!A:A,B86,III_TAPPA!O:O)=0,"",SUMIF(III_TAPPA!A:A,B86,III_TAPPA!O:O)) -> 148 | O86: =IF(SUMIF(IV_TAPPA!A:A,B86,IV_TAPPA!S:S)=0,"",SUMIF(IV_TAPPA!A:A,B86,IV_TAPPA!S:S)) -> 129 | P86: =IF(SUMIF(V_TAPPA!A:A,B86,V_TAPPA!O:O)=0,"",SUMIF(V_TAPPA!A:A,B86,V_TAPPA!O:O)) | Q86: =IF(SUMIF(VI_TAPPA!A:A,B86,VI_TAPPA!O:O)=0,"",SUMIF(VI_TAPPA!A:A,B86,VI_TAPPA!O:O)) -> 163 | R86: =IF(SUMIF(VII_TAPPA!A:A,B86,VII_TAPPA!O:O)=0,"",SUMIF(VII_TAPPA!A:A,B86,VII_TAPPA!O:O)) -> 168 | S86: =IF(SUMIF(VIII_TAPPA!A:A,B86,VIII_TAPPA!O:O)=0,"",SUMIF(VIII_TAPPA!A:A,B86,VIII_TAPPA!O:O)) -> 150 | T86: =SUM(L86:S86) -> 758 | U86: =IF(K86=8,MINA(L86:S86),0) -> 0 | V86: =T86-U86 -> 758
A87: =A86+1 -> 86 | B87: =CONCATENATE(F87,"_",G87,"_",E87) -> SPITALETTA_SERAFINO_M04 | C87: EPS05726 | D87: SM40 | E87: =VLOOKUP(D87,CAT!$E$2:$F$26,2) -> M04 | F87: SPITALETTA | G87: SERAFINO | H87: 28101 | I87: EPS851 | J87: PODISTI ALTO SANNIO | K87: =COUNT(L87:S87) -> 4 | L87: =IF(SUMIF(I_TAPPA!A:A,B87,I_TAPPA!O:O)=0,"",SUMIF(I_TAPPA!A:A,B87,I_TAPPA!O:O)) | M87: =IF(SUMIF(II_TAPPA!A:A,B87,II_TAPPA!O:O)=0,"",SUMIF(II_TAPPA!A:A,B87,II_TAPPA!O:O)) -> 138 | N87: =IF(SUMIF(III_TAPPA!A:A,B87,III_TAPPA!O:O)=0,"",SUMIF(III_TAPPA!A:A,B87,III_TAPPA!O:O)) | O87: =IF(SUMIF(IV_TAPPA!A:A,B87,IV_TAPPA!S:S)=0,"",SUMIF(IV_TAPPA!A:A,B87,IV_TAPPA!S:S)) -> 203 | P87: =IF(SUMIF(V_TAPPA!A:A,B87,V_TAPPA!O:O)=0,"",SUMIF(V_TAPPA!A:A,B87,V_TAPPA!O:O)) | Q87: =IF(SUMIF(VI_TAPPA!A:A,B87,VI_TAPPA!O:O)=0,"",SUMIF(VI_TAPPA!A:A,B87,VI_TAPPA!O:O)) -> 205 | R87: =IF(SUMIF(VII_TAPPA!A:A,B87,VII_TAPPA!O:O)=0,"",SUMIF(VII_TAPPA!A:A,B87,VII_TAPPA!O:O)) -> 198 | S87: =IF(SUMIF(VIII_TAPPA!A:A,B87,VIII_TAPPA!O:O)=0,"",SUMIF(VIII_TAPPA!A:A,B87,VIII_TAPPA!O:O)) | T87: =SUM(L87:S87) -> 744 | U87: =IF(K87=8,MINA(L87:S87),0) -> 0 | V87: =T87-U87 -> 744
A88: =A87+1 -> 87 | B88: =CONCATENATE(F88,"_",G88,"_",E88) -> GRIMALDI_ALESSANDRO_M06 | C88: MA043369 | D88: SM50 | E88: =VLOOKUP(D88,CAT!$E$2:$F$26,2) -> M06 | F88: GRIMALDI | G88: ALESSANDRO | H88: 25474 | I88: BN460 | J88: TELESIA RUNNING TEAM | K88: =COUNT(L88:S88) -> 4 | L88: =IF(SUMIF(I_TAPPA!A:A,B88,I_TAPPA!O:O)=0,"",SUMIF(I_TAPPA!A:A,B88,I_TAPPA!O:O)) | M88: =IF(SUMIF(II_TAPPA!A:A,B88,II_TAPPA!O:O)=0,"",SUMIF(II_TAPPA!A:A,B88,II_TAPPA!O:O)) -> 188 | N88: =IF(SUMIF(III_TAPPA!A:A,B88,III_TAPPA!O:O)=0,"",SUMIF(III_TAPPA!A:A,B88,III_TAPPA!O:O)) | O88: =IF(SUMIF(IV_TAPPA!A:A,B88,IV_TAPPA!S:S)=0,"",SUMIF(IV_TAPPA!A:A,B88,IV_TAPPA!S:S)) -> 185 | P88: =IF(SUMIF(V_TAPPA!A:A,B88,V_TAPPA!O:O)=0,"",SUMIF(V_TAPPA!A:A,B88,V_TAPPA!O:O)) | Q88: =IF(SUMIF(VI_TAPPA!A:A,B88,VI_TAPPA!O:O)=0,"",SUMIF(VI_TAPPA!A:A,B88,VI_TAPPA!O:O)) | R88: =IF(SUMIF(VII_TAPPA!A:A,B88,VII_TAPPA!O:O)=0,"",SUMIF(VII_TAPPA!A:A,B88,VII_TAPPA!O:O)) -> 175 | S88: =IF(SUMIF(VIII_TAPPA!A:A,B88,VIII_TAPPA!O:O)=0,"",SUMIF(VIII_TAPPA!A:A,B88,VIII_TAPPA!O:O)) -> 192 | T88: =SUM(L88:S88) -> 740 | U88: =IF(K88=8,MINA(L88:S88),0) -> 0 | V88: =T88-U88 -> 740
A89: =A88+1 -> 88 | B89: =CONCATENATE(F89,"_",G89,"_",E89) -> PALAZZO_MARIO_M04 | C89: EPS05715 | D89: SM40 | E89: =VLOOKUP(D89,CAT!$E$2:$F$26,2) -> M04 | F89: PALAZZO | G89: MARIO | H89: 28252 | I89: EPS851 | J89: PODISTI ALTO SANNIO | K89: =COUNT(L89:S89) -> 4 | L89: =IF(SUMIF(I_TAPPA!A:A,B89,I_TAPPA!O:O)=0,"",SUMIF(I_TAPPA!A:A,B89,I_TAPPA!O:O)) -> 179 | M89: =IF(SUMIF(II_TAPPA!A:A,B89,II_TAPPA!O:O)=0,"",SUMIF(II_TAPPA!A:A,B89,II_TAPPA!O:O)) | N89: =IF(SUMIF(III_TAPPA!A:A,B89,III_TAPPA!O:O)=0,"",SUMIF(III_TAPPA!A:A,B89,III_TAPPA!O:O)) | O89: =IF(SUMIF(IV_TAPPA!A:A,B89,IV_TAPPA!S:S)=0,"",SUMIF(IV_TAPPA!A:A,B89,IV_TAPPA!S:S)) | P89: =IF(SUMIF(V_TAPPA!A:A,B89,V_TAPPA!O:O)=0,"",SUMIF(V_TAPPA!A:A,B89,V_TAPPA!O:O)) | Q89: =IF(SUMIF(VI_TAPPA!A:A,B89,VI_TAPPA!O:O)=0,"",SUMIF(VI_TAPPA!A:A,B89,VI_TAPPA!O:O)) -> 184 | R89: =IF(SUMIF(VII_TAPPA!A:A,B89,VII_TAPPA!O:O)=0,"",SUMIF(VII_TAPPA!A:A,B89,VII_TAPPA!O:O)) -> 169 | S89: =IF(SUMIF(VIII_TAPPA!A:A,B89,VIII_TAPPA!O:O)=0,"",SUMIF(VIII_TAPPA!A:A,B89,VIII_TAPPA!O:O)) -> 180 | T89: =SUM(L89:S89) -> 712 | U89: =IF(K89=8,MINA(L89:S89),0) -> 0 | V89: =T89-U89 -> 712
A90: =A89+1 -> 89 | B90: =CONCATENATE(F90,"_",G90,"_",E90) -> BOSCOTRECASE_CLAUDIO_M10 | C90: MC000569 | D90: SM70 | E90: =VLOOKUP(D90,CAT!$E$2:$F$26,2) -> M10 | F90: BOSCOTRECASE | G90: CLAUDIO | H90: 16909 | I90: BN460 | J90: TELESIA RUNNING TEAM | K90: =COUNT(L90:S90) -> 6 | L90: =IF(SUMIF(I_TAPPA!A:A,B90,I_TAPPA!O:O)=0,"",SUMIF(I_TAPPA!A:A,B90,I_TAPPA!O:O)) -> 146 | M90: =IF(SUMIF(II_TAPPA!A:A,B90,II_TAPPA!O:O)=0,"",SUMIF(II_TAPPA!A:A,B90,II_TAPPA!O:O)) | N90: =IF(SUMIF(III_TAPPA!A:A,B90,III_TAPPA!O:O)=0,"",SUMIF(III_TAPPA!A:A,B90,III_TAPPA!O:O)) -> 111 | O90: =IF(SUMIF(IV_TAPPA!A:A,B90,IV_TAPPA!S:S)=0,"",SUMIF(IV_TAPPA!A:A,B90,IV_TAPPA!S:S)) -> 63 | P90: =IF(SUMIF(V_TAPPA!A:A,B90,V_TAPPA!O:O)=0,"",SUMIF(V_TAPPA!A:A,B90,V_TAPPA!O:O)) -> 134 | Q90: =IF(SUMIF(VI_TAPPA!A:A,B90,VI_TAPPA!O:O)=0,"",SUMIF(VI_TAPPA!A:A,B90,VI_TAPPA!O:O)) -> 133 | R90: =IF(SUMIF(VII_TAPPA!A:A,B90,VII_TAPPA!O:O)=0,"",SUMIF(VII_TAPPA!A:A,B90,VII_TAPPA!O:O)) -> 120 | S90: =IF(SUMIF(VIII_TAPPA!A:A,B90,VIII_TAPPA!O:O)=0,"",SUMIF(VIII_TAPPA!A:A,B90,VIII_TAPPA!O:O)) | T90: =SUM(L90:S90) -> 707 | U90: =IF(K90=8,MINA(L90:S90),0) -> 0 | V90: =T90-U90 -> 707
A91: =A90+1 -> 90 | B91: =CONCATENATE(F91,"_",G91,"_",E91) -> MATURO_GIUSEPPE_M03 | D91: SM35 | E91: =VLOOKUP(D91,CAT!$E$2:$F$26,2) -> M03 | F91: MATURO | G91: GIUSEPPE | J91: TELESIA RUNNING TEAM | K91: =COUNT(L91:S91) -> 4 | L91: =IF(SUMIF(I_TAPPA!A:A,B91,I_TAPPA!O:O)=0,"",SUMIF(I_TAPPA!A:A,B91,I_TAPPA!O:O)) -> 192 | M91: =IF(SUMIF(II_TAPPA!A:A,B91,II_TAPPA!O:O)=0,"",SUMIF(II_TAPPA!A:A,B91,II_TAPPA!O:O)) | N91: =IF(SUMIF(III_TAPPA!A:A,B91,III_TAPPA!O:O)=0,"",SUMIF(III_TAPPA!A:A,B91,III_TAPPA!O:O)) | O91: =IF(SUMIF(IV_TAPPA!A:A,B91,IV_TAPPA!S:S)=0,"",SUMIF(IV_TAPPA!A:A,B91,IV_TAPPA!S:S)) -> 130 | P91: =IF(SUMIF(V_TAPPA!A:A,B91,V_TAPPA!O:O)=0,"",SUMIF(V_TAPPA!A:A,B91,V_TAPPA!O:O)) | Q91: =IF(SUMIF(VI_TAPPA!A:A,B91,VI_TAPPA!O:O)=0,"",SUMIF(VI_TAPPA!A:A,B91,VI_TAPPA!O:O)) -> 175 | R91: =IF(SUMIF(VII_TAPPA!A:A,B91,VII_TAPPA!O:O)=0,"",SUMIF(VII_TAPPA!A:A,B91,VII_TAPPA!O:O)) -> 187 | S91: =IF(SUMIF(VIII_TAPPA!A:A,B91,VIII_TAPPA!O:O)=0,"",SUMIF(VIII_TAPPA!A:A,B91,VIII_TAPPA!O:O)) | T91: =SUM(L91:S91) -> 684 | U91: =IF(K91=8,MINA(L91:S91),0) -> 0 | V91: =T91-U91 -> 684
A92: =A91+1 -> 91 | B92: =CONCATENATE(F92,"_",G92,"_",E92) -> MECCARIELLO_PASQUALE_M08 | C92: EPS15526 | D92: SM60 | E92: =VLOOKUP(D92,CAT!$E$2:$F$26,2) -> M08 | F92: MECCARIELLO | G92: PASQUALE | H92: 21866 | I92: EPSRT | J92: TABURNO RUNNERS | K92: =COUNT(L92:S92) -> 6 | L92: =IF(SUMIF(I_TAPPA!A:A,B92,I_TAPPA!O:O)=0,"",SUMIF(I_TAPPA!A:A,B92,I_TAPPA!O:O)) | M92: =IF(SUMIF(II_TAPPA!A:A,B92,II_TAPPA!O:O)=0,"",SUMIF(II_TAPPA!A:A,B92,II_TAPPA!O:O)) -> 106 | N92: =IF(SUMIF(III_TAPPA!A:A,B92,III_TAPPA!O:O)=0,"",SUMIF(III_TAPPA!A:A,B92,III_TAPPA!O:O)) -> 112 | O92: =IF(SUMIF(IV_TAPPA!A:A,B92,IV_TAPPA!S:S)=0,"",SUMIF(IV_TAPPA!A:A,B92,IV_TAPPA!S:S)) -> 66 | P92: =IF(SUMIF(V_TAPPA!A:A,B92,V_TAPPA!O:O)=0,"",SUMIF(V_TAPPA!A:A,B92,V_TAPPA!O:O)) -> 138 | Q92: =IF(SUMIF(VI_TAPPA!A:A,B92,VI_TAPPA!O:O)=0,"",SUMIF(VI_TAPPA!A:A,B92,VI_TAPPA!O:O)) -> 137 | R92: =IF(SUMIF(VII_TAPPA!A:A,B92,VII_TAPPA!O:O)=0,"",SUMIF(VII_TAPPA!A:A,B92,VII_TAPPA!O:O)) -> 123 | S92: =IF(SUMIF(VIII_TAPPA!A:A,B92,VIII_TAPPA!O:O)=0,"",SUMIF(VIII_TAPPA!A:A,B92,VIII_TAPPA!O:O)) | T92: =SUM(L92:S92) -> 682 | U92: =IF(K92=8,MINA(L92:S92),0) -> 0 | V92: =T92-U92 -> 682
A93: =A92+1 -> 92 | B93: =CONCATENATE(F93,"_",G93,"_",E93) -> ROMANO_MARCELLO_M08 | C93: MA032796 | D93: SM60 | E93: =VLOOKUP(D93,CAT!$E$2:$F$26,2) -> M08 | F93: ROMANO | G93: MARCELLO | H93: 21157 | I93: BN702 | J93: PODISMO BENEVENTO | K93: =COUNT(L93:S93) -> 4 | L93: =IF(SUMIF(I_TAPPA!A:A,B93,I_TAPPA!O:O)=0,"",SUMIF(I_TAPPA!A:A,B93,I_TAPPA!O:O)) | M93: =IF(SUMIF(II_TAPPA!A:A,B93,II_TAPPA!O:O)=0,"",SUMIF(II_TAPPA!A:A,B93,II_TAPPA!O:O)) | N93: =IF(SUMIF(III_TAPPA!A:A,B93,III_TAPPA!O:O)=0,"",SUMIF(III_TAPPA!A:A,B93,III_TAPPA!O:O)) -> 168 | O93: =IF(SUMIF(IV_TAPPA!A:A,B93,IV_TAPPA!S:S)=0,"",SUMIF(IV_TAPPA!A:A,B93,IV_TAPPA!S:S)) -> 152 | P93: =IF(SUMIF(V_TAPPA!A:A,B93,V_TAPPA!O:O)=0,"",SUMIF(V_TAPPA!A:A,B93,V_TAPPA!O:O)) | Q93: =IF(SUMIF(VI_TAPPA!A:A,B93,VI_TAPPA!O:O)=0,"",SUMIF(VI_TAPPA!A:A,B93,VI_TAPPA!O:O)) -> 183 | R93: =IF(SUMIF(VII_TAPPA!A:A,B93,VII_TAPPA!O:O)=0,"",SUMIF(VII_TAPPA!A:A,B93,VII_TAPPA!O:O)) | S93: =IF(SUMIF(VIII_TAPPA!A:A,B93,VIII_TAPPA!O:O)=0,"",SUMIF(VIII_TAPPA!A:A,B93,VIII_TAPPA!O:O)) -> 174 | T93: =SUM(L93:S93) -> 677 | U93: =IF(K93=8,MINA(L93:S93),0) -> 0 | V93: =T93-U93 -> 677
A94: =A93+1 -> 93 | B94: =CONCATENATE(F94,"_",G94,"_",E94) -> D'ONOFRIO_TIZIANO_M05 | C94: PA006113 | D94: SM45 | E94: =VLOOKUP(D94,CAT!$E$2:$F$26,2) -> M05 | F94: D'ONOFRIO | G94: TIZIANO | H94: 26580 | I94: BN460 | J94: TELESIA RUNNING TEAM | K94: =COUNT(L94:S94) -> 4 | L94: =IF(SUMIF(I_TAPPA!A:A,B94,I_TAPPA!O:O)=0,"",SUMIF(I_TAPPA!A:A,B94,I_TAPPA!O:O)) -> 176 | M94: =IF(SUMIF(II_TAPPA!A:A,B94,II_TAPPA!O:O)=0,"",SUMIF(II_TAPPA!A:A,B94,II_TAPPA!O:O)) | N94: =IF(SUMIF(III_TAPPA!A:A,B94,III_TAPPA!O:O)=0,"",SUMIF(III_TAPPA!A:A,B94,III_TAPPA!O:O)) -> 186 | O94: =IF(SUMIF(IV_TAPPA!A:A,B94,IV_TAPPA!S:S)=0,"",SUMIF(IV_TAPPA!A:A,B94,IV_TAPPA!S:S)) | P94: =IF(SUMIF(V_TAPPA!A:A,B94,V_TAPPA!O:O)=0,"",SUMIF(V_TAPPA!A:A,B94,V_TAPPA!O:O)) | Q94: =IF(SUMIF(VI_TAPPA!A:A,B94,VI_TAPPA!O:O)=0,"",SUMIF(VI_TAPPA!A:A,B94,VI_TAPPA!O:O)) -> 167 | R94: =IF(SUMIF(VII_TAPPA!A:A,B94,VII_TAPPA!O:O)=0,"",SUMIF(VII_TAPPA!A:A,B94,VII_TAPPA!O:O)) -> 146 | S94: =IF(SUMIF(VIII_TAPPA!A:A,B94,VIII_TAPPA!O:O)=0,"",SUMIF(VIII_TAPPA!A:A,B94,VIII_TAPPA!O:O)) | T94: =SUM(L94:S94) -> 675 | U94: =IF(K94=8,MINA(L94:S94),0) -> 0 | V94: =T94-U94 -> 675
A95: =A94+1 -> 94 | B95: =CONCATENATE(F95,"_",G95,"_",E95) -> VALENTINO_ANGELO_M06 | C95: MC000287 | D95: SM50 | E95: =VLOOKUP(D95,CAT!$E$2:$F$26,2) -> M06 | F95: VALENTINO | G95: ANGELO | H95: 24968 | I95: BN300 | J95: ATLETICA DUGENTA | K95: =COUNT(L95:S95) -> 3 | L95: =IF(SUMIF(I_TAPPA!A:A,B95,I_TAPPA!O:O)=0,"",SUMIF(I_TAPPA!A:A,B95,I_TAPPA!O:O)) | M95: =IF(SUMIF(II_TAPPA!A:A,B95,II_TAPPA!O:O)=0,"",SUMIF(II_TAPPA!A:A,B95,II_TAPPA!O:O)) | N95: =IF(SUMIF(III_TAPPA!A:A,B95,III_TAPPA!O:O)=0,"",SUMIF(III_TAPPA!A:A,B95,III_TAPPA!O:O)) | O95: =IF(SUMIF(IV_TAPPA!A:A,B95,IV_TAPPA!S:S)=0,"",SUMIF(IV_TAPPA!A:A,B95,IV_TAPPA!S:S)) | P95: =IF(SUMIF(V_TAPPA!A:A,B95,V_TAPPA!O:O)=0,"",SUMIF(V_TAPPA!A:A,B95,V_TAPPA!O:O)) -> 228 | Q95: =IF(SUMIF(VI_TAPPA!A:A,B95,VI_TAPPA!O:O)=0,"",SUMIF(VI_TAPPA!A:A,B95,VI_TAPPA!O:O)) -> 219 | R95: =IF(SUMIF(VII_TAPPA!A:A,B95,VII_TAPPA!O:O)=0,"",SUMIF(VII_TAPPA!A:A,B95,VII_TAPPA!O:O)) -> 222 | S95: =IF(SUMIF(VIII_TAPPA!A:A,B95,VIII_TAPPA!O:O)=0,"",SUMIF(VIII_TAPPA!A:A,B95,VIII_TAPPA!O:O)) | T95: =SUM(L95:S95) -> 669 | U95: =IF(K95=8,MINA(L95:S95),0) -> 0 | V95: =T95-U95 -> 669
A96: =A95+1 -> 95 | B96: =CONCATENATE(F96,"_",G96,"_",E96) -> SIMEONE_IMMACOLATA_F6 | C96: EPS17292 | D96: SF50 | E96: =VLOOKUP(D96,CAT!$E$2:$F$26,2) -> F6 | F96: SIMEONE | G96: IMMACOLATA | H96: 24487 | I96: EPSRT | J96: TABURNO RUNNERS | K96: =COUNT(L96:S96) -> 5 | L96: =IF(SUMIF(I_TAPPA!A:A,B96,I_TAPPA!O:O)=0,"",SUMIF(I_TAPPA!A:A,B96,I_TAPPA!O:O)) -> 159 | M96: =IF(SUMIF(II_TAPPA!A:A,B96,II_TAPPA!O:O)=0,"",SUMIF(II_TAPPA!A:A,B96,II_TAPPA!O:O)) -> 113 | N96: =IF(SUMIF(III_TAPPA!A:A,B96,III_TAPPA!O:O)=0,"",SUMIF(III_TAPPA!A:A,B96,III_TAPPA!O:O)) | O96: =IF(SUMIF(IV_TAPPA!A:A,B96,IV_TAPPA!S:S)=0,"",SUMIF(IV_TAPPA!A:A,B96,IV_TAPPA!S:S)) -> 96 | P96: =IF(SUMIF(V_TAPPA!A:A,B96,V_TAPPA!O:O)=0,"",SUMIF(V_TAPPA!A:A,B96,V_TAPPA!O:O)) -> 153 | Q96: =IF(SUMIF(VI_TAPPA!A:A,B96,VI_TAPPA!O:O)=0,"",SUMIF(VI_TAPPA!A:A,B96,VI_TAPPA!O:O)) -> 146 | R96: =IF(SUMIF(VII_TAPPA!A:A,B96,VII_TAPPA!O:O)=0,"",SUMIF(VII_TAPPA!A:A,B96,VII_TAPPA!O:O)) | S96: =IF(SUMIF(VIII_TAPPA!A:A,B96,VIII_TAPPA!O:O)=0,"",SUMIF(VIII_TAPPA!A:A,B96,VIII_TAPPA!O:O)) | T96: =SUM(L96:S96) -> 667 | U96: =IF(K96=8,MINA(L96:S96),0) -> 0 | V96: =T96-U96 -> 667
A97: =A96+1 -> 96 | B97: =CONCATENATE(F97,"_",G97,"_",E97) -> DI_LUNARDO_GIANNI_M06 | C97: MC001473 | D97: SM50 | E97: =VLOOKUP(D97,CAT!$E$2:$F$26,2) -> M06 | F97: DI_LUNARDO | G97: GIANNI | H97: 25319 | I97: BN460 | J97: TELESIA RUNNING TEAM | K97: =COUNT(L97:S97) -> 4 | L97: =IF(SUMIF(I_TAPPA!A:A,B97,I_TAPPA!O:O)=0,"",SUMIF(I_TAPPA!A:A,B97,I_TAPPA!O:O)) | M97: =IF(SUMIF(II_TAPPA!A:A,B97,II_TAPPA!O:O)=0,"",SUMIF(II_TAPPA!A:A,B97,II_TAPPA!O:O)) | N97: =IF(SUMIF(III_TAPPA!A:A,B97,III_TAPPA!O:O)=0,"",SUMIF(III_TAPPA!A:A,B97,III_TAPPA!O:O)) | O97: =IF(SUMIF(IV_TAPPA!A:A,B97,IV_TAPPA!S:S)=0,"",SUMIF(IV_TAPPA!A:A,B97,IV_TAPPA!S:S)) -> 139 | P97: =IF(SUMIF(V_TAPPA!A:A,B97,V_TAPPA!O:O)=0,"",SUMIF(V_TAPPA!A:A,B97,V_TAPPA!O:O)) -> 168 | Q97: =IF(SUMIF(VI_TAPPA!A:A,B97,VI_TAPPA!O:O)=0,"",SUMIF(VI_TAPPA!A:A,B97,VI_TAPPA!O:O)) -> 176 | R97: =IF(SUMIF(VII_TAPPA!A:A,B97,VII_TAPPA!O:O)=0,"",SUMIF(VII_TAPPA!A:A,B97,VII_TAPPA!O:O)) -> 182 | S97: =IF(SUMIF(VIII_TAPPA!A:A,B97,VIII_TAPPA!O:O)=0,"",SUMIF(VIII_TAPPA!A:A,B97,VIII_TAPPA!O:O)) | T97: =SUM(L97:S97) -> 665 | U97: =IF(K97=8,MINA(L97:S97),0) -> 0 | V97: =T97-U97 -> 665
A98: =A97+1 -> 97 | B98: =CONCATENATE(F98,"_",G98,"_",E98) -> COLELLA_TERESA_F6 | C98: MC001387 | D98: SF50 | E98: =VLOOKUP(D98,CAT!$E$2:$F$26,2) -> F6 | F98: COLELLA | G98: TERESA | H98: 24165 | I98: BN460 | J98: TELESIA RUNNING TEAM | K98: =COUNT(L98:S98) -> 5 | L98: =IF(SUMIF(I_TAPPA!A:A,B98,I_TAPPA!O:O)=0,"",SUMIF(I_TAPPA!A:A,B98,I_TAPPA!O:O)) -> 152 | M98: =IF(SUMIF(II_TAPPA!A:A,B98,II_TAPPA!O:O)=0,"",SUMIF(II_TAPPA!A:A,B98,II_TAPPA!O:O)) -> 147 | N98: =IF(SUMIF(III_TAPPA!A:A,B98,III_TAPPA!O:O)=0,"",SUMIF(III_TAPPA!A:A,B98,III_TAPPA!O:O)) | O98: =IF(SUMIF(IV_TAPPA!A:A,B98,IV_TAPPA!S:S)=0,"",SUMIF(IV_TAPPA!A:A,B98,IV_TAPPA!S:S)) | P98: =IF(SUMIF(V_TAPPA!A:A,B98,V_TAPPA!O:O)=0,"",SUMIF(V_TAPPA!A:A,B98,V_TAPPA!O:O)) | Q98: =IF(SUMIF(VI_TAPPA!A:A,B98,VI_TAPPA!O:O)=0,"",SUMIF(VI_TAPPA!A:A,B98,VI_TAPPA!O:O)) -> 134 | R98: =IF(SUMIF(VII_TAPPA!A:A,B98,VII_TAPPA!O:O)=0,"",SUMIF(VII_TAPPA!A:A,B98,VII_TAPPA!O:O)) -> 118 | S98: =IF(SUMIF(VIII_TAPPA!A:A,B98,VIII_TAPPA!O:O)=0,"",SUMIF(VIII_TAPPA!A:A,B98,VIII_TAPPA!O:O)) -> 111 | T98: =SUM(L98:S98) -> 662 | U98: =IF(K98=8,MINA(L98:S98),0) -> 0 | V98: =T98-U98 -> 662
A99: =A98+1 -> 98 | B99: =CONCATENATE(F99,"_",G99,"_",E99) -> FUSCO_ANGELO_M02 | C99: NEW_III-TAPPA_03 | D99: SM | E99: =VLOOKUP(D99,CAT!$E$2:$F$26,2) -> M02 | F99: FUSCO | G99: ANGELO | I99: BN460 | J99: TELESIA RUNNING TEAM | K99: =COUNT(L99:S99) -> 4 | L99: =IF(SUMIF(I_TAPPA!A:A,B99,I_TAPPA!O:O)=0,"",SUMIF(I_TAPPA!A:A,B99,I_TAPPA!O:O)) -> 185 | M99: =IF(SUMIF(II_TAPPA!A:A,B99,II_TAPPA!O:O)=0,"",SUMIF(II_TAPPA!A:A,B99,II_TAPPA!O:O)) | N99: =IF(SUMIF(III_TAPPA!A:A,B99,III_TAPPA!O:O)=0,"",SUMIF(III_TAPPA!A:A,B99,III_TAPPA!O:O)) -> 138 | O99: =IF(SUMIF(IV_TAPPA!A:A,B99,IV_TAPPA!S:S)=0,"",SUMIF(IV_TAPPA!A:A,B99,IV_TAPPA!S:S)) | P99: =IF(SUMIF(V_TAPPA!A:A,B99,V_TAPPA!O:O)=0,"",SUMIF(V_TAPPA!A:A,B99,V_TAPPA!O:O)) -> 186 | Q99: =IF(SUMIF(VI_TAPPA!A:A,B99,VI_TAPPA!O:O)=0,"",SUMIF(VI_TAPPA!A:A,B99,VI_TAPPA!O:O)) | R99: =IF(SUMIF(VII_TAPPA!A:A,B99,VII_TAPPA!O:O)=0,"",SUMIF(VII_TAPPA!A:A,B99,VII_TAPPA!O:O)) | S99: =IF(SUMIF(VIII_TAPPA!A:A,B99,VIII_TAPPA!O:O)=0,"",SUMIF(VIII_TAPPA!A:A,B99,VIII_TAPPA!O:O)) -> 149 | T99: =SUM(L99:S99) -> 658 | U99: =IF(K99=8,MINA(L99:S99),0) -> 0 | V99: =T99-U99 -> 658
A100: =A99+1 -> 99 | B100: =CONCATENATE(F100,"_",G100,"_",E100) -> IZZO_ARCANGELO_M05 | C100: EPS17162 | D100: SM45 | E100: =VLOOKUP(D100,CAT!$E$2:$F$26,2) -> M05 | F100: IZZO | G100: ARCANGELO | H100: 26502 | I100: EPSRT | J100: TABURNO RUNNERS | K100: =COUNT(L100:S100) -> 3 | L100: =IF(SUMIF(I_TAPPA!A:A,B100,I_TAPPA!O:O)=0,"",SUMIF(I_TAPPA!A:A,B100,I_TAPPA!O:O)) | M100: =IF(SUMIF(II_TAPPA!A:A,B100,II_TAPPA!O:O)=0,"",SUMIF(II_TAPPA!A:A,B100,II_TAPPA!O:O)) -> 217 | N100: =IF(SUMIF(III_TAPPA!A:A,B100,III_TAPPA!O:O)=0,"",SUMIF(III_TAPPA!A:A,B100,III_TAPPA!O:O)) | O100: =IF(SUMIF(IV_TAPPA!A:A,B100,IV_TAPPA!S:S)=0,"",SUMIF(IV_TAPPA!A:A,B100,IV_TAPPA!S:S)) -> 216 | P100: =IF(SUMIF(V_TAPPA!A:A,B100,V_TAPPA!O:O)=0,"",SUMIF(V_TAPPA!A:A,B100,V_TAPPA!O:O)) | Q100: =IF(SUMIF(VI_TAPPA!A:A,B100,VI_TAPPA!O:O)=0,"",SUMIF(VI_TAPPA!A:A,B100,VI_TAPPA!O:O)) | R100: =IF(SUMIF(VII_TAPPA!A:A,B100,VII_TAPPA!O:O)=0,"",SUMIF(VII_TAPPA!A:A,B100,VII_TAPPA!O:O)) | S100: =IF(SUMIF(VIII_TAPPA!A:A,B100,VIII_TAPPA!O:O)=0,"",SUMIF(VIII_TAPPA!A:A,B100,VIII_TAPPA!O:O)) -> 217 | T100: =SUM(L100:S100) -> 650 | U100: =IF(K100=8,MINA(L100:S100),0) -> 0 | V100: =T100-U100 -> 650
A101: =A100+1 -> 100 | B101: =CONCATENATE(F101,"_",G101,"_",E101) -> LAVIERI_ANGELA_F3 | C101: MC001331 | D101: SF35 | E101: =VLOOKUP(D101,CAT!$E$2:$F$26,2) -> F3 | F101: LAVIERI | G101: ANGELA | H101: 29584 | I101: BN460 | J101: TELESIA RUNNING TEAM | K101: =COUNT(L101:S101) -> 5 | L101: =IF(SUMIF(I_TAPPA!A:A,B101,I_TAPPA!O:O)=0,"",SUMIF(I_TAPPA!A:A,B101,I_TAPPA!O:O)) | M101: =IF(SUMIF(II_TAPPA!A:A,B101,II_TAPPA!O:O)=0,"",SUMIF(II_TAPPA!A:A,B101,II_TAPPA!O:O)) -> 121 | N101: =IF(SUMIF(III_TAPPA!A:A,B101,III_TAPPA!O:O)=0,"",SUMIF(III_TAPPA!A:A,B101,III_TAPPA!O:O)) | O101: =IF(SUMIF(IV_TAPPA!A:A,B101,IV_TAPPA!S:S)=0,"",SUMIF(IV_TAPPA!A:A,B101,IV_TAPPA!S:S)) | P101: =IF(SUMIF(V_TAPPA!A:A,B101,V_TAPPA!O:O)=0,"",SUMIF(V_TAPPA!A:A,B101,V_TAPPA!O:O)) -> 142 | Q101: =IF(SUMIF(VI_TAPPA!A:A,B101,VI_TAPPA!O:O)=0,"",SUMIF(VI_TAPPA!A:A,B101,VI_TAPPA!O:O)) -> 139 | R101: =IF(SUMIF(VII_TAPPA!A:A,B101,VII_TAPPA!O:O)=0,"",SUMIF(VII_TAPPA!A:A,B101,VII_TAPPA!O:O)) -> 128 | S101: =IF(SUMIF(VIII_TAPPA!A:A,B101,VIII_TAPPA!O:O)=0,"",SUMIF(VIII_TAPPA!A:A,B101,VIII_TAPPA!O:O)) -> 116 | T101: =SUM(L101:S101) -> 646 | U101: =IF(K101=8,MINA(L101:S101),0) -> 0 | V101: =T101-U101 -> 646
A102: =A101+1 -> 101 | B102: =CONCATENATE(F102,"_",G102,"_",E102) -> D'ONOFRIO_ROSINA_F3 | C102: MC001318 | D102: SF35 | E102: =VLOOKUP(D102,CAT!$E$2:$F$26,2) -> F3 | F102: D'ONOFRIO | G102: ROSINA | H102: 29941 | I102: BN460 | J102: TELESIA RUNNING TEAM | K102: =COUNT(L102:S102) -> 5 | L102: =IF(SUMIF(I_TAPPA!A:A,B102,I_TAPPA!O:O)=0,"",SUMIF(I_TAPPA!A:A,B102,I_TAPPA!O:O)) | M102: =IF(SUMIF(II_TAPPA!A:A,B102,II_TAPPA!O:O)=0,"",SUMIF(II_TAPPA!A:A,B102,II_TAPPA!O:O)) -> 114 | N102: =IF(SUMIF(III_TAPPA!A:A,B102,III_TAPPA!O:O)=0,"",SUMIF(III_TAPPA!A:A,B102,III_TAPPA!O:O)) | O102: =IF(SUMIF(IV_TAPPA!A:A,B102,IV_TAPPA!S:S)=0,"",SUMIF(IV_TAPPA!A:A,B102,IV_TAPPA!S:S)) -> 110 | P102: =IF(SUMIF(V_TAPPA!A:A,B102,V_TAPPA!O:O)=0,"",SUMIF(V_TAPPA!A:A,B102,V_TAPPA!O:O)) -> 149 | Q102: =IF(SUMIF(VI_TAPPA!A:A,B102,VI_TAPPA!O:O)=0,"",SUMIF(VI_TAPPA!A:A,B102,VI_TAPPA!O:O)) | R102: =IF(SUMIF(VII_TAPPA!A:A,B102,VII_TAPPA!O:O)=0,"",SUMIF(VII_TAPPA!A:A,B102,VII_TAPPA!O:O)) -> 145 | S102: =IF(SUMIF(VIII_TAPPA!A:A,B102,VIII_TAPPA!O:O)=0,"",SUMIF(VIII_TAPPA!A:A,B102,VIII_TAPPA!O:O)) -> 125 | T102: =SUM(L102:S102) -> 643 | U102: =IF(K102=8,MINA(L102:S102),0) -> 0 | V102: =T102-U102 -> 643
A103: =A102+1 -> 102 | B103: =CONCATENATE(F103,"_",G103,"_",E103) -> ACETO_GIUSEPPE_M10 | C103: PA005581 | D103: SM70 | E103: =VLOOKUP(D103,CAT!$E$2:$F$26,2) -> M10 | F103: ACETO | G103: GIUSEPPE | H103: 17798 | I103: CB032 | J103: PODISTICA AVIS CAMPOBASSO | K103: =COUNT(L103:S103) -> 4 | L103: =IF(SUMIF(I_TAPPA!A:A,B103,I_TAPPA!O:O)=0,"",SUMIF(I_TAPPA!A:A,B103,I_TAPPA!O:O)) -> 172 | M103: =IF(SUMIF(II_TAPPA!A:A,B103,II_TAPPA!O:O)=0,"",SUMIF(II_TAPPA!A:A,B103,II_TAPPA!O:O)) | N103: =IF(SUMIF(III_TAPPA!A:A,B103,III_TAPPA!O:O)=0,"",SUMIF(III_TAPPA!A:A,B103,III_TAPPA!O:O)) -> 150 | O103: =IF(SUMIF(IV_TAPPA!A:A,B103,IV_TAPPA!S:S)=0,"",SUMIF(IV_TAPPA!A:A,B103,IV_TAPPA!S:S)) | P103: =IF(SUMIF(V_TAPPA!A:A,B103,V_TAPPA!O:O)=0,"",SUMIF(V_TAPPA!A:A,B103,V_TAPPA!O:O)) -> 157 | Q103: =IF(SUMIF(VI_TAPPA!A:A,B103,VI_TAPPA!O:O)=0,"",SUMIF(VI_TAPPA!A:A,B103,VI_TAPPA!O:O)) -> 160 | R103: =IF(SUMIF(VII_TAPPA!A:A,B103,VII_TAPPA!O:O)=0,"",SUMIF(VII_TAPPA!A:A,B103,VII_TAPPA!O:O)) | S103: =IF(SUMIF(VIII_TAPPA!A:A,B103,VIII_TAPPA!O:O)=0,"",SUMIF(VIII_TAPPA!A:A,B103,VIII_TAPPA!O:O)) | T103: =SUM(L103:S103) -> 639 | U103: =IF(K103=8,MINA(L103:S103),0) -> 0 | V103: =T103-U103 -> 639
A104: =A103+1 -> 103 | B104: =CONCATENATE(F104,"_",G104,"_",E104) -> NAPOLITANO_DANIELA_F4 | C104: MC001439 | D104: SF40 | E104: =VLOOKUP(D104,CAT!$E$2:$F$26,2) -> F4 | F104: NAPOLITANO | G104: DANIELA | H104: 27847 | I104: BN702 | J104: PODISMO BENEVENTO | K104: =COUNT(L104:S104) -> 5 | L104: =IF(SUMIF(I_TAPPA!A:A,B104,I_TAPPA!O:O)=0,"",SUMIF(I_TAPPA!A:A,B104,I_TAPPA!O:O)) | M104: =IF(SUMIF(II_TAPPA!A:A,B104,II_TAPPA!O:O)=0,"",SUMIF(II_TAPPA!A:A,B104,II_TAPPA!O:O)) | N104: =IF(SUMIF(III_TAPPA!A:A,B104,III_TAPPA!O:O)=0,"",SUMIF(III_TAPPA!A:A,B104,III_TAPPA!O:O)) | O104: =IF(SUMIF(IV_TAPPA!A:A,B104,IV_TAPPA!S:S)=0,"",SUMIF(IV_TAPPA!A:A,B104,IV_TAPPA!S:S)) -> 85 | P104: =IF(SUMIF(V_TAPPA!A:A,B104,V_TAPPA!O:O)=0,"",SUMIF(V_TAPPA!A:A,B104,V_TAPPA!O:O)) -> 143 | Q104: =IF(SUMIF(VI_TAPPA!A:A,B104,VI_TAPPA!O:O)=0,"",SUMIF(VI_TAPPA!A:A,B104,VI_TAPPA!O:O)) -> 142 | R104: =IF(SUMIF(VII_TAPPA!A:A,B104,VII_TAPPA!O:O)=0,"",SUMIF(VII_TAPPA!A:A,B104,VII_TAPPA!O:O)) -> 134 | S104: =IF(SUMIF(VIII_TAPPA!A:A,B104,VIII_TAPPA!O:O)=0,"",SUMIF(VIII_TAPPA!A:A,B104,VIII_TAPPA!O:O)) -> 109 | T104: =SUM(L104:S104) -> 613 | U104: =IF(K104=8,MINA(L104:S104),0) -> 0 | V104: =T104-U104 -> 613
A105: =A104+1 -> 104 | B105: =CONCATENATE(F105,"_",G105,"_",E105) -> MIGNOGNA_GIUSEPPE_M09 | C105: PA001053 | D105: SM65 | E105: =VLOOKUP(D105,CAT!$E$2:$F$26,2) -> M09 | F105: MIGNOGNA | G105: GIUSEPPE | H105: 18656 | I105: CB032 | J105: PODISTICA AVIS CAMPOBASSO | K105: =COUNT(L105:S105) -> 4 | L105: =IF(SUMIF(I_TAPPA!A:A,B105,I_TAPPA!O:O)=0,"",SUMIF(I_TAPPA!A:A,B105,I_TAPPA!O:O)) -> 170 | M105: =IF(SUMIF(II_TAPPA!A:A,B105,II_TAPPA!O:O)=0,"",SUMIF(II_TAPPA!A:A,B105,II_TAPPA!O:O)) | N105: =IF(SUMIF(III_TAPPA!A:A,B105,III_TAPPA!O:O)=0,"",SUMIF(III_TAPPA!A:A,B105,III_TAPPA!O:O)) -> 132 | O105: =IF(SUMIF(IV_TAPPA!A:A,B105,IV_TAPPA!S:S)=0,"",SUMIF(IV_TAPPA!A:A,B105,IV_TAPPA!S:S)) | P105: =IF(SUMIF(V_TAPPA!A:A,B105,V_TAPPA!O:O)=0,"",SUMIF(V_TAPPA!A:A,B105,V_TAPPA!O:O)) -> 152 | Q105: =IF(SUMIF(VI_TAPPA!A:A,B105,VI_TAPPA!O:O)=0,"",SUMIF(VI_TAPPA!A:A,B105,VI_TAPPA!O:O)) -> 152 | R105: =IF(SUMIF(VII_TAPPA!A:A,B105,VII_TAPPA!O:O)=0,"",SUMIF(VII_TAPPA!A:A,B105,VII_TAPPA!O:O)) | S105: =IF(SUMIF(VIII_TAPPA!A:A,B105,VIII_TAPPA!O:O)=0,"",SUMIF(VIII_TAPPA!A:A,B105,VIII_TAPPA!O:O)) | T105: =SUM(L105:S105) -> 606 | U105: =IF(K105=8,MINA(L105:S105),0) -> 0 | V105: =T105-U105 -> 606
A106: =A105+1 -> 105 | B106: =CONCATENATE(F106,"_",G106,"_",E106) -> GALASSO_MICHELE_M02 | C106: EPS16059 | D106: PM | E106: =VLOOKUP(D106,CAT!$E$2:$F$26,2) -> M02 | F106: GALASSO | G106: MICHELE | H106: 35484 | I106: EPSSA | J106: SANNIO RUNNERS | K106: =COUNT(L106:S106) -> 3 | L106: =IF(SUMIF(I_TAPPA!A:A,B106,I_TAPPA!O:O)=0,"",SUMIF(I_TAPPA!A:A,B106,I_TAPPA!O:O)) | M106: =IF(SUMIF(II_TAPPA!A:A,B106,II_TAPPA!O:O)=0,"",SUMIF(II_TAPPA!A:A,B106,II_TAPPA!O:O)) -> 206 | N106: =IF(SUMIF(III_TAPPA!A:A,B106,III_TAPPA!O:O)=0,"",SUMIF(III_TAPPA!A:A,B106,III_TAPPA!O:O)) -> 208 | O106: =IF(SUMIF(IV_TAPPA!A:A,B106,IV_TAPPA!S:S)=0,"",SUMIF(IV_TAPPA!A:A,B106,IV_TAPPA!S:S)) -> 192 | P106: =IF(SUMIF(V_TAPPA!A:A,B106,V_TAPPA!O:O)=0,"",SUMIF(V_TAPPA!A:A,B106,V_TAPPA!O:O)) | Q106: =IF(SUMIF(VI_TAPPA!A:A,B106,VI_TAPPA!O:O)=0,"",SUMIF(VI_TAPPA!A:A,B106,VI_TAPPA!O:O)) | R106: =IF(SUMIF(VII_TAPPA!A:A,B106,VII_TAPPA!O:O)=0,"",SUMIF(VII_TAPPA!A:A,B106,VII_TAPPA!O:O)) | S106: =IF(SUMIF(VIII_TAPPA!A:A,B106,VIII_TAPPA!O:O)=0,"",SUMIF(VIII_TAPPA!A:A,B106,VIII_TAPPA!O:O)) | T106: =SUM(L106:S106) -> 606 | U106: =IF(K106=8,MINA(L106:S106),0) -> 0 | V106: =T106-U106 -> 606
A107: =A106+1 -> 106 | B107: =CONCATENATE(F107,"_",G107,"_",E107) -> VIGLIONE_GIACOMO_M09 | C107: EPS05732 | D107: SM65 | E107: =VLOOKUP(D107,CAT!$E$2:$F$26,2) -> M09 | F107: VIGLIONE | G107: GIACOMO | H107: 19550 | I107: EPS851 | J107: PODISTI ALTO SANNIO | K107: =COUNT(L107:S107) -> 4 | L107: =IF(SUMIF(I_TAPPA!A:A,B107,I_TAPPA!O:O)=0,"",SUMIF(I_TAPPA!A:A,B107,I_TAPPA!O:O)) | M107: =IF(SUMIF(II_TAPPA!A:A,B107,II_TAPPA!O:O)=0,"",SUMIF(II_TAPPA!A:A,B107,II_TAPPA!O:O)) -> 139 | N107: =IF(SUMIF(III_TAPPA!A:A,B107,III_TAPPA!O:O)=0,"",SUMIF(III_TAPPA!A:A,B107,III_TAPPA!O:O)) -> 143 | O107: =IF(SUMIF(IV_TAPPA!A:A,B107,IV_TAPPA!S:S)=0,"",SUMIF(IV_TAPPA!A:A,B107,IV_TAPPA!S:S)) -> 141 | P107: =IF(SUMIF(V_TAPPA!A:A,B107,V_TAPPA!O:O)=0,"",SUMIF(V_TAPPA!A:A,B107,V_TAPPA!O:O)) -> 172 | Q107: =IF(SUMIF(VI_TAPPA!A:A,B107,VI_TAPPA!O:O)=0,"",SUMIF(VI_TAPPA!A:A,B107,VI_TAPPA!O:O)) | R107: =IF(SUMIF(VII_TAPPA!A:A,B107,VII_TAPPA!O:O)=0,"",SUMIF(VII_TAPPA!A:A,B107,VII_TAPPA!O:O)) | S107: =IF(SUMIF(VIII_TAPPA!A:A,B107,VIII_TAPPA!O:O)=0,"",SUMIF(VIII_TAPPA!A:A,B107,VIII_TAPPA!O:O)) | T107: =SUM(L107:S107) -> 595 | U107: =IF(K107=8,MINA(L107:S107),0) -> 0 | V107: =T107-U107 -> 595
A108: =A107+1 -> 107 | B108: =CONCATENATE(F108,"_",G108,"_",E108) -> PERONE_TOMMASO_M05 | C108: EPS16233 | D108: SM45 | E108: =VLOOKUP(D108,CAT!$E$2:$F$26,2) -> M05 | F108: PERONE | G108: TOMMASO | H108: 26949 | I108: EPSRT | J108: TABURNO RUNNERS | K108: =COUNT(L108:S108) -> 3 | L108: =IF(SUMIF(I_TAPPA!A:A,B108,I_TAPPA!O:O)=0,"",SUMIF(I_TAPPA!A:A,B108,I_TAPPA!O:O)) | M108: =IF(SUMIF(II_TAPPA!A:A,B108,II_TAPPA!O:O)=0,"",SUMIF(II_TAPPA!A:A,B108,II_TAPPA!O:O)) | N108: =IF(SUMIF(III_TAPPA!A:A,B108,III_TAPPA!O:O)=0,"",SUMIF(III_TAPPA!A:A,B108,III_TAPPA!O:O)) | O108: =IF(SUMIF(IV_TAPPA!A:A,B108,IV_TAPPA!S:S)=0,"",SUMIF(IV_TAPPA!A:A,B108,IV_TAPPA!S:S)) -> 182 | P108: =IF(SUMIF(V_TAPPA!A:A,B108,V_TAPPA!O:O)=0,"",SUMIF(V_TAPPA!A:A,B108,V_TAPPA!O:O)) | Q108: =IF(SUMIF(VI_TAPPA!A:A,B108,VI_TAPPA!O:O)=0,"",SUMIF(VI_TAPPA!A:A,B108,VI_TAPPA!O:O)) | R108: =IF(SUMIF(VII_TAPPA!A:A,B108,VII_TAPPA!O:O)=0,"",SUMIF(VII_TAPPA!A:A,B108,VII_TAPPA!O:O)) -> 196 | S108: =IF(SUMIF(VIII_TAPPA!A:A,B108,VIII_TAPPA!O:O)=0,"",SUMIF(VIII_TAPPA!A:A,B108,VIII_TAPPA!O:O)) -> 197 | T108: =SUM(L108:S108) -> 575 | U108: =IF(K108=8,MINA(L108:S108),0) -> 0 | V108: =T108-U108 -> 575
A109: =A108+1 -> 108 | B109: =CONCATENATE(F109,"_",G109,"_",E109) -> PACELLI_NICOLA_M02 | C109: MC001678 | D109: SM | E109: =VLOOKUP(D109,CAT!$E$2:$F$26,2) -> M02 | F109: PACELLI | G109: NICOLA | H109: 32387 | I109: BN460 | J109: TELESIA RUNNING TEAM | K109: =COUNT(L109:S109) -> 3 | L109: =IF(SUMIF(I_TAPPA!A:A,B109,I_TAPPA!O:O)=0,"",SUMIF(I_TAPPA!A:A,B109,I_TAPPA!O:O)) | M109: =IF(SUMIF(II_TAPPA!A:A,B109,II_TAPPA!O:O)=0,"",SUMIF(II_TAPPA!A:A,B109,II_TAPPA!O:O)) | N109: =IF(SUMIF(III_TAPPA!A:A,B109,III_TAPPA!O:O)=0,"",SUMIF(III_TAPPA!A:A,B109,III_TAPPA!O:O)) -> 188 | O109: =IF(SUMIF(IV_TAPPA!A:A,B109,IV_TAPPA!S:S)=0,"",SUMIF(IV_TAPPA!A:A,B109,IV_TAPPA!S:S)) -> 204 | P109: =IF(SUMIF(V_TAPPA!A:A,B109,V_TAPPA!O:O)=0,"",SUMIF(V_TAPPA!A:A,B109,V_TAPPA!O:O)) | Q109: =IF(SUMIF(VI_TAPPA!A:A,B109,VI_TAPPA!O:O)=0,"",SUMIF(VI_TAPPA!A:A,B109,VI_TAPPA!O:O)) | R109: =IF(SUMIF(VII_TAPPA!A:A,B109,VII_TAPPA!O:O)=0,"",SUMIF(VII_TAPPA!A:A,B109,VII_TAPPA!O:O)) | S109: =IF(SUMIF(VIII_TAPPA!A:A,B109,VIII_TAPPA!O:O)=0,"",SUMIF(VIII_TAPPA!A:A,B109,VIII_TAPPA!O:O)) -> 178 | T109: =SUM(L109:S109) -> 570 | U109: =IF(K109=8,MINA(L109:S109),0) -> 0 | V109: =T109-U109 -> 570
A110: =A109+1 -> 109 | B110: =CONCATENATE(F110,"_",G110,"_",E110) -> BAKR_AHMAD_ABDELGHANY_MUH_M02 | C110: NEW_III-TAPPA_02 | D110: SM | E110: =VLOOKUP(D110,CAT!$E$2:$F$26,2) -> M02 | F110: BAKR_AHMAD | G110: ABDELGHANY_MUH | I110: BN702 | J110: PODISMO BENEVENTO | K110: =COUNT(L110:S110) -> 3 | L110: =IF(SUMIF(I_TAPPA!A:A,B110,I_TAPPA!O:O)=0,"",SUMIF(I_TAPPA!A:A,B110,I_TAPPA!O:O)) | M110: =IF(SUMIF(II_TAPPA!A:A,B110,II_TAPPA!O:O)=0,"",SUMIF(II_TAPPA!A:A,B110,II_TAPPA!O:O)) | N110: =IF(SUMIF(III_TAPPA!A:A,B110,III_TAPPA!O:O)=0,"",SUMIF(III_TAPPA!A:A,B110,III_TAPPA!O:O)) -> 206 | O110: =IF(SUMIF(IV_TAPPA!A:A,B110,IV_TAPPA!S:S)=0,"",SUMIF(IV_TAPPA!A:A,B110,IV_TAPPA!S:S)) -> 180 | P110: =IF(SUMIF(V_TAPPA!A:A,B110,V_TAPPA!O:O)=0,"",SUMIF(V_TAPPA!A:A,B110,V_TAPPA!O:O)) | Q110: =IF(SUMIF(VI_TAPPA!A:A,B110,VI_TAPPA!O:O)=0,"",SUMIF(VI_TAPPA!A:A,B110,VI_TAPPA!O:O)) | R110: =IF(SUMIF(VII_TAPPA!A:A,B110,VII_TAPPA!O:O)=0,"",SUMIF(VII_TAPPA!A:A,B110,VII_TAPPA!O:O)) | S110: =IF(SUMIF(VIII_TAPPA!A:A,B110,VIII_TAPPA!O:O)=0,"",SUMIF(VIII_TAPPA!A:A,B110,VIII_TAPPA!O:O)) -> 183 | T110: =SUM(L110:S110) -> 569 | U110: =IF(K110=8,MINA(L110:S110),0) -> 0 | V110: =T110-U110 -> 569
A111: =A110+1 -> 110 | B111: =CONCATENATE(F111,"_",G111,"_",E111) -> FERRUCCI_OTTAVIO_M06 | C111: MD001544 | D111: SM50 | E111: =VLOOKUP(D111,CAT!$E$2:$F$26,2) -> M06 | F111: FERRUCCI | G111: OTTAVIO | H111: 25511 | I111: BN460 | J111: TELESIA RUNNING TEAM | K111: =COUNT(L111:S111) -> 3 | L111: =IF(SUMIF(I_TAPPA!A:A,B111,I_TAPPA!O:O)=0,"",SUMIF(I_TAPPA!A:A,B111,I_TAPPA!O:O)) | M111: =IF(SUMIF(II_TAPPA!A:A,B111,II_TAPPA!O:O)=0,"",SUMIF(II_TAPPA!A:A,B111,II_TAPPA!O:O)) | N111: =IF(SUMIF(III_TAPPA!A:A,B111,III_TAPPA!O:O)=0,"",SUMIF(III_TAPPA!A:A,B111,III_TAPPA!O:O)) | O111: =IF(SUMIF(IV_TAPPA!A:A,B111,IV_TAPPA!S:S)=0,"",SUMIF(IV_TAPPA!A:A,B111,IV_TAPPA!S:S)) -> 173 | P111: =IF(SUMIF(V_TAPPA!A:A,B111,V_TAPPA!O:O)=0,"",SUMIF(V_TAPPA!A:A,B111,V_TAPPA!O:O)) | Q111: =IF(SUMIF(VI_TAPPA!A:A,B111,VI_TAPPA!O:O)=0,"",SUMIF(VI_TAPPA!A:A,B111,VI_TAPPA!O:O)) -> 196 | R111: =IF(SUMIF(VII_TAPPA!A:A,B111,VII_TAPPA!O:O)=0,"",SUMIF(VII_TAPPA!A:A,B111,VII_TAPPA!O:O)) -> 200 | S111: =IF(SUMIF(VIII_TAPPA!A:A,B111,VIII_TAPPA!O:O)=0,"",SUMIF(VIII_TAPPA!A:A,B111,VIII_TAPPA!O:O)) | T111: =SUM(L111:S111) -> 569 | U111: =IF(K111=8,MINA(L111:S111),0) -> 0 | V111: =T111-U111 -> 569
...

Sheet CATEGORIE
A1: POS_ASS | B1: POS | C1: TESSERA | D1: CAT | F1: COGNOME | G1: NOME | H1: ANNO_NASC | I1: COD_SQ | J1: SQUADRA | K1: N. GARE | L1: 1°TAPPA | M1: 2°TAPPA | N1: 3°TAPPA | O1: 4°TAPPA | P1: 5°TAPPA | Q1: 6°TAPPA | R1: 7°TAPPA | S1: 8°TAPPA | T1: TOTALE | U1: PEGGIOR PUNTEGGIO | V1: TOT. PUNTEGGIO AL MEGLIO DI 7 GARE | W1: P | X1: J
A2: 1 | B2: =CONCATENATE(F2,"_",G2,"_",E2) -> ALAADIK_CARLA_F1 | C2: MC001587 | D2: AF | E2: =VLOOKUP(D2,CAT!$E$2:$F$26,2) -> F1 | F2: ALAADIK | G2: CARLA | H2: 37959 | I2: BN460 | J2: TELESIA RUNNING TEAM | K2: =IF(COUNT(L2:S2)=0,"",COUNT(L2:S2)) -> 1 | L2: =IF(SUMIF(I_TAPPA!A:A,B2,I_TAPPA!P:P)=0,"",SUMIF(I_TAPPA!A:A,B2,I_TAPPA!P:P)) | M2: =IF(SUMIF(II_TAPPA!A:A,B2,II_TAPPA!P:P)=0,"",SUMIF(II_TAPPA!A:A,B2,II_TAPPA!P:P)) | N2: =IF(SUMIF(III_TAPPA!A:A,B2,III_TAPPA!P:P)=0,"",SUMIF(III_TAPPA!A:A,B2,III_TAPPA!P:P)) | O2: =IF(SUMIF(IV_TAPPA!A:A,B2,IV_TAPPA!T:T)=0,"",SUMIF(IV_TAPPA!A:A,B2,IV_TAPPA!T:T)) -> 12 | P2: =IF(SUMIF(V_TAPPA!A:A,B2,V_TAPPA!P:P)=0,"",SUMIF(V_TAPPA!A:A,B2,V_TAPPA!P:P)) | Q2: =IF(SUMIF(VI_TAPPA!A:A,B2,VI_TAPPA!P:P)=0,"",SUMIF(VI_TAPPA!A:A,B2,VI_TAPPA!P:P)) | R2: =IF(SUMIF(VII_TAPPA!A:A,B2,VII_TAPPA!P:P)=0,"",SUMIF(VII_TAPPA!A:A,B2,VII_TAPPA!P:P)) | S2: =IF(SUMIF(VIII_TAPPA!A:A,B2,VIII_TAPPA!P:P)=0,"",SUMIF(VIII_TAPPA!A:A,B2,VIII_TAPPA!P:P)) | T2: =SUM(L2:S2) -> 12 | U2: =IF(K2=8,MINA(L2:S2),0) -> 0 | V2: =T2-U2 -> 12 | W2: .
A3: =A2+1 -> 2 | B3: =CONCATENATE(F3,"_",G3,"_",E3) -> CERULO_MARA_F1 | C3: MC001420 | D3: AF | E3: =VLOOKUP(D3,CAT!$E$2:$F$26,2) -> F1 | F3: CERULO | G3: MARA | H3: 37474 | I3: BN460 | J3: TELESIA RUNNING TEAM | K3: =IF(COUNT(L3:S3)=0,"",COUNT(L3:S3)) -> 1 | L3: =IF(SUMIF(I_TAPPA!A:A,B3,I_TAPPA!P:P)=0,"",SUMIF(I_TAPPA!A:A,B3,I_TAPPA!P:P)) | M3: =IF(SUMIF(II_TAPPA!A:A,B3,II_TAPPA!P:P)=0,"",SUMIF(II_TAPPA!A:A,B3,II_TAPPA!P:P)) | N3: =IF(SUMIF(III_TAPPA!A:A,B3,III_TAPPA!P:P)=0,"",SUMIF(III_TAPPA!A:A,B3,III_TAPPA!P:P)) | O3: =IF(SUMIF(IV_TAPPA!A:A,B3,IV_TAPPA!T:T)=0,"",SUMIF(IV_TAPPA!A:A,B3,IV_TAPPA!T:T)) -> 10 | P3: =IF(SUMIF(V_TAPPA!A:A,B3,V_TAPPA!P:P)=0,"",SUMIF(V_TAPPA!A:A,B3,V_TAPPA!P:P)) | Q3: =IF(SUMIF(VI_TAPPA!A:A,B3,VI_TAPPA!P:P)=0,"",SUMIF(VI_TAPPA!A:A,B3,VI_TAPPA!P:P)) | R3: =IF(SUMIF(VII_TAPPA!A:A,B3,VII_TAPPA!P:P)=0,"",SUMIF(VII_TAPPA!A:A,B3,VII_TAPPA!P:P)) | S3: =IF(SUMIF(VIII_TAPPA!A:A,B3,VIII_TAPPA!P:P)=0,"",SUMIF(VIII_TAPPA!A:A,B3,VIII_TAPPA!P:P)) | T3: =SUM(L3:S3) -> 10 | U3: =IF(K3=8,MINA(L3:S3),0) -> 0 | V3: =T3-U3 -> 10 | W3: .
A4: =A3+1 -> 3 | B4: =CONCATENATE(F4,"_",G4,"_",E4) -> SOLLA_GIUSEPPE_F1 | C4: MC001661 | D4: AF | E4: =VLOOKUP(D4,CAT!$E$2:$F$26,2) -> F1 | F4: SOLLA | G4: GIUSEPPE | H4: 37532 | I4: EPSSA | J4: SANNIO RUNNERS | K4: =IF(COUNT(L4:S4)=0,"",COUNT(L4:S4)) | L4: =IF(SUMIF(I_TAPPA!A:A,B4,I_TAPPA!P:P)=0,"",SUMIF(I_TAPPA!A:A,B4,I_TAPPA!P:P)) | M4: =IF(SUMIF(II_TAPPA!A:A,B4,II_TAPPA!P:P)=0,"",SUMIF(II_TAPPA!A:A,B4,II_TAPPA!P:P)) | N4: =IF(SUMIF(III_TAPPA!A:A,B4,III_TAPPA!P:P)=0,"",SUMIF(III_TAPPA!A:A,B4,III_TAPPA!P:P)) | O4: =IF(SUMIF(IV_TAPPA!A:A,B4,IV_TAPPA!T:T)=0,"",SUMIF(IV_TAPPA!A:A,B4,IV_TAPPA!T:T)) | P4: =IF(SUMIF(V_TAPPA!A:A,B4,V_TAPPA!P:P)=0,"",SUMIF(V_TAPPA!A:A,B4,V_TAPPA!P:P)) | Q4: =IF(SUMIF(VI_TAPPA!A:A,B4,VI_TAPPA!P:P)=0,"",SUMIF(VI_TAPPA!A:A,B4,VI_TAPPA!P:P)) | R4: =IF(SUMIF(VII_TAPPA!A:A,B4,VII_TAPPA!P:P)=0,"",SUMIF(VII_TAPPA!A:A,B4,VII_TAPPA!P:P)) | S4: =IF(SUMIF(VIII_TAPPA!A:A,B4,VIII_TAPPA!P:P)=0,"",SUMIF(VIII_TAPPA!A:A,B4,VIII_TAPPA!P:P)) | T4: =SUM(L4:S4) -> 0 | U4: =IF(K4=8,MINA(L4:S4),0) -> 0 | V4: =T4-U4 -> 0 | W4: .
A5: =A4+1 -> 4 | B5: =CONCATENATE(F5,"_",G5,"_",E5) -> BASILE_GINEVRA_GELTRUDE_F1 | C5: MC001666 | D5: CF | E5: =VLOOKUP(D5,CAT!$E$2:$F$26,2) -> F1 | F5: BASILE | G5: GINEVRA_GELTRUDE | H5: 38444 | I5: BN460 | J5: TELESIA RUNNING TEAM | K5: =IF(COUNT(L5:S5)=0,"",COUNT(L5:S5)) | L5: =IF(SUMIF(I_TAPPA!A:A,B5,I_TAPPA!P:P)=0,"",SUMIF(I_TAPPA!A:A,B5,I_TAPPA!P:P)) | M5: =IF(SUMIF(II_TAPPA!A:A,B5,II_TAPPA!P:P)=0,"",SUMIF(II_TAPPA!A:A,B5,II_TAPPA!P:P)) | N5: =IF(SUMIF(III_TAPPA!A:A,B5,III_TAPPA!P:P)=0,"",SUMIF(III_TAPPA!A:A,B5,III_TAPPA!P:P)) | O5: =IF(SUMIF(IV_TAPPA!A:A,B5,IV_TAPPA!T:T)=0,"",SUMIF(IV_TAPPA!A:A,B5,IV_TAPPA!T:T)) | P5: =IF(SUMIF(V_TAPPA!A:A,B5,V_TAPPA!P:P)=0,"",SUMIF(V_TAPPA!A:A,B5,V_TAPPA!P:P)) | Q5: =IF(SUMIF(VI_TAPPA!A:A,B5,VI_TAPPA!P:P)=0,"",SUMIF(VI_TAPPA!A:A,B5,VI_TAPPA!P:P)) | R5: =IF(SUMIF(VII_TAPPA!A:A,B5,VII_TAPPA!P:P)=0,"",SUMIF(VII_TAPPA!A:A,B5,VII_TAPPA!P:P)) | S5: =IF(SUMIF(VIII_TAPPA!A:A,B5,VIII_TAPPA!P:P)=0,"",SUMIF(VIII_TAPPA!A:A,B5,VIII_TAPPA!P:P)) | T5: =SUM(L5:S5) -> 0 | U5: =IF(K5=8,MINA(L5:S5),0) -> 0 | V5: =T5-U5 -> 0 | W5: .
A6: =A5+1 -> 5 | B6: =CONCATENATE(F6,"_",G6,"_",E6) -> DI_BRIGIDA_ANTONIO_F1 | C6: MC001541 | D6: JF | E6: =VLOOKUP(D6,CAT!$E$2:$F$26,2) -> F1 | F6: DI_BRIGIDA | G6: ANTONIO | H6: 37053 | I6: BN460 | J6: TELESIA RUNNING TEAM | K6: =IF(COUNT(L6:S6)=0,"",COUNT(L6:S6)) | L6: =IF(SUMIF(I_TAPPA!A:A,B6,I_TAPPA!P:P)=0,"",SUMIF(I_TAPPA!A:A,B6,I_TAPPA!P:P)) | M6: =IF(SUMIF(II_TAPPA!A:A,B6,II_TAPPA!P:P)=0,"",SUMIF(II_TAPPA!A:A,B6,II_TAPPA!P:P)) | N6: =IF(SUMIF(III_TAPPA!A:A,B6,III_TAPPA!P:P)=0,"",SUMIF(III_TAPPA!A:A,B6,III_TAPPA!P:P)) | O6: =IF(SUMIF(IV_TAPPA!A:A,B6,IV_TAPPA!T:T)=0,"",SUMIF(IV_TAPPA!A:A,B6,IV_TAPPA!T:T)) | P6: =IF(SUMIF(V_TAPPA!A:A,B6,V_TAPPA!P:P)=0,"",SUMIF(V_TAPPA!A:A,B6,V_TAPPA!P:P)) | Q6: =IF(SUMIF(VI_TAPPA!A:A,B6,VI_TAPPA!P:P)=0,"",SUMIF(VI_TAPPA!A:A,B6,VI_TAPPA!P:P)) | R6: =IF(SUMIF(VII_TAPPA!A:A,B6,VII_TAPPA!P:P)=0,"",SUMIF(VII_TAPPA!A:A,B6,VII_TAPPA!P:P)) | S6: =IF(SUMIF(VIII_TAPPA!A:A,B6,VIII_TAPPA!P:P)=0,"",SUMIF(VIII_TAPPA!A:A,B6,VIII_TAPPA!P:P)) | T6: =SUM(L6:S6) -> 0 | U6: =IF(K6=8,MINA(L6:S6),0) -> 0 | V6: =T6-U6 -> 0 | W6: .
A7: =A6+1 -> 6 | B7: =CONCATENATE(F7,"_",G7,"_",E7) -> FOSCHINI_ALESSIA_F1 | C7: MC001249 | D7: JF | E7: =VLOOKUP(D7,CAT!$E$2:$F$26,2) -> F1 | F7: FOSCHINI | G7: ALESSIA | H7: 36743 | I7: BN460 | J7: TELESIA RUNNING TEAM | K7: =IF(COUNT(L7:S7)=0,"",COUNT(L7:S7)) | L7: =IF(SUMIF(I_TAPPA!A:A,B7,I_TAPPA!P:P)=0,"",SUMIF(I_TAPPA!A:A,B7,I_TAPPA!P:P)) | M7: =IF(SUMIF(II_TAPPA!A:A,B7,II_TAPPA!P:P)=0,"",SUMIF(II_TAPPA!A:A,B7,II_TAPPA!P:P)) | N7: =IF(SUMIF(III_TAPPA!A:A,B7,III_TAPPA!P:P)=0,"",SUMIF(III_TAPPA!A:A,B7,III_TAPPA!P:P)) | O7: =IF(SUMIF(IV_TAPPA!A:A,B7,IV_TAPPA!T:T)=0,"",SUMIF(IV_TAPPA!A:A,B7,IV_TAPPA!T:T)) | P7: =IF(SUMIF(V_TAPPA!A:A,B7,V_TAPPA!P:P)=0,"",SUMIF(V_TAPPA!A:A,B7,V_TAPPA!P:P)) | Q7: =IF(SUMIF(VI_TAPPA!A:A,B7,VI_TAPPA!P:P)=0,"",SUMIF(VI_TAPPA!A:A,B7,VI_TAPPA!P:P)) | R7: =IF(SUMIF(VII_TAPPA!A:A,B7,VII_TAPPA!P:P)=0,"",SUMIF(VII_TAPPA!A:A,B7,VII_TAPPA!P:P)) | S7: =IF(SUMIF(VIII_TAPPA!A:A,B7,VIII_TAPPA!P:P)=0,"",SUMIF(VIII_TAPPA!A:A,B7,VIII_TAPPA!P:P)) | T7: =SUM(L7:S7) -> 0 | U7: =IF(K7=8,MINA(L7:S7),0) -> 0 | V7: =T7-U7 -> 0 | W7: .
A8: =A7+1 -> 7 | B8: =CONCATENATE(F8,"_",G8,"_",E8) -> PANNELLA_MARIA_GRAZIA_F1 | C8: MC001667 | D8: CF | E8: =VLOOKUP(D8,CAT!$E$2:$F$26,2) -> F1 | F8: PANNELLA | G8: MARIA_GRAZIA | H8: 38462 | I8: BN460 | J8: TELESIA RUNNING TEAM | K8: =IF(COUNT(L8:S8)=0,"",COUNT(L8:S8)) | L8: =IF(SUMIF(I_TAPPA!A:A,B8,I_TAPPA!P:P)=0,"",SUMIF(I_TAPPA!A:A,B8,I_TAPPA!P:P)) | M8: =IF(SUMIF(II_TAPPA!A:A,B8,II_TAPPA!P:P)=0,"",SUMIF(II_TAPPA!A:A,B8,II_TAPPA!P:P)) | N8: =IF(SUMIF(III_TAPPA!A:A,B8,III_TAPPA!P:P)=0,"",SUMIF(III_TAPPA!A:A,B8,III_TAPPA!P:P)) | O8: =IF(SUMIF(IV_TAPPA!A:A,B8,IV_TAPPA!T:T)=0,"",SUMIF(IV_TAPPA!A:A,B8,IV_TAPPA!T:T)) | P8: =IF(SUMIF(V_TAPPA!A:A,B8,V_TAPPA!P:P)=0,"",SUMIF(V_TAPPA!A:A,B8,V_TAPPA!P:P)) | Q8: =IF(SUMIF(VI_TAPPA!A:A,B8,VI_TAPPA!P:P)=0,"",SUMIF(VI_TAPPA!A:A,B8,VI_TAPPA!P:P)) | R8: =IF(SUMIF(VII_TAPPA!A:A,B8,VII_TAPPA!P:P)=0,"",SUMIF(VII_TAPPA!A:A,B8,VII_TAPPA!P:P)) | S8: =IF(SUMIF(VIII_TAPPA!A:A,B8,VIII_TAPPA!P:P)=0,"",SUMIF(VIII_TAPPA!A:A,B8,VIII_TAPPA!P:P)) | T8: =SUM(L8:S8) -> 0 | U8: =IF(K8=8,MINA(L8:S8),0) -> 0 | V8: =T8-U8 -> 0 | W8: .
A9: =A8+1 -> 8 | B9: =CONCATENATE(F9,"_",G9,"_",E9) -> ROSSANO_CARMEN_F1 | C9: MC001662 | D9: JF | E9: =VLOOKUP(D9,CAT!$E$2:$F$26,2) -> F1 | F9: ROSSANO | G9: CARMEN | H9: 37176 | I9: BN460 | J9: TELESIA RUNNING TEAM | K9: =IF(COUNT(L9:S9)=0,"",COUNT(L9:S9)) | L9: =IF(SUMIF(I_TAPPA!A:A,B9,I_TAPPA!P:P)=0,"",SUMIF(I_TAPPA!A:A,B9,I_TAPPA!P:P)) | M9: =IF(SUMIF(II_TAPPA!A:A,B9,II_TAPPA!P:P)=0,"",SUMIF(II_TAPPA!A:A,B9,II_TAPPA!P:P)) | N9: =IF(SUMIF(III_TAPPA!A:A,B9,III_TAPPA!P:P)=0,"",SUMIF(III_TAPPA!A:A,B9,III_TAPPA!P:P)) | O9: =IF(SUMIF(IV_TAPPA!A:A,B9,IV_TAPPA!T:T)=0,"",SUMIF(IV_TAPPA!A:A,B9,IV_TAPPA!T:T)) | P9: =IF(SUMIF(V_TAPPA!A:A,B9,V_TAPPA!P:P)=0,"",SUMIF(V_TAPPA!A:A,B9,V_TAPPA!P:P)) | Q9: =IF(SUMIF(VI_TAPPA!A:A,B9,VI_TAPPA!P:P)=0,"",SUMIF(VI_TAPPA!A:A,B9,VI_TAPPA!P:P)) | R9: =IF(SUMIF(VII_TAPPA!A:A,B9,VII_TAPPA!P:P)=0,"",SUMIF(VII_TAPPA!A:A,B9,VII_TAPPA!P:P)) | S9: =IF(SUMIF(VIII_TAPPA!A:A,B9,VIII_TAPPA!P:P)=0,"",SUMIF(VIII_TAPPA!A:A,B9,VIII_TAPPA!P:P)) | T9: =SUM(L9:S9) -> 0 | U9: =IF(K9=8,MINA(L9:S9),0) -> 0 | V9: =T9-U9 -> 0 | W9: .
A10: =A9+1 -> 9 | B10: =CONCATENATE(F10,"_",G10,"_",E10) -> SAGNELLA_GIADA_F1 | C10: MC001664 | D10: AF | E10: =VLOOKUP(D10,CAT!$E$2:$F$26,2) -> F1 | F10: SAGNELLA | G10: GIADA | H10: 37397 | I10: BN460 | J10: TELESIA RUNNING TEAM | K10: =IF(COUNT(L10:S10)=0,"",COUNT(L10:S10)) | L10: =IF(SUMIF(I_TAPPA!A:A,B10,I_TAPPA!P:P)=0,"",SUMIF(I_TAPPA!A:A,B10,I_TAPPA!P:P)) | M10: =IF(SUMIF(II_TAPPA!A:A,B10,II_TAPPA!P:P)=0,"",SUMIF(II_TAPPA!A:A,B10,II_TAPPA!P:P)) | N10: =IF(SUMIF(III_TAPPA!A:A,B10,III_TAPPA!P:P)=0,"",SUMIF(III_TAPPA!A:A,B10,III_TAPPA!P:P)) | O10: =IF(SUMIF(IV_TAPPA!A:A,B10,IV_TAPPA!T:T)=0,"",SUMIF(IV_TAPPA!A:A,B10,IV_TAPPA!T:T)) | P10: =IF(SUMIF(V_TAPPA!A:A,B10,V_TAPPA!P:P)=0,"",SUMIF(V_TAPPA!A:A,B10,V_TAPPA!P:P)) | Q10: =IF(SUMIF(VI_TAPPA!A:A,B10,VI_TAPPA!P:P)=0,"",SUMIF(VI_TAPPA!A:A,B10,VI_TAPPA!P:P)) | R10: =IF(SUMIF(VII_TAPPA!A:A,B10,VII_TAPPA!P:P)=0,"",SUMIF(VII_TAPPA!A:A,B10,VII_TAPPA!P:P)) | S10: =IF(SUMIF(VIII_TAPPA!A:A,B10,VIII_TAPPA!P:P)=0,"",SUMIF(VIII_TAPPA!A:A,B10,VIII_TAPPA!P:P)) | T10: =SUM(L10:S10) -> 0 | U10: =IF(K10=8,MINA(L10:S10),0) -> 0 | V10: =T10-U10 -> 0 | W10: .
A11: =A10+1 -> 10 | B11: =CONCATENATE(F11,"_",G11,"_",E11) -> SAGNELLA_ALISIA_F1 | C11: MC001665 | D11: CF | E11: =VLOOKUP(D11,CAT!$E$2:$F$26,2) -> F1 | F11: SAGNELLA | G11: ALISIA | H11: 38101 | I11: BN460 | J11: TELESIA RUNNING TEAM | K11: =IF(COUNT(L11:S11)=0,"",COUNT(L11:S11)) | L11: =IF(SUMIF(I_TAPPA!A:A,B11,I_TAPPA!P:P)=0,"",SUMIF(I_TAPPA!A:A,B11,I_TAPPA!P:P)) | M11: =IF(SUMIF(II_TAPPA!A:A,B11,II_TAPPA!P:P)=0,"",SUMIF(II_TAPPA!A:A,B11,II_TAPPA!P:P)) | N11: =IF(SUMIF(III_TAPPA!A:A,B11,III_TAPPA!P:P)=0,"",SUMIF(III_TAPPA!A:A,B11,III_TAPPA!P:P)) | O11: =IF(SUMIF(IV_TAPPA!A:A,B11,IV_TAPPA!T:T)=0,"",SUMIF(IV_TAPPA!A:A,B11,IV_TAPPA!T:T)) | P11: =IF(SUMIF(V_TAPPA!A:A,B11,V_TAPPA!P:P)=0,"",SUMIF(V_TAPPA!A:A,B11,V_TAPPA!P:P)) | Q11: =IF(SUMIF(VI_TAPPA!A:A,B11,VI_TAPPA!P:P)=0,"",SUMIF(VI_TAPPA!A:A,B11,VI_TAPPA!P:P)) | R11: =IF(SUMIF(VII_TAPPA!A:A,B11,VII_TAPPA!P:P)=0,"",SUMIF(VII_TAPPA!A:A,B11,VII_TAPPA!P:P)) | S11: =IF(SUMIF(VIII_TAPPA!A:A,B11,VIII_TAPPA!P:P)=0,"",SUMIF(VIII_TAPPA!A:A,B11,VIII_TAPPA!P:P)) | T11: =SUM(L11:S11) -> 0 | U11: =IF(K11=8,MINA(L11:S11),0) -> 0 | V11: =T11-U11 -> 0 | W11: .
W12: .
A13: POS_ASS | B13: POS | C13: TESSERA | D13: CAT | F13: COGNOME | G13: NOME | H13: ANNO_NASC | I13: COD_SQ | J13: SQUADRA | K13: N. GARE | L13: 1°TAPPA | M13: 2°TAPPA | N13: 3°TAPPA | O13: 4°TAPPA | P13: 5°TAPPA | Q13: 6°TAPPA | R13: 7°TAPPA | S13: 8°TAPPA | T13: TOTALE | U13: PEGGIOR PUNTEGGIO | V13: TOT. PUNTEGGIO AL MEGLIO DI 7 GARE | W13: .
A14: ASS_01 | B14: =CONCATENATE(F14,"_",G14,"_",E14) -> COLESANTI_ROBERTA_F2 | C14: EPS05681 | D14: SF | E14: =VLOOKUP(D14,CAT!$E$2:$F$26,2) -> F2 | F14: COLESANTI | G14: ROBERTA | H14: 31979 | I14: EPS851 | J14: PODISTI ALTO SANNIO | K14: =IF(COUNT(L14:S14)=0,"",COUNT(L14:S14)) -> 8 | L14: =IF(SUMIF(I_TAPPA!A:A,B14,I_TAPPA!P:P)=0,"",SUMIF(I_TAPPA!A:A,B14,I_TAPPA!P:P)) -> 12 | M14: =IF(SUMIF(II_TAPPA!A:A,B14,II_TAPPA!P:P)=0,"",SUMIF(II_TAPPA!A:A,B14,II_TAPPA!P:P)) -> 12 | N14: =IF(SUMIF(III_TAPPA!A:A,B14,III_TAPPA!P:P)=0,"",SUMIF(III_TAPPA!A:A,B14,III_TAPPA!P:P)) -> 12 | O14: =IF(SUMIF(IV_TAPPA!A:A,B14,IV_TAPPA!T:T)=0,"",SUMIF(IV_TAPPA!A:A,B14,IV_TAPPA!T:T)) -> 12 | P14: =IF(SUMIF(V_TAPPA!A:A,B14,V_TAPPA!P:P)=0,"",SUMIF(V_TAPPA!A:A,B14,V_TAPPA!P:P)) -> 12 | Q14: =IF(SUMIF(VI_TAPPA!A:A,B14,VI_TAPPA!P:P)=0,"",SUMIF(VI_TAPPA!A:A,B14,VI_TAPPA!P:P)) -> 12 | R14: =IF(SUMIF(VII_TAPPA!A:A,B14,VII_TAPPA!P:P)=0,"",SUMIF(VII_TAPPA!A:A,B14,VII_TAPPA!P:P)) -> 12 | S14: =IF(SUMIF(VIII_TAPPA!A:A,B14,VIII_TAPPA!P:P)=0,"",SUMIF(VIII_TAPPA!A:A,B14,VIII_TAPPA!P:P)) -> 12 | T14: =SUM(L14:S14) -> 96 | U14: =IF(K14=8,MINA(L14:S14),0) -> 12 | V14: =T14-U14 -> 84 | W14: .
A15: ASS_02 | B15: =CONCATENATE(F15,"_",G15,"_",E15) -> CENICCOLA_VERA_F2 | C15: MC001673 | D15: SF | E15: =VLOOKUP(D15,CAT!$E$2:$F$26,2) -> F2 | F15: CENICCOLA | G15: VERA | H15: 33626 | I15: BN460 | J15: TELESIA RUNNING TEAM | K15: =IF(COUNT(L15:S15)=0,"",COUNT(L15:S15)) -> 8 | L15: =IF(SUMIF(I_TAPPA!A:A,B15,I_TAPPA!P:P)=0,"",SUMIF(I_TAPPA!A:A,B15,I_TAPPA!P:P)) -> 10 | M15: =IF(SUMIF(II_TAPPA!A:A,B15,II_TAPPA!P:P)=0,"",SUMIF(II_TAPPA!A:A,B15,II_TAPPA!P:P)) -> 10 | N15: =IF(SUMIF(III_TAPPA!A:A,B15,III_TAPPA!P:P)=0,"",SUMIF(III_TAPPA!A:A,B15,III_TAPPA!P:P)) -> 8 | O15: =IF(SUMIF(IV_TAPPA!A:A,B15,IV_TAPPA!T:T)=0,"",SUMIF(IV_TAPPA!A:A,B15,IV_TAPPA!T:T)) -> 10 | P15: =IF(SUMIF(V_TAPPA!A:A,B15,V_TAPPA!P:P)=0,"",SUMIF(V_TAPPA!A:A,B15,V_TAPPA!P:P)) -> 8 | Q15: =IF(SUMIF(VI_TAPPA!A:A,B15,VI_TAPPA!P:P)=0,"",SUMIF(VI_TAPPA!A:A,B15,VI_TAPPA!P:P)) -> 10 | R15: =IF(SUMIF(VII_TAPPA!A:A,B15,VII_TAPPA!P:P)=0,"",SUMIF(VII_TAPPA!A:A,B15,VII_TAPPA!P:P)) -> 10 | S15: =IF(SUMIF(VIII_TAPPA!A:A,B15,VIII_TAPPA!P:P)=0,"",SUMIF(VIII_TAPPA!A:A,B15,VIII_TAPPA!P:P)) -> 8 | T15: =SUM(L15:S15) -> 74 | U15: =IF(K15=8,MINA(L15:S15),0) -> 8 | V15: =T15-U15 -> 66 | W15: .
A16: 1 | B16: =CONCATENATE(F16,"_",G16,"_",E16) -> FAPPIANO_MARIA_ANTONIETTA_F2 | C16: IV_TAPPA_01 | D16: SF | E16: =VLOOKUP(D16,CAT!$E$2:$F$26,2) -> F2 | F16: FAPPIANO | G16: MARIA_ANTONIETTA | I16: BN460 | J16: TELESIA RUNNING TEAM | K16: =IF(COUNT(L16:S16)=0,"",COUNT(L16:S16)) -> 2 | L16: =IF(SUMIF(I_TAPPA!A:A,B16,I_TAPPA!P:P)=0,"",SUMIF(I_TAPPA!A:A,B16,I_TAPPA!P:P)) | M16: =IF(SUMIF(II_TAPPA!A:A,B16,II_TAPPA!P:P)=0,"",SUMIF(II_TAPPA!A:A,B16,II_TAPPA!P:P)) | N16: =IF(SUMIF(III_TAPPA!A:A,B16,III_TAPPA!P:P)=0,"",SUMIF(III_TAPPA!A:A,B16,III_TAPPA!P:P)) | O16: =IF(SUMIF(IV_TAPPA!A:A,B16,IV_TAPPA!T:T)=0,"",SUMIF(IV_TAPPA!A:A,B16,IV_TAPPA!T:T)) | P16: =IF(SUMIF(V_TAPPA!A:A,B16,V_TAPPA!P:P)=0,"",SUMIF(V_TAPPA!A:A,B16,V_TAPPA!P:P)) -> 10 | Q16: =IF(SUMIF(VI_TAPPA!A:A,B16,VI_TAPPA!P:P)=0,"",SUMIF(VI_TAPPA!A:A,B16,VI_TAPPA!P:P)) | R16: =IF(SUMIF(VII_TAPPA!A:A,B16,VII_TAPPA!P:P)=0,"",SUMIF(VII_TAPPA!A:A,B16,VII_TAPPA!P:P)) | S16: =IF(SUMIF(VIII_TAPPA!A:A,B16,VIII_TAPPA!P:P)=0,"",SUMIF(VIII_TAPPA!A:A,B16,VIII_TAPPA!P:P)) -> 10 | T16: =SUM(L16:S16) -> 20 | U16: =IF(K16=8,MINA(L16:S16),0) -> 0 | V16: =T16-U16 -> 20 | W16: .
A17: =A16+1 -> 2 | B17: =CONCATENATE(F17,"_",G17,"_",E17) -> FEIJO_MOURA_IRAI_F2 | C17: PB001611 | D17: SF | E17: =VLOOKUP(D17,CAT!$E$2:$F$26,2) -> F2 | F17: FEIJO_MOURA | G17: IRAI | H17: 31189 | I17: CB032 | J17: PODISTICA AVIS CAMPOBASSO | K17: =IF(COUNT(L17:S17)=0,"",COUNT(L17:S17)) -> 1 | L17: =IF(SUMIF(I_TAPPA!A:A,B17,I_TAPPA!P:P)=0,"",SUMIF(I_TAPPA!A:A,B17,I_TAPPA!P:P)) | M17: =IF(SUMIF(II_TAPPA!A:A,B17,II_TAPPA!P:P)=0,"",SUMIF(II_TAPPA!A:A,B17,II_TAPPA!P:P)) | N17: =IF(SUMIF(III_TAPPA!A:A,B17,III_TAPPA!P:P)=0,"",SUMIF(III_TAPPA!A:A,B17,III_TAPPA!P:P)) -> 10 | O17: =IF(SUMIF(IV_TAPPA!A:A,B17,IV_TAPPA!T:T)=0,"",SUMIF(IV_TAPPA!A:A,B17,IV_TAPPA!T:T)) | P17: =IF(SUMIF(V_TAPPA!A:A,B17,V_TAPPA!P:P)=0,"",SUMIF(V_TAPPA!A:A,B17,V_TAPPA!P:P)) | Q17: =IF(SUMIF(VI_TAPPA!A:A,B17,VI_TAPPA!P:P)=0,"",SUMIF(VI_TAPPA!A:A,B17,VI_TAPPA!P:P)) | R17: =IF(SUMIF(VII_TAPPA!A:A,B17,VII_TAPPA!P:P)=0,"",SUMIF(VII_TAPPA!A:A,B17,VII_TAPPA!P:P)) | S17: =IF(SUMIF(VIII_TAPPA!A:A,B17,VIII_TAPPA!P:P)=0,"",SUMIF(VIII_TAPPA!A:A,B17,VIII_TAPPA!P:P)) | T17: =SUM(L17:S17) -> 10 | U17: =IF(K17=8,MINA(L17:S17),0) -> 0 | V17: =T17-U17 -> 10 | W17: .
A18: =A17+1 -> 3 | B18: =CONCATENATE(F18,"_",G18,"_",E18) -> VITELLI_FEDERICA_F2 | C18: MC001372 | D18: SF | E18: =VLOOKUP(D18,CAT!$E$2:$F$26,2) -> F2 | F18: VITELLI | G18: FEDERICA | H18: 32772 | I18: BN460 | J18: TELESIA RUNNING TEAM | K18: =IF(COUNT(L18:S18)=0,"",COUNT(L18:S18)) -> 1 | L18: =IF(SUMIF(I_TAPPA!A:A,B18,I_TAPPA!P:P)=0,"",SUMIF(I_TAPPA!A:A,B18,I_TAPPA!P:P)) | M18: =IF(SUMIF(II_TAPPA!A:A,B18,II_TAPPA!P:P)=0,"",SUMIF(II_TAPPA!A:A,B18,II_TAPPA!P:P)) | N18: =IF(SUMIF(III_TAPPA!A:A,B18,III_TAPPA!P:P)=0,"",SUMIF(III_TAPPA!A:A,B18,III_TAPPA!P:P)) | O18: =IF(SUMIF(IV_TAPPA!A:A,B18,IV_TAPPA!T:T)=0,"",SUMIF(IV_TAPPA!A:A,B18,IV_TAPPA!T:T)) -> 8 | P18: =IF(SUMIF(V_TAPPA!A:A,B18,V_TAPPA!P:P)=0,"",SUMIF(V_TAPPA!A:A,B18,V_TAPPA!P:P)) | Q18: =IF(SUMIF(VI_TAPPA!A:A,B18,VI_TAPPA!P:P)=0,"",SUMIF(VI_TAPPA!A:A,B18,VI_TAPPA!P:P)) | R18: =IF(SUMIF(VII_TAPPA!A:A,B18,VII_TAPPA!P:P)=0,"",SUMIF(VII_TAPPA!A:A,B18,VII_TAPPA!P:P)) | S18: =IF(SUMIF(VIII_TAPPA!A:A,B18,VIII_TAPPA!P:P)=0,"",SUMIF(VIII_TAPPA!A:A,B18,VIII_TAPPA!P:P)) | T18: =SUM(L18:S18) -> 8 | U18: =IF(K18=8,MINA(L18:S18),0) -> 0 | V18: =T18-U18 -> 8 | W18: .
A19: =A18+1 -> 4 | B19: =CONCATENATE(F19,"_",G19,"_",E19) -> DE_BLASIO_CINZIA_F2 | C19: EPS05686 | D19: SF | E19: =VLOOKUP(D19,CAT!$E$2:$F$26,2) -> F2 | F19: DE_BLASIO | G19: CINZIA | H19: 32260 | I19: EPS851 | J19: PODISTI ALTO SANNIO | K19: =IF(COUNT(L19:S19)=0,"",COUNT(L19:S19)) | L19: =IF(SUMIF(I_TAPPA!A:A,B19,I_TAPPA!P:P)=0,"",SUMIF(I_TAPPA!A:A,B19,I_TAPPA!P:P)) | M19: =IF(SUMIF(II_TAPPA!A:A,B19,II_TAPPA!P:P)=0,"",SUMIF(II_TAPPA!A:A,B19,II_TAPPA!P:P)) | N19: =IF(SUMIF(III_TAPPA!A:A,B19,III_TAPPA!P:P)=0,"",SUMIF(III_TAPPA!A:A,B19,III_TAPPA!P:P)) | O19: =IF(SUMIF(IV_TAPPA!A:A,B19,IV_TAPPA!T:T)=0,"",SUMIF(IV_TAPPA!A:A,B19,IV_TAPPA!T:T)) | P19: =IF(SUMIF(V_TAPPA!A:A,B19,V_TAPPA!P:P)=0,"",SUMIF(V_TAPPA!A:A,B19,V_TAPPA!P:P)) | Q19: =IF(SUMIF(VI_TAPPA!A:A,B19,VI_TAPPA!P:P)=0,"",SUMIF(VI_TAPPA!A:A,B19,VI_TAPPA!P:P)) | R19: =IF(SUMIF(VII_TAPPA!A:A,B19,VII_TAPPA!P:P)=0,"",SUMIF(VII_TAPPA!A:A,B19,VII_TAPPA!P:P)) | S19: =IF(SUMIF(VIII_TAPPA!A:A,B19,VIII_TAPPA!P:P)=0,"",SUMIF(VIII_TAPPA!A:A,B19,VIII_TAPPA!P:P)) | T19: =SUM(L19:S19) -> 0 | U19: =IF(K19=8,MINA(L19:S19),0) -> 0 | V19: =T19-U19 -> 0 | W19: .
A20: =A19+1 -> 5 | B20: =CONCATENATE(F20,"_",G20,"_",E20) -> GALASSO_PAOLA_F2 | C20: EPS16635 | D20: SF | E20: =VLOOKUP(D20,CAT!$E$2:$F$26,2) -> F2 | F20: GALASSO | G20: PAOLA | H20: 33050 | I20: EPS851 | J20: PODISTI ALTO SANNIO | K20: =IF(COUNT(L20:S20)=0,"",COUNT(L20:S20)) | L20: =IF(SUMIF(I_TAPPA!A:A,B20,I_TAPPA!P:P)=0,"",SUMIF(I_TAPPA!A:A,B20,I_TAPPA!P:P)) | M20: =IF(SUMIF(II_TAPPA!A:A,B20,II_TAPPA!P:P)=0,"",SUMIF(II_TAPPA!A:A,B20,II_TAPPA!P:P)) | N20: =IF(SUMIF(III_TAPPA!A:A,B20,III_TAPPA!P:P)=0,"",SUMIF(III_TAPPA!A:A,B20,III_TAPPA!P:P)) | O20: =IF(SUMIF(IV_TAPPA!A:A,B20,IV_TAPPA!T:T)=0,"",SUMIF(IV_TAPPA!A:A,B20,IV_TAPPA!T:T)) | P20: =IF(SUMIF(V_TAPPA!A:A,B20,V_TAPPA!P:P)=0,"",SUMIF(V_TAPPA!A:A,B20,V_TAPPA!P:P)) | Q20: =IF(SUMIF(VI_TAPPA!A:A,B20,VI_TAPPA!P:P)=0,"",SUMIF(VI_TAPPA!A:A,B20,VI_TAPPA!P:P)) | R20: =IF(SUMIF(VII_TAPPA!A:A,B20,VII_TAPPA!P:P)=0,"",SUMIF(VII_TAPPA!A:A,B20,VII_TAPPA!P:P)) | S20: =IF(SUMIF(VIII_TAPPA!A:A,B20,VIII_TAPPA!P:P)=0,"",SUMIF(VIII_TAPPA!A:A,B20,VIII_TAPPA!P:P)) | T20: =SUM(L20:S20) -> 0 | U20: =IF(K20=8,MINA(L20:S20),0) -> 0 | V20: =T20-U20 -> 0
A21: =A20+1 -> 6 | B21: =CONCATENATE(F21,"_",G21,"_",E21) -> PAPA_ALESSIA_F2 | C21: EPSSA_22 | D21: SENIOR | E21: F2 | F21: PAPA | G21: ALESSIA | I21: EPSSA | J21: SANNIO RUNNERS | K21: =IF(COUNT(L21:S21)=0,"",COUNT(L21:S21)) | L21: =IF(SUMIF(I_TAPPA!A:A,B21,I_TAPPA!P:P)=0,"",SUMIF(I_TAPPA!A:A,B21,I_TAPPA!P:P)) | M21: =IF(SUMIF(II_TAPPA!A:A,B21,II_TAPPA!P:P)=0,"",SUMIF(II_TAPPA!A:A,B21,II_TAPPA!P:P)) | N21: =IF(SUMIF(III_TAPPA!A:A,B21,III_TAPPA!P:P)=0,"",SUMIF(III_TAPPA!A:A,B21,III_TAPPA!P:P)) | O21: =IF(SUMIF(IV_TAPPA!A:A,B21,IV_TAPPA!T:T)=0,"",SUMIF(IV_TAPPA!A:A,B21,IV_TAPPA!T:T)) | P21: =IF(SUMIF(V_TAPPA!A:A,B21,V_TAPPA!P:P)=0,"",SUMIF(V_TAPPA!A:A,B21,V_TAPPA!P:P)) | Q21: =IF(SUMIF(VI_TAPPA!A:A,B21,VI_TAPPA!P:P)=0,"",SUMIF(VI_TAPPA!A:A,B21,VI_TAPPA!P:P)) | R21: =IF(SUMIF(VII_TAPPA!A:A,B21,VII_TAPPA!P:P)=0,"",SUMIF(VII_TAPPA!A:A,B21,VII_TAPPA!P:P)) | S21: =IF(SUMIF(VIII_TAPPA!A:A,B21,VIII_TAPPA!P:P)=0,"",SUMIF(VIII_TAPPA!A:A,B21,VIII_TAPPA!P:P)) | T21: =SUM(L21:S21) -> 0 | U21: =IF(K21=8,MINA(L21:S21),0) -> 0 | V21: =T21-U21 -> 0
A22: =A21+1 -> 7 | B22: =CONCATENATE(F22,"_",G22,"_",E22) -> MORELLI_CONCETTINA_F2 | C22: MC000886 | D22: SF | E22: =VLOOKUP(D22,CAT!$E$2:$F$26,2) -> F2 | F22: MORELLI | G22: CONCETTINA | H22: 31277 | I22: BN460 | J22: TELESIA RUNNING TEAM | K22: =IF(COUNT(L22:S22)=0,"",COUNT(L22:S22)) | L22: =IF(SUMIF(I_TAPPA!A:A,B22,I_TAPPA!P:P)=0,"",SUMIF(I_TAPPA!A:A,B22,I_TAPPA!P:P)) | M22: =IF(SUMIF(II_TAPPA!A:A,B22,II_TAPPA!P:P)=0,"",SUMIF(II_TAPPA!A:A,B22,II_TAPPA!P:P)) | N22: =IF(SUMIF(III_TAPPA!A:A,B22,III_TAPPA!P:P)=0,"",SUMIF(III_TAPPA!A:A,B22,III_TAPPA!P:P)) | O22: =IF(SUMIF(IV_TAPPA!A:A,B22,IV_TAPPA!T:T)=0,"",SUMIF(IV_TAPPA!A:A,B22,IV_TAPPA!T:T)) | P22: =IF(SUMIF(V_TAPPA!A:A,B22,V_TAPPA!P:P)=0,"",SUMIF(V_TAPPA!A:A,B22,V_TAPPA!P:P)) | Q22: =IF(SUMIF(VI_TAPPA!A:A,B22,VI_TAPPA!P:P)=0,"",SUMIF(VI_TAPPA!A:A,B22,VI_TAPPA!P:P)) | R22: =IF(SUMIF(VII_TAPPA!A:A,B22,VII_TAPPA!P:P)=0,"",SUMIF(VII_TAPPA!A:A,B22,VII_TAPPA!P:P)) | S22: =IF(SUMIF(VIII_TAPPA!A:A,B22,VIII_TAPPA!P:P)=0,"",SUMIF(VIII_TAPPA!A:A,B22,VIII_TAPPA!P:P)) | T22: =SUM(L22:S22) -> 0 | U22: =IF(K22=8,MINA(L22:S22),0) -> 0 | V22: =T22-U22 -> 0 | W22: .
W23: .
A24: POS_ASS | B24: POS | C24: TESSERA | D24: CAT | F24: COGNOME | G24: NOME | H24: ANNO_NASC | I24: COD_SQ | J24: SQUADRA | K24: N. GARE | L24: 1°TAPPA | M24: 2°TAPPA | N24: 3°TAPPA | O24: 4°TAPPA | P24: 5°TAPPA | Q24: 6°TAPPA | R24: 7°TAPPA | S24: 8°TAPPA | T24: TOTALE | U24: PEGGIOR PUNTEGGIO | V24: TOT. PUNTEGGIO AL MEGLIO DI 7 GARE | W24: .
